{"text_format":"1","workbook":"xlsx","n_sheets":4,"sheets":["Order Form","Item Lookup","Upload Form","lists"],"not_rendered":{"charts":0,"images":3,"macros":1,"external_links":0,"defined_names":8,"comments":0,"pivot_tables":0},"unopened":[],"bounds":{"document_bytes":16777216,"sheet_cells":100000,"rows_first":2000,"rows_last":500,"rows_between":2000,"halvings":0,"cell_chars":16384,"cell_head_chars":4096},"cells_cut":0,"cells_raw":0,"read":"whole","date_system":"1900"}

{"sheet":"Order Form","index":0,"n_rows":288,"n_cols":8,"rows_kept":288,"cut":false,"hidden":false,"merged":[[2,1,2,2],[3,1,3,2],[5,1,5,2],[6,1,6,2],[0,0,0,6],[1,1,1,2],[4,1,4,2]]}
["CNC Sample Form - Q4 2024"]
["Company Name:",null,null,null,null,null,"CNC Associates Inc."]
["Customer PO#:",null,null,null,null,null,"101 Kentile Road"]
["Ship Address:",null,null,null,null,null,"S. Plainfield, NJ 07080"]
["Ship ZIP",null,null,null,null,null,"Tel 718.416.3853"]
["Delivery Contact",null,null,null,null,null," Fax 718.416.4077"]
["Requested Ship Date"]
["Multiplier:",null,null,null,null,"TOTAL:",{"$f":"SUM(G11:G288)","v":0}]
[null,null,null,null,null,"CUBIC FEET:",{"$f":"ROUNDUP(SUM(H11:H288),0)","v":0}]
["Style","Prefix","Size - Description","Qty","Tag","Unit Price","Cost","Column1"]
[null,{"$f":"IF(ISNA(VLOOKUP(A11,tblStyle[],3,0)),\"\",VLOOKUP(A11,tblStyle[],3,0))","v":""},null,null,null,{"$f":"_xlfn.IFNA(_xlfn.XLOOKUP(tblOrder[[#This Row],[Size - Description]],tblItemHidden[ITEM CODE DESC],tblItemHidden[UNIT PRICE],,0,1),\"\")","v":""},{"$f":"IFERROR(tblOrder[[#This Row],[Qty]]*tblOrder[[#This Row],[Unit Price]],\"\")","v":""},{"$f":"IFERROR(INDEX(tblItemHidden[], MATCH(B11&\"-\"&LEFT(C11,FIND(\" - \",C11,1)-1), ItemCodeLookup, 0), 10) * $D11,\"\")","v":""}]
[null,{"$f":"IF(ISNA(VLOOKUP(A12,tblStyle[],3,0)),\"\",VLOOKUP(A12,tblStyle[],3,0))","v":""},null,null,null,{"$f":"_xlfn.IFNA(_xlfn.XLOOKUP(tblOrder[[#This Row],[Size - Description]],tblItemHidden[ITEM CODE DESC],tblItemHidden[UNIT PRICE],,0,1),\"\")","v":""},{"$f":"IFERROR(tblOrder[[#This Row],[Qty]]*tblOrder[[#This Row],[Unit Price]],\"\")","v":""},{"$f":"IFERROR(INDEX(tblItemHidden[], MATCH(B12&\"-\"&LEFT(C12,FIND(\" - \",C12,1)-1), ItemCodeLookup, 0), 10) * $D12,\"\")","v":""}]
[null,{"$f":"IF(ISNA(VLOOKUP(A13,tblStyle[],3,0)),\"\",VLOOKUP(A13,tblStyle[],3,0))","v":""},null,null,null,{"$f":"_xlfn.IFNA(_xlfn.XLOOKUP(tblOrder[[#This Row],[Size - Description]],tblItemHidden[ITEM CODE DESC],tblItemHidden[UNIT PRICE],,0,1),\"\")","v":""},{"$f":"IFERROR(tblOrder[[#This Row],[Qty]]*tblOrder[[#This Row],[Unit Price]],\"\")","v":""},{"$f":"IFERROR(INDEX(tblItemHidden[], MATCH(B13&\"-\"&LEFT(C13,FIND(\" - \",C13,1)-1), ItemCodeLookup, 0), 10) * $D13,\"\")","v":""}]
[null,{"$f":"IF(ISNA(VLOOKUP(A14,tblStyle[],3,0)),\"\",VLOOKUP(A14,tblStyle[],3,0))","v":""},null,null,null,{"$f":"_xlfn.IFNA(_xlfn.XLOOKUP(tblOrder[[#This Row],[Size - Description]],tblItemHidden[ITEM CODE DESC],tblItemHidden[UNIT PRICE],,0,1),\"\")","v":""},{"$f":"IFERROR(tblOrder[[#This Row],[Qty]]*tblOrder[[#This Row],[Unit Price]],\"\")","v":""},{"$f":"IFERROR(INDEX(tblItemHidden[], MATCH(B14&\"-\"&LEFT(C14,FIND(\" - \",C14,1)-1), ItemCodeLookup, 0), 10) * $D14,\"\")","v":""}]
[null,{"$f":"IF(ISNA(VLOOKUP(A15,tblStyle[],3,0)),\"\",VLOOKUP(A15,tblStyle[],3,0))","v":""},null,null,null,{"$f":"_xlfn.IFNA(_xlfn.XLOOKUP(tblOrder[[#This Row],[Size - Description]],tblItemHidden[ITEM CODE DESC],tblItemHidden[UNIT PRICE],,0,1),\"\")","v":""},{"$f":"IFERROR(tblOrder[[#This Row],[Qty]]*tblOrder[[#This Row],[Unit Price]],\"\")","v":""},{"$f":"IFERROR(INDEX(tblItemHidden[], MATCH(B15&\"-\"&LEFT(C15,FIND(\" - \",C15,1)-1), ItemCodeLookup, 0), 10) * $D15,\"\")","v":""}]
[null,{"$f":"IF(ISNA(VLOOKUP(A16,tblStyle[],3,0)),\"\",VLOOKUP(A16,tblStyle[],3,0))","v":""},null,null,null,{"$f":"_xlfn.IFNA(_xlfn.XLOOKUP(tblOrder[[#This Row],[Size - Description]],tblItemHidden[ITEM CODE DESC],tblItemHidden[UNIT PRICE],,0,1),\"\")","v":""},{"$f":"IFERROR(tblOrder[[#This Row],[Qty]]*tblOrder[[#This Row],[Unit Price]],\"\")","v":""},{"$f":"IFERROR(INDEX(tblItemHidden[], MATCH(B16&\"-\"&LEFT(C16,FIND(\" - \",C16,1)-1), ItemCodeLookup, 0), 10) * $D16,\"\")","v":""}]
[null,{"$f":"IF(ISNA(VLOOKUP(A17,tblStyle[],3,0)),\"\",VLOOKUP(A17,tblStyle[],3,0))","v":""},null,null,null,{"$f":"_xlfn.IFNA(_xlfn.XLOOKUP(tblOrder[[#This Row],[Size - Description]],tblItemHidden[ITEM CODE DESC],tblItemHidden[UNIT PRICE],,0,1),\"\")","v":""},{"$f":"IFERROR(tblOrder[[#This Row],[Qty]]*tblOrder[[#This Row],[Unit Price]],\"\")","v":""},{"$f":"IFERROR(INDEX(tblItemHidden[], MATCH(B17&\"-\"&LEFT(C17,FIND(\" - \",C17,1)-1), ItemCodeLookup, 0), 10) * $D17,\"\")","v":""}]
[null,{"$f":"IF(ISNA(VLOOKUP(A18,tblStyle[],3,0)),\"\",VLOOKUP(A18,tblStyle[],3,0))","v":""},null,null,null,{"$f":"_xlfn.IFNA(_xlfn.XLOOKUP(tblOrder[[#This Row],[Size - Description]],tblItemHidden[ITEM CODE DESC],tblItemHidden[UNIT PRICE],,0,1),\"\")","v":""},{"$f":"IFERROR(tblOrder[[#This Row],[Qty]]*tblOrder[[#This Row],[Unit Price]],\"\")","v":""},{"$f":"IFERROR(INDEX(tblItemHidden[], MATCH(B18&\"-\"&LEFT(C18,FIND(\" - \",C18,1)-1), ItemCodeLookup, 0), 10) * $D18,\"\")","v":""}]
[null,{"$f":"IF(ISNA(VLOOKUP(A19,tblStyle[],3,0)),\"\",VLOOKUP(A19,tblStyle[],3,0))","v":""},null,null,null,{"$f":"_xlfn.IFNA(_xlfn.XLOOKUP(tblOrder[[#This Row],[Size - Description]],tblItemHidden[ITEM CODE DESC],tblItemHidden[UNIT PRICE],,0,1),\"\")","v":""},{"$f":"IFERROR(tblOrder[[#This Row],[Qty]]*tblOrder[[#This Row],[Unit Price]],\"\")","v":""},{"$f":"IFERROR(INDEX(tblItemHidden[], MATCH(B19&\"-\"&LEFT(C19,FIND(\" - \",C19,1)-1), ItemCodeLookup, 0), 10) * $D19,\"\")","v":""}]
[null,{"$f":"IF(ISNA(VLOOKUP(A20,tblStyle[],3,0)),\"\",VLOOKUP(A20,tblStyle[],3,0))","v":""},null,null,{"$f":"IF(AND(tblOrder[[#This Row],[Size - Description]]<>\"\",$E19<>\"\",E19<>\"Tag\"),E19,\"\")","v":""},{"$f":"_xlfn.IFNA(_xlfn.XLOOKUP(tblOrder[[#This Row],[Size - Description]],tblItemHidden[ITEM CODE DESC],tblItemHidden[UNIT PRICE],,0,1),\"\")","v":""},{"$f":"IFERROR(tblOrder[[#This Row],[Qty]]*tblOrder[[#This Row],[Unit Price]],\"\")","v":""},{"$f":"IFERROR(INDEX(tblItemHidden[], MATCH(B20&\"-\"&LEFT(C20,FIND(\" - \",C20,1)-1), ItemCodeLookup, 0), 10) * $D20,\"\")","v":""}]
[null,{"$f":"IF(ISNA(VLOOKUP(A21,tblStyle[],3,0)),\"\",VLOOKUP(A21,tblStyle[],3,0))","v":""},null,null,null,{"$f":"_xlfn.IFNA(_xlfn.XLOOKUP(tblOrder[[#This Row],[Size - Description]],tblItemHidden[ITEM CODE DESC],tblItemHidden[UNIT PRICE],,0,1),\"\")","v":""},{"$f":"IFERROR(tblOrder[[#This Row],[Qty]]*tblOrder[[#This Row],[Unit Price]],\"\")","v":""},{"$f":"IFERROR(INDEX(tblItemHidden[], MATCH(B21&\"-\"&LEFT(C21,FIND(\" - \",C21,1)-1), ItemCodeLookup, 0), 10) * $D21,\"\")","v":""}]
[null,{"$f":"IF(ISNA(VLOOKUP(A22,tblStyle[],3,0)),\"\",VLOOKUP(A22,tblStyle[],3,0))","v":""},null,null,null,{"$f":"_xlfn.IFNA(_xlfn.XLOOKUP(tblOrder[[#This Row],[Size - Description]],tblItemHidden[ITEM CODE DESC],tblItemHidden[UNIT PRICE],,0,1),\"\")","v":""},{"$f":"IFERROR(tblOrder[[#This Row],[Qty]]*tblOrder[[#This Row],[Unit Price]],\"\")","v":""},{"$f":"IFERROR(INDEX(tblItemHidden[], MATCH(B22&\"-\"&LEFT(C22,FIND(\" - \",C22,1)-1), ItemCodeLookup, 0), 10) * $D22,\"\")","v":""}]
[null,{"$f":"IF(ISNA(VLOOKUP(A23,tblStyle[],3,0)),\"\",VLOOKUP(A23,tblStyle[],3,0))","v":""},null,null,null,{"$f":"_xlfn.IFNA(_xlfn.XLOOKUP(tblOrder[[#This Row],[Size - Description]],tblItemHidden[ITEM CODE DESC],tblItemHidden[UNIT PRICE],,0,1),\"\")","v":""},{"$f":"IFERROR(tblOrder[[#This Row],[Qty]]*tblOrder[[#This Row],[Unit Price]],\"\")","v":""},{"$f":"IFERROR(INDEX(tblItemHidden[], MATCH(B23&\"-\"&LEFT(C23,FIND(\" - \",C23,1)-1), ItemCodeLookup, 0), 10) * $D23,\"\")","v":""}]
[null,{"$f":"IF(ISNA(VLOOKUP(A24,tblStyle[],3,0)),\"\",VLOOKUP(A24,tblStyle[],3,0))","v":""},null,null,{"$f":"IF(AND(tblOrder[[#This Row],[Size - Description]]<>\"\",$E23<>\"\",E23<>\"Tag\"),E23,\"\")","v":""},{"$f":"_xlfn.IFNA(_xlfn.XLOOKUP(tblOrder[[#This Row],[Size - Description]],tblItemHidden[ITEM CODE DESC],tblItemHidden[UNIT PRICE],,0,1),\"\")","v":""},{"$f":"IFERROR(tblOrder[[#This Row],[Qty]]*tblOrder[[#This Row],[Unit Price]],\"\")","v":""},{"$f":"IFERROR(INDEX(tblItemHidden[], MATCH(B24&\"-\"&LEFT(C24,FIND(\" - \",C24,1)-1), ItemCodeLookup, 0), 10) * $D24,\"\")","v":""}]
[null,{"$f":"IF(ISNA(VLOOKUP(A25,tblStyle[],3,0)),\"\",VLOOKUP(A25,tblStyle[],3,0))","v":""},null,null,null,{"$f":"_xlfn.IFNA(_xlfn.XLOOKUP(tblOrder[[#This Row],[Size - Description]],tblItemHidden[ITEM CODE DESC],tblItemHidden[UNIT PRICE],,0,1),\"\")","v":""},{"$f":"IFERROR(tblOrder[[#This Row],[Qty]]*tblOrder[[#This Row],[Unit Price]],\"\")","v":""},{"$f":"IFERROR(INDEX(tblItemHidden[], MATCH(B25&\"-\"&LEFT(C25,FIND(\" - \",C25,1)-1), ItemCodeLookup, 0), 10) * $D25,\"\")","v":""}]
[null,{"$f":"IF(ISNA(VLOOKUP(A26,tblStyle[],3,0)),\"\",VLOOKUP(A26,tblStyle[],3,0))","v":""},null,null,{"$f":"IF(AND(tblOrder[[#This Row],[Size - Description]]<>\"\",$E25<>\"\",E25<>\"Tag\"),E25,\"\")","v":""},{"$f":"_xlfn.IFNA(_xlfn.XLOOKUP(tblOrder[[#This Row],[Size - Description]],tblItemHidden[ITEM CODE DESC],tblItemHidden[UNIT PRICE],,0,1),\"\")","v":""},{"$f":"IFERROR(tblOrder[[#This Row],[Qty]]*tblOrder[[#This Row],[Unit Price]],\"\")","v":""},{"$f":"IFERROR(INDEX(tblItemHidden[], MATCH(B26&\"-\"&LEFT(C26,FIND(\" - \",C26,1)-1), ItemCodeLookup, 0), 10) * $D26,\"\")","v":""}]
[null,{"$f":"IF(ISNA(VLOOKUP(A27,tblStyle[],3,0)),\"\",VLOOKUP(A27,tblStyle[],3,0))","v":""},null,null,null,{"$f":"_xlfn.IFNA(_xlfn.XLOOKUP(tblOrder[[#This Row],[Size - Description]],tblItemHidden[ITEM CODE DESC],tblItemHidden[UNIT PRICE],,0,1),\"\")","v":""},{"$f":"IFERROR(tblOrder[[#This Row],[Qty]]*tblOrder[[#This Row],[Unit Price]],\"\")","v":""},{"$f":"IFERROR(INDEX(tblItemHidden[], MATCH(B27&\"-\"&LEFT(C27,FIND(\" - \",C27,1)-1), ItemCodeLookup, 0), 10) * $D27,\"\")","v":""}]
[null,{"$f":"IF(ISNA(VLOOKUP(A28,tblStyle[],3,0)),\"\",VLOOKUP(A28,tblStyle[],3,0))","v":""},null,null,{"$f":"IF(AND(tblOrder[[#This Row],[Size - Description]]<>\"\",$E27<>\"\",E27<>\"Tag\"),E27,\"\")","v":""},{"$f":"_xlfn.IFNA(_xlfn.XLOOKUP(tblOrder[[#This Row],[Size - Description]],tblItemHidden[ITEM CODE DESC],tblItemHidden[UNIT PRICE],,0,1),\"\")","v":""},{"$f":"IFERROR(tblOrder[[#This Row],[Qty]]*tblOrder[[#This Row],[Unit Price]],\"\")","v":""},{"$f":"IFERROR(INDEX(tblItemHidden[], MATCH(B28&\"-\"&LEFT(C28,FIND(\" - \",C28,1)-1), ItemCodeLookup, 0), 10) * $D28,\"\")","v":""}]
[null,{"$f":"IF(ISNA(VLOOKUP(A29,tblStyle[],3,0)),\"\",VLOOKUP(A29,tblStyle[],3,0))","v":""},null,null,{"$f":"IF(AND(tblOrder[[#This Row],[Size - Description]]<>\"\",$E28<>\"\",E28<>\"Tag\"),E28,\"\")","v":""},{"$f":"_xlfn.IFNA(_xlfn.XLOOKUP(tblOrder[[#This Row],[Size - Description]],tblItemHidden[ITEM CODE DESC],tblItemHidden[UNIT PRICE],,0,1),\"\")","v":""},{"$f":"IFERROR(tblOrder[[#This Row],[Qty]]*tblOrder[[#This Row],[Unit Price]],\"\")","v":""},{"$f":"IFERROR(INDEX(tblItemHidden[], MATCH(B29&\"-\"&LEFT(C29,FIND(\" - \",C29,1)-1), ItemCodeLookup, 0), 10) * $D29,\"\")","v":""}]
[null,{"$f":"IF(ISNA(VLOOKUP(A30,tblStyle[],3,0)),\"\",VLOOKUP(A30,tblStyle[],3,0))","v":""},null,null,{"$f":"IF(AND(tblOrder[[#This Row],[Size - Description]]<>\"\",$E29<>\"\",E29<>\"Tag\"),E29,\"\")","v":""},{"$f":"_xlfn.IFNA(_xlfn.XLOOKUP(tblOrder[[#This Row],[Size - Description]],tblItemHidden[ITEM CODE DESC],tblItemHidden[UNIT PRICE],,0,1),\"\")","v":""},{"$f":"IFERROR(tblOrder[[#This Row],[Qty]]*tblOrder[[#This Row],[Unit Price]],\"\")","v":""},{"$f":"IFERROR(INDEX(tblItemHidden[], MATCH(B30&\"-\"&LEFT(C30,FIND(\" - \",C30,1)-1), ItemCodeLookup, 0), 10) * $D30,\"\")","v":""}]
[null,{"$f":"IF(ISNA(VLOOKUP(A31,tblStyle[],3,0)),\"\",VLOOKUP(A31,tblStyle[],3,0))","v":""},null,null,{"$f":"IF(AND(tblOrder[[#This Row],[Size - Description]]<>\"\",$E30<>\"\",E30<>\"Tag\"),E30,\"\")","v":""},{"$f":"_xlfn.IFNA(_xlfn.XLOOKUP(tblOrder[[#This Row],[Size - Description]],tblItemHidden[ITEM CODE DESC],tblItemHidden[UNIT PRICE],,0,1),\"\")","v":""},{"$f":"IFERROR(tblOrder[[#This Row],[Qty]]*tblOrder[[#This Row],[Unit Price]],\"\")","v":""},{"$f":"IFERROR(INDEX(tblItemHidden[], MATCH(B31&\"-\"&LEFT(C31,FIND(\" - \",C31,1)-1), ItemCodeLookup, 0), 10) * $D31,\"\")","v":""}]
[null,{"$f":"IF(ISNA(VLOOKUP(A32,tblStyle[],3,0)),\"\",VLOOKUP(A32,tblStyle[],3,0))","v":""},null,null,{"$f":"IF(AND(tblOrder[[#This Row],[Size - Description]]<>\"\",$E31<>\"\",E31<>\"Tag\"),E31,\"\")","v":""},{"$f":"_xlfn.IFNA(_xlfn.XLOOKUP(tblOrder[[#This Row],[Size - Description]],tblItemHidden[ITEM CODE DESC],tblItemHidden[UNIT PRICE],,0,1),\"\")","v":""},{"$f":"IFERROR(tblOrder[[#This Row],[Qty]]*tblOrder[[#This Row],[Unit Price]],\"\")","v":""},{"$f":"IFERROR(INDEX(tblItemHidden[], MATCH(B32&\"-\"&LEFT(C32,FIND(\" - \",C32,1)-1), ItemCodeLookup, 0), 10) * $D32,\"\")","v":""}]
[null,{"$f":"IF(ISNA(VLOOKUP(A33,tblStyle[],3,0)),\"\",VLOOKUP(A33,tblStyle[],3,0))","v":""},null,null,{"$f":"IF(AND(tblOrder[[#This Row],[Size - Description]]<>\"\",$E32<>\"\",E32<>\"Tag\"),E32,\"\")","v":""},{"$f":"_xlfn.IFNA(_xlfn.XLOOKUP(tblOrder[[#This Row],[Size - Description]],tblItemHidden[ITEM CODE DESC],tblItemHidden[UNIT PRICE],,0,1),\"\")","v":""},{"$f":"IFERROR(tblOrder[[#This Row],[Qty]]*tblOrder[[#This Row],[Unit Price]],\"\")","v":""},{"$f":"IFERROR(INDEX(tblItemHidden[], MATCH(B33&\"-\"&LEFT(C33,FIND(\" - \",C33,1)-1), ItemCodeLookup, 0), 10) * $D33,\"\")","v":""}]
[null,{"$f":"IF(ISNA(VLOOKUP(A34,tblStyle[],3,0)),\"\",VLOOKUP(A34,tblStyle[],3,0))","v":""},null,null,{"$f":"IF(AND(tblOrder[[#This Row],[Size - Description]]<>\"\",$E33<>\"\",E33<>\"Tag\"),E33,\"\")","v":""},{"$f":"_xlfn.IFNA(_xlfn.XLOOKUP(tblOrder[[#This Row],[Size - Description]],tblItemHidden[ITEM CODE DESC],tblItemHidden[UNIT PRICE],,0,1),\"\")","v":""},{"$f":"IFERROR(tblOrder[[#This Row],[Qty]]*tblOrder[[#This Row],[Unit Price]],\"\")","v":""},{"$f":"IFERROR(INDEX(tblItemHidden[], MATCH(B34&\"-\"&LEFT(C34,FIND(\" - \",C34,1)-1), ItemCodeLookup, 0), 10) * $D34,\"\")","v":""}]
[null,{"$f":"IF(ISNA(VLOOKUP(A35,tblStyle[],3,0)),\"\",VLOOKUP(A35,tblStyle[],3,0))","v":""},null,null,{"$f":"IF(AND(tblOrder[[#This Row],[Size - Description]]<>\"\",$E34<>\"\",E34<>\"Tag\"),E34,\"\")","v":""},{"$f":"_xlfn.IFNA(_xlfn.XLOOKUP(tblOrder[[#This Row],[Size - Description]],tblItemHidden[ITEM CODE DESC],tblItemHidden[UNIT PRICE],,0,1),\"\")","v":""},{"$f":"IFERROR(tblOrder[[#This Row],[Qty]]*tblOrder[[#This Row],[Unit Price]],\"\")","v":""},{"$f":"IFERROR(INDEX(tblItemHidden[], MATCH(B35&\"-\"&LEFT(C35,FIND(\" - \",C35,1)-1), ItemCodeLookup, 0), 10) * $D35,\"\")","v":""}]
[null,{"$f":"IF(ISNA(VLOOKUP(A36,tblStyle[],3,0)),\"\",VLOOKUP(A36,tblStyle[],3,0))","v":""},null,null,{"$f":"IF(AND(tblOrder[[#This Row],[Size - Description]]<>\"\",$E35<>\"\",E35<>\"Tag\"),E35,\"\")","v":""},{"$f":"_xlfn.IFNA(_xlfn.XLOOKUP(tblOrder[[#This Row],[Size - Description]],tblItemHidden[ITEM CODE DESC],tblItemHidden[UNIT PRICE],,0,1),\"\")","v":""},{"$f":"IFERROR(tblOrder[[#This Row],[Qty]]*tblOrder[[#This Row],[Unit Price]],\"\")","v":""},{"$f":"IFERROR(INDEX(tblItemHidden[], MATCH(B36&\"-\"&LEFT(C36,FIND(\" - \",C36,1)-1), ItemCodeLookup, 0), 10) * $D36,\"\")","v":""}]
[null,{"$f":"IF(ISNA(VLOOKUP(A37,tblStyle[],3,0)),\"\",VLOOKUP(A37,tblStyle[],3,0))","v":""},null,null,{"$f":"IF(AND(tblOrder[[#This Row],[Size - Description]]<>\"\",$E36<>\"\",E36<>\"Tag\"),E36,\"\")","v":""},{"$f":"_xlfn.IFNA(_xlfn.XLOOKUP(tblOrder[[#This Row],[Size - Description]],tblItemHidden[ITEM CODE DESC],tblItemHidden[UNIT PRICE],,0,1),\"\")","v":""},{"$f":"IFERROR(tblOrder[[#This Row],[Qty]]*tblOrder[[#This Row],[Unit Price]],\"\")","v":""},{"$f":"IFERROR(INDEX(tblItemHidden[], MATCH(B37&\"-\"&LEFT(C37,FIND(\" - \",C37,1)-1), ItemCodeLookup, 0), 10) * $D37,\"\")","v":""}]
[null,{"$f":"IF(ISNA(VLOOKUP(A38,tblStyle[],3,0)),\"\",VLOOKUP(A38,tblStyle[],3,0))","v":""},null,null,{"$f":"IF(AND(tblOrder[[#This Row],[Size - Description]]<>\"\",$E37<>\"\",E37<>\"Tag\"),E37,\"\")","v":""},{"$f":"_xlfn.IFNA(_xlfn.XLOOKUP(tblOrder[[#This Row],[Size - Description]],tblItemHidden[ITEM CODE DESC],tblItemHidden[UNIT PRICE],,0,1),\"\")","v":""},{"$f":"IFERROR(tblOrder[[#This Row],[Qty]]*tblOrder[[#This Row],[Unit Price]],\"\")","v":""},{"$f":"IFERROR(INDEX(tblItemHidden[], MATCH(B38&\"-\"&LEFT(C38,FIND(\" - \",C38,1)-1), ItemCodeLookup, 0), 10) * $D38,\"\")","v":""}]
[null,{"$f":"IF(ISNA(VLOOKUP(A39,tblStyle[],3,0)),\"\",VLOOKUP(A39,tblStyle[],3,0))","v":""},null,null,{"$f":"IF(AND(tblOrder[[#This Row],[Size - Description]]<>\"\",$E38<>\"\",E38<>\"Tag\"),E38,\"\")","v":""},{"$f":"_xlfn.IFNA(_xlfn.XLOOKUP(tblOrder[[#This Row],[Size - Description]],tblItemHidden[ITEM CODE DESC],tblItemHidden[UNIT PRICE],,0,1),\"\")","v":""},{"$f":"IFERROR(tblOrder[[#This Row],[Qty]]*tblOrder[[#This Row],[Unit Price]],\"\")","v":""},{"$f":"IFERROR(INDEX(tblItemHidden[], MATCH(B39&\"-\"&LEFT(C39,FIND(\" - \",C39,1)-1), ItemCodeLookup, 0), 10) * $D39,\"\")","v":""}]
[null,{"$f":"IF(ISNA(VLOOKUP(A40,tblStyle[],3,0)),\"\",VLOOKUP(A40,tblStyle[],3,0))","v":""},null,null,{"$f":"IF(AND(tblOrder[[#This Row],[Size - Description]]<>\"\",$E39<>\"\",E39<>\"Tag\"),E39,\"\")","v":""},{"$f":"_xlfn.IFNA(_xlfn.XLOOKUP(tblOrder[[#This Row],[Size - Description]],tblItemHidden[ITEM CODE DESC],tblItemHidden[UNIT PRICE],,0,1),\"\")","v":""},{"$f":"IFERROR(tblOrder[[#This Row],[Qty]]*tblOrder[[#This Row],[Unit Price]],\"\")","v":""},{"$f":"IFERROR(INDEX(tblItemHidden[], MATCH(B40&\"-\"&LEFT(C40,FIND(\" - \",C40,1)-1), ItemCodeLookup, 0), 10) * $D40,\"\")","v":""}]
[null,{"$f":"IF(ISNA(VLOOKUP(A41,tblStyle[],3,0)),\"\",VLOOKUP(A41,tblStyle[],3,0))","v":""},null,null,{"$f":"IF(AND(tblOrder[[#This Row],[Size - Description]]<>\"\",$E40<>\"\",E40<>\"Tag\"),E40,\"\")","v":""},{"$f":"_xlfn.IFNA(_xlfn.XLOOKUP(tblOrder[[#This Row],[Size - Description]],tblItemHidden[ITEM CODE DESC],tblItemHidden[UNIT PRICE],,0,1),\"\")","v":""},{"$f":"IFERROR(tblOrder[[#This Row],[Qty]]*tblOrder[[#This Row],[Unit Price]],\"\")","v":""},{"$f":"IFERROR(INDEX(tblItemHidden[], MATCH(B41&\"-\"&LEFT(C41,FIND(\" - \",C41,1)-1), ItemCodeLookup, 0), 10) * $D41,\"\")","v":""}]
[null,{"$f":"IF(ISNA(VLOOKUP(A42,tblStyle[],3,0)),\"\",VLOOKUP(A42,tblStyle[],3,0))","v":""},null,null,{"$f":"IF(AND(tblOrder[[#This Row],[Size - Description]]<>\"\",$E41<>\"\",E41<>\"Tag\"),E41,\"\")","v":""},{"$f":"_xlfn.IFNA(_xlfn.XLOOKUP(tblOrder[[#This Row],[Size - Description]],tblItemHidden[ITEM CODE DESC],tblItemHidden[UNIT PRICE],,0,1),\"\")","v":""},{"$f":"IFERROR(tblOrder[[#This Row],[Qty]]*tblOrder[[#This Row],[Unit Price]],\"\")","v":""},{"$f":"IFERROR(INDEX(tblItemHidden[], MATCH(B42&\"-\"&LEFT(C42,FIND(\" - \",C42,1)-1), ItemCodeLookup, 0), 10) * $D42,\"\")","v":""}]
[null,{"$f":"IF(ISNA(VLOOKUP(A43,tblStyle[],3,0)),\"\",VLOOKUP(A43,tblStyle[],3,0))","v":""},null,null,{"$f":"IF(AND(tblOrder[[#This Row],[Size - Description]]<>\"\",$E42<>\"\",E42<>\"Tag\"),E42,\"\")","v":""},{"$f":"_xlfn.IFNA(_xlfn.XLOOKUP(tblOrder[[#This Row],[Size - Description]],tblItemHidden[ITEM CODE DESC],tblItemHidden[UNIT PRICE],,0,1),\"\")","v":""},{"$f":"IFERROR(tblOrder[[#This Row],[Qty]]*tblOrder[[#This Row],[Unit Price]],\"\")","v":""},{"$f":"IFERROR(INDEX(tblItemHidden[], MATCH(B43&\"-\"&LEFT(C43,FIND(\" - \",C43,1)-1), ItemCodeLookup, 0), 10) * $D43,\"\")","v":""}]
[null,{"$f":"IF(ISNA(VLOOKUP(A44,tblStyle[],3,0)),\"\",VLOOKUP(A44,tblStyle[],3,0))","v":""},null,null,{"$f":"IF(AND(tblOrder[[#This Row],[Size - Description]]<>\"\",$E43<>\"\",E43<>\"Tag\"),E43,\"\")","v":""},{"$f":"_xlfn.IFNA(_xlfn.XLOOKUP(tblOrder[[#This Row],[Size - Description]],tblItemHidden[ITEM CODE DESC],tblItemHidden[UNIT PRICE],,0,1),\"\")","v":""},{"$f":"IFERROR(tblOrder[[#This Row],[Qty]]*tblOrder[[#This Row],[Unit Price]],\"\")","v":""},{"$f":"IFERROR(INDEX(tblItemHidden[], MATCH(B44&\"-\"&LEFT(C44,FIND(\" - \",C44,1)-1), ItemCodeLookup, 0), 10) * $D44,\"\")","v":""}]
[null,{"$f":"IF(ISNA(VLOOKUP(A45,tblStyle[],3,0)),\"\",VLOOKUP(A45,tblStyle[],3,0))","v":""},null,null,{"$f":"IF(AND(tblOrder[[#This Row],[Size - Description]]<>\"\",$E44<>\"\",E44<>\"Tag\"),E44,\"\")","v":""},{"$f":"_xlfn.IFNA(_xlfn.XLOOKUP(tblOrder[[#This Row],[Size - Description]],tblItemHidden[ITEM CODE DESC],tblItemHidden[UNIT PRICE],,0,1),\"\")","v":""},{"$f":"IFERROR(tblOrder[[#This Row],[Qty]]*tblOrder[[#This Row],[Unit Price]],\"\")","v":""},{"$f":"IFERROR(INDEX(tblItemHidden[], MATCH(B45&\"-\"&LEFT(C45,FIND(\" - \",C45,1)-1), ItemCodeLookup, 0), 10) * $D45,\"\")","v":""}]
[null,{"$f":"IF(ISNA(VLOOKUP(A46,tblStyle[],3,0)),\"\",VLOOKUP(A46,tblStyle[],3,0))","v":""},null,null,{"$f":"IF(AND(tblOrder[[#This Row],[Size - Description]]<>\"\",$E45<>\"\",E45<>\"Tag\"),E45,\"\")","v":""},{"$f":"_xlfn.IFNA(_xlfn.XLOOKUP(tblOrder[[#This Row],[Size - Description]],tblItemHidden[ITEM CODE DESC],tblItemHidden[UNIT PRICE],,0,1),\"\")","v":""},{"$f":"IFERROR(tblOrder[[#This Row],[Qty]]*tblOrder[[#This Row],[Unit Price]],\"\")","v":""},{"$f":"IFERROR(INDEX(tblItemHidden[], MATCH(B46&\"-\"&LEFT(C46,FIND(\" - \",C46,1)-1), ItemCodeLookup, 0), 10) * $D46,\"\")","v":""}]
[null,{"$f":"IF(ISNA(VLOOKUP(A47,tblStyle[],3,0)),\"\",VLOOKUP(A47,tblStyle[],3,0))","v":""},null,null,{"$f":"IF(AND(tblOrder[[#This Row],[Size - Description]]<>\"\",$E46<>\"\",E46<>\"Tag\"),E46,\"\")","v":""},{"$f":"_xlfn.IFNA(_xlfn.XLOOKUP(tblOrder[[#This Row],[Size - Description]],tblItemHidden[ITEM CODE DESC],tblItemHidden[UNIT PRICE],,0,1),\"\")","v":""},{"$f":"IFERROR(tblOrder[[#This Row],[Qty]]*tblOrder[[#This Row],[Unit Price]],\"\")","v":""},{"$f":"IFERROR(INDEX(tblItemHidden[], MATCH(B47&\"-\"&LEFT(C47,FIND(\" - \",C47,1)-1), ItemCodeLookup, 0), 10) * $D47,\"\")","v":""}]
[null,{"$f":"IF(ISNA(VLOOKUP(A48,tblStyle[],3,0)),\"\",VLOOKUP(A48,tblStyle[],3,0))","v":""},null,null,{"$f":"IF(AND(tblOrder[[#This Row],[Size - Description]]<>\"\",$E47<>\"\",E47<>\"Tag\"),E47,\"\")","v":""},{"$f":"_xlfn.IFNA(_xlfn.XLOOKUP(tblOrder[[#This Row],[Size - Description]],tblItemHidden[ITEM CODE DESC],tblItemHidden[UNIT PRICE],,0,1),\"\")","v":""},{"$f":"IFERROR(tblOrder[[#This Row],[Qty]]*tblOrder[[#This Row],[Unit Price]],\"\")","v":""},{"$f":"IFERROR(INDEX(tblItemHidden[], MATCH(B48&\"-\"&LEFT(C48,FIND(\" - \",C48,1)-1), ItemCodeLookup, 0), 10) * $D48,\"\")","v":""}]
[null,{"$f":"IF(ISNA(VLOOKUP(A49,tblStyle[],3,0)),\"\",VLOOKUP(A49,tblStyle[],3,0))","v":""},null,null,{"$f":"IF(AND(tblOrder[[#This Row],[Size - Description]]<>\"\",$E48<>\"\",E48<>\"Tag\"),E48,\"\")","v":""},{"$f":"_xlfn.IFNA(_xlfn.XLOOKUP(tblOrder[[#This Row],[Size - Description]],tblItemHidden[ITEM CODE DESC],tblItemHidden[UNIT PRICE],,0,1),\"\")","v":""},{"$f":"IFERROR(tblOrder[[#This Row],[Qty]]*tblOrder[[#This Row],[Unit Price]],\"\")","v":""},{"$f":"IFERROR(INDEX(tblItemHidden[], MATCH(B49&\"-\"&LEFT(C49,FIND(\" - \",C49,1)-1), ItemCodeLookup, 0), 10) * $D49,\"\")","v":""}]
[null,{"$f":"IF(ISNA(VLOOKUP(A50,tblStyle[],3,0)),\"\",VLOOKUP(A50,tblStyle[],3,0))","v":""},null,null,{"$f":"IF(AND(tblOrder[[#This Row],[Size - Description]]<>\"\",$E49<>\"\",E49<>\"Tag\"),E49,\"\")","v":""},{"$f":"_xlfn.IFNA(_xlfn.XLOOKUP(tblOrder[[#This Row],[Size - Description]],tblItemHidden[ITEM CODE DESC],tblItemHidden[UNIT PRICE],,0,1),\"\")","v":""},{"$f":"IFERROR(tblOrder[[#This Row],[Qty]]*tblOrder[[#This Row],[Unit Price]],\"\")","v":""},{"$f":"IFERROR(INDEX(tblItemHidden[], MATCH(B50&\"-\"&LEFT(C50,FIND(\" - \",C50,1)-1), ItemCodeLookup, 0), 10) * $D50,\"\")","v":""}]
[null,{"$f":"IF(ISNA(VLOOKUP(A51,tblStyle[],3,0)),\"\",VLOOKUP(A51,tblStyle[],3,0))","v":""},null,null,{"$f":"IF(AND(tblOrder[[#This Row],[Size - Description]]<>\"\",$E50<>\"\",E50<>\"Tag\"),E50,\"\")","v":""},{"$f":"_xlfn.IFNA(_xlfn.XLOOKUP(tblOrder[[#This Row],[Size - Description]],tblItemHidden[ITEM CODE DESC],tblItemHidden[UNIT PRICE],,0,1),\"\")","v":""},{"$f":"IFERROR(tblOrder[[#This Row],[Qty]]*tblOrder[[#This Row],[Unit Price]],\"\")","v":""},{"$f":"IFERROR(INDEX(tblItemHidden[], MATCH(B51&\"-\"&LEFT(C51,FIND(\" - \",C51,1)-1), ItemCodeLookup, 0), 10) * $D51,\"\")","v":""}]
[null,{"$f":"IF(ISNA(VLOOKUP(A52,tblStyle[],3,0)),\"\",VLOOKUP(A52,tblStyle[],3,0))","v":""},null,null,{"$f":"IF(AND(tblOrder[[#This Row],[Size - Description]]<>\"\",$E51<>\"\",E51<>\"Tag\"),E51,\"\")","v":""},{"$f":"_xlfn.IFNA(_xlfn.XLOOKUP(tblOrder[[#This Row],[Size - Description]],tblItemHidden[ITEM CODE DESC],tblItemHidden[UNIT PRICE],,0,1),\"\")","v":""},{"$f":"IFERROR(tblOrder[[#This Row],[Qty]]*tblOrder[[#This Row],[Unit Price]],\"\")","v":""},{"$f":"IFERROR(INDEX(tblItemHidden[], MATCH(B52&\"-\"&LEFT(C52,FIND(\" - \",C52,1)-1), ItemCodeLookup, 0), 10) * $D52,\"\")","v":""}]
[null,{"$f":"IF(ISNA(VLOOKUP(A53,tblStyle[],3,0)),\"\",VLOOKUP(A53,tblStyle[],3,0))","v":""},null,null,{"$f":"IF(AND(tblOrder[[#This Row],[Size - Description]]<>\"\",$E52<>\"\",E52<>\"Tag\"),E52,\"\")","v":""},{"$f":"_xlfn.IFNA(_xlfn.XLOOKUP(tblOrder[[#This Row],[Size - Description]],tblItemHidden[ITEM CODE DESC],tblItemHidden[UNIT PRICE],,0,1),\"\")","v":""},{"$f":"IFERROR(tblOrder[[#This Row],[Qty]]*tblOrder[[#This Row],[Unit Price]],\"\")","v":""},{"$f":"IFERROR(INDEX(tblItemHidden[], MATCH(B53&\"-\"&LEFT(C53,FIND(\" - \",C53,1)-1), ItemCodeLookup, 0), 10) * $D53,\"\")","v":""}]
[null,{"$f":"IF(ISNA(VLOOKUP(A54,tblStyle[],3,0)),\"\",VLOOKUP(A54,tblStyle[],3,0))","v":""},null,null,{"$f":"IF(AND(tblOrder[[#This Row],[Size - Description]]<>\"\",$E53<>\"\",E53<>\"Tag\"),E53,\"\")","v":""},{"$f":"_xlfn.IFNA(_xlfn.XLOOKUP(tblOrder[[#This Row],[Size - Description]],tblItemHidden[ITEM CODE DESC],tblItemHidden[UNIT PRICE],,0,1),\"\")","v":""},{"$f":"IFERROR(tblOrder[[#This Row],[Qty]]*tblOrder[[#This Row],[Unit Price]],\"\")","v":""},{"$f":"IFERROR(INDEX(tblItemHidden[], MATCH(B54&\"-\"&LEFT(C54,FIND(\" - \",C54,1)-1), ItemCodeLookup, 0), 10) * $D54,\"\")","v":""}]
[null,{"$f":"IF(ISNA(VLOOKUP(A55,tblStyle[],3,0)),\"\",VLOOKUP(A55,tblStyle[],3,0))","v":""},null,null,{"$f":"IF(AND(tblOrder[[#This Row],[Size - Description]]<>\"\",$E54<>\"\",E54<>\"Tag\"),E54,\"\")","v":""},{"$f":"_xlfn.IFNA(_xlfn.XLOOKUP(tblOrder[[#This Row],[Size - Description]],tblItemHidden[ITEM CODE DESC],tblItemHidden[UNIT PRICE],,0,1),\"\")","v":""},{"$f":"IFERROR(tblOrder[[#This Row],[Qty]]*tblOrder[[#This Row],[Unit Price]],\"\")","v":""},{"$f":"IFERROR(INDEX(tblItemHidden[], MATCH(B55&\"-\"&LEFT(C55,FIND(\" - \",C55,1)-1), ItemCodeLookup, 0), 10) * $D55,\"\")","v":""}]
[null,{"$f":"IF(ISNA(VLOOKUP(A56,tblStyle[],3,0)),\"\",VLOOKUP(A56,tblStyle[],3,0))","v":""},null,null,{"$f":"IF(AND(tblOrder[[#This Row],[Size - Description]]<>\"\",$E55<>\"\",E55<>\"Tag\"),E55,\"\")","v":""},{"$f":"_xlfn.IFNA(_xlfn.XLOOKUP(tblOrder[[#This Row],[Size - Description]],tblItemHidden[ITEM CODE DESC],tblItemHidden[UNIT PRICE],,0,1),\"\")","v":""},{"$f":"IFERROR(tblOrder[[#This Row],[Qty]]*tblOrder[[#This Row],[Unit Price]],\"\")","v":""},{"$f":"IFERROR(INDEX(tblItemHidden[], MATCH(B56&\"-\"&LEFT(C56,FIND(\" - \",C56,1)-1), ItemCodeLookup, 0), 10) * $D56,\"\")","v":""}]
[null,{"$f":"IF(ISNA(VLOOKUP(A57,tblStyle[],3,0)),\"\",VLOOKUP(A57,tblStyle[],3,0))","v":""},null,null,{"$f":"IF(AND(tblOrder[[#This Row],[Size - Description]]<>\"\",$E56<>\"\",E56<>\"Tag\"),E56,\"\")","v":""},{"$f":"_xlfn.IFNA(_xlfn.XLOOKUP(tblOrder[[#This Row],[Size - Description]],tblItemHidden[ITEM CODE DESC],tblItemHidden[UNIT PRICE],,0,1),\"\")","v":""},{"$f":"IFERROR(tblOrder[[#This Row],[Qty]]*tblOrder[[#This Row],[Unit Price]],\"\")","v":""},{"$f":"IFERROR(INDEX(tblItemHidden[], MATCH(B57&\"-\"&LEFT(C57,FIND(\" - \",C57,1)-1), ItemCodeLookup, 0), 10) * $D57,\"\")","v":""}]
[null,{"$f":"IF(ISNA(VLOOKUP(A58,tblStyle[],3,0)),\"\",VLOOKUP(A58,tblStyle[],3,0))","v":""},null,null,{"$f":"IF(AND(tblOrder[[#This Row],[Size - Description]]<>\"\",$E57<>\"\",E57<>\"Tag\"),E57,\"\")","v":""},{"$f":"_xlfn.IFNA(_xlfn.XLOOKUP(tblOrder[[#This Row],[Size - Description]],tblItemHidden[ITEM CODE DESC],tblItemHidden[UNIT PRICE],,0,1),\"\")","v":""},{"$f":"IFERROR(tblOrder[[#This Row],[Qty]]*tblOrder[[#This Row],[Unit Price]],\"\")","v":""},{"$f":"IFERROR(INDEX(tblItemHidden[], MATCH(B58&\"-\"&LEFT(C58,FIND(\" - \",C58,1)-1), ItemCodeLookup, 0), 10) * $D58,\"\")","v":""}]
[null,{"$f":"IF(ISNA(VLOOKUP(A59,tblStyle[],3,0)),\"\",VLOOKUP(A59,tblStyle[],3,0))","v":""},null,null,{"$f":"IF(AND(tblOrder[[#This Row],[Size - Description]]<>\"\",$E58<>\"\",E58<>\"Tag\"),E58,\"\")","v":""},{"$f":"_xlfn.IFNA(_xlfn.XLOOKUP(tblOrder[[#This Row],[Size - Description]],tblItemHidden[ITEM CODE DESC],tblItemHidden[UNIT PRICE],,0,1),\"\")","v":""},{"$f":"IFERROR(tblOrder[[#This Row],[Qty]]*tblOrder[[#This Row],[Unit Price]],\"\")","v":""},{"$f":"IFERROR(INDEX(tblItemHidden[], MATCH(B59&\"-\"&LEFT(C59,FIND(\" - \",C59,1)-1), ItemCodeLookup, 0), 10) * $D59,\"\")","v":""}]
[null,{"$f":"IF(ISNA(VLOOKUP(A60,tblStyle[],3,0)),\"\",VLOOKUP(A60,tblStyle[],3,0))","v":""},null,null,{"$f":"IF(AND(tblOrder[[#This Row],[Size - Description]]<>\"\",$E59<>\"\",E59<>\"Tag\"),E59,\"\")","v":""},{"$f":"_xlfn.IFNA(_xlfn.XLOOKUP(tblOrder[[#This Row],[Size - Description]],tblItemHidden[ITEM CODE DESC],tblItemHidden[UNIT PRICE],,0,1),\"\")","v":""},{"$f":"IFERROR(tblOrder[[#This Row],[Qty]]*tblOrder[[#This Row],[Unit Price]],\"\")","v":""},{"$f":"IFERROR(INDEX(tblItemHidden[], MATCH(B60&\"-\"&LEFT(C60,FIND(\" - \",C60,1)-1), ItemCodeLookup, 0), 10) * $D60,\"\")","v":""}]
[null,{"$f":"IF(ISNA(VLOOKUP(A61,tblStyle[],3,0)),\"\",VLOOKUP(A61,tblStyle[],3,0))","v":""},null,null,{"$f":"IF(AND(tblOrder[[#This Row],[Size - Description]]<>\"\",$E60<>\"\",E60<>\"Tag\"),E60,\"\")","v":""},{"$f":"_xlfn.IFNA(_xlfn.XLOOKUP(tblOrder[[#This Row],[Size - Description]],tblItemHidden[ITEM CODE DESC],tblItemHidden[UNIT PRICE],,0,1),\"\")","v":""},{"$f":"IFERROR(tblOrder[[#This Row],[Qty]]*tblOrder[[#This Row],[Unit Price]],\"\")","v":""},{"$f":"IFERROR(INDEX(tblItemHidden[], MATCH(B61&\"-\"&LEFT(C61,FIND(\" - \",C61,1)-1), ItemCodeLookup, 0), 10) * $D61,\"\")","v":""}]
[null,{"$f":"IF(ISNA(VLOOKUP(A62,tblStyle[],3,0)),\"\",VLOOKUP(A62,tblStyle[],3,0))","v":""},null,null,{"$f":"IF(AND(tblOrder[[#This Row],[Size - Description]]<>\"\",$E61<>\"\",E61<>\"Tag\"),E61,\"\")","v":""},{"$f":"_xlfn.IFNA(_xlfn.XLOOKUP(tblOrder[[#This Row],[Size - Description]],tblItemHidden[ITEM CODE DESC],tblItemHidden[UNIT PRICE],,0,1),\"\")","v":""},{"$f":"IFERROR(tblOrder[[#This Row],[Qty]]*tblOrder[[#This Row],[Unit Price]],\"\")","v":""},{"$f":"IFERROR(INDEX(tblItemHidden[], MATCH(B62&\"-\"&LEFT(C62,FIND(\" - \",C62,1)-1), ItemCodeLookup, 0), 10) * $D62,\"\")","v":""}]
[null,{"$f":"IF(ISNA(VLOOKUP(A63,tblStyle[],3,0)),\"\",VLOOKUP(A63,tblStyle[],3,0))","v":""},null,null,{"$f":"IF(AND(tblOrder[[#This Row],[Size - Description]]<>\"\",$E62<>\"\",E62<>\"Tag\"),E62,\"\")","v":""},{"$f":"_xlfn.IFNA(_xlfn.XLOOKUP(tblOrder[[#This Row],[Size - Description]],tblItemHidden[ITEM CODE DESC],tblItemHidden[UNIT PRICE],,0,1),\"\")","v":""},{"$f":"IFERROR(tblOrder[[#This Row],[Qty]]*tblOrder[[#This Row],[Unit Price]],\"\")","v":""},{"$f":"IFERROR(INDEX(tblItemHidden[], MATCH(B63&\"-\"&LEFT(C63,FIND(\" - \",C63,1)-1), ItemCodeLookup, 0), 10) * $D63,\"\")","v":""}]
[null,{"$f":"IF(ISNA(VLOOKUP(A64,tblStyle[],3,0)),\"\",VLOOKUP(A64,tblStyle[],3,0))","v":""},null,null,{"$f":"IF(AND(tblOrder[[#This Row],[Size - Description]]<>\"\",$E63<>\"\",E63<>\"Tag\"),E63,\"\")","v":""},{"$f":"_xlfn.IFNA(_xlfn.XLOOKUP(tblOrder[[#This Row],[Size - Description]],tblItemHidden[ITEM CODE DESC],tblItemHidden[UNIT PRICE],,0,1),\"\")","v":""},{"$f":"IFERROR(tblOrder[[#This Row],[Qty]]*tblOrder[[#This Row],[Unit Price]],\"\")","v":""},{"$f":"IFERROR(INDEX(tblItemHidden[], MATCH(B64&\"-\"&LEFT(C64,FIND(\" - \",C64,1)-1), ItemCodeLookup, 0), 10) * $D64,\"\")","v":""}]
[null,{"$f":"IF(ISNA(VLOOKUP(A65,tblStyle[],3,0)),\"\",VLOOKUP(A65,tblStyle[],3,0))","v":""},null,null,{"$f":"IF(AND(tblOrder[[#This Row],[Size - Description]]<>\"\",$E64<>\"\",E64<>\"Tag\"),E64,\"\")","v":""},{"$f":"_xlfn.IFNA(_xlfn.XLOOKUP(tblOrder[[#This Row],[Size - Description]],tblItemHidden[ITEM CODE DESC],tblItemHidden[UNIT PRICE],,0,1),\"\")","v":""},{"$f":"IFERROR(tblOrder[[#This Row],[Qty]]*tblOrder[[#This Row],[Unit Price]],\"\")","v":""},{"$f":"IFERROR(INDEX(tblItemHidden[], MATCH(B65&\"-\"&LEFT(C65,FIND(\" - \",C65,1)-1), ItemCodeLookup, 0), 10) * $D65,\"\")","v":""}]
[null,{"$f":"IF(ISNA(VLOOKUP(A66,tblStyle[],3,0)),\"\",VLOOKUP(A66,tblStyle[],3,0))","v":""},null,null,{"$f":"IF(AND(tblOrder[[#This Row],[Size - Description]]<>\"\",$E65<>\"\",E65<>\"Tag\"),E65,\"\")","v":""},{"$f":"_xlfn.IFNA(_xlfn.XLOOKUP(tblOrder[[#This Row],[Size - Description]],tblItemHidden[ITEM CODE DESC],tblItemHidden[UNIT PRICE],,0,1),\"\")","v":""},{"$f":"IFERROR(tblOrder[[#This Row],[Qty]]*tblOrder[[#This Row],[Unit Price]],\"\")","v":""},{"$f":"IFERROR(INDEX(tblItemHidden[], MATCH(B66&\"-\"&LEFT(C66,FIND(\" - \",C66,1)-1), ItemCodeLookup, 0), 10) * $D66,\"\")","v":""}]
[null,{"$f":"IF(ISNA(VLOOKUP(A67,tblStyle[],3,0)),\"\",VLOOKUP(A67,tblStyle[],3,0))","v":""},null,null,{"$f":"IF(AND(tblOrder[[#This Row],[Size - Description]]<>\"\",$E66<>\"\",E66<>\"Tag\"),E66,\"\")","v":""},{"$f":"_xlfn.IFNA(_xlfn.XLOOKUP(tblOrder[[#This Row],[Size - Description]],tblItemHidden[ITEM CODE DESC],tblItemHidden[UNIT PRICE],,0,1),\"\")","v":""},{"$f":"IFERROR(tblOrder[[#This Row],[Qty]]*tblOrder[[#This Row],[Unit Price]],\"\")","v":""},{"$f":"IFERROR(INDEX(tblItemHidden[], MATCH(B67&\"-\"&LEFT(C67,FIND(\" - \",C67,1)-1), ItemCodeLookup, 0), 10) * $D67,\"\")","v":""}]
[null,{"$f":"IF(ISNA(VLOOKUP(A68,tblStyle[],3,0)),\"\",VLOOKUP(A68,tblStyle[],3,0))","v":""},null,null,{"$f":"IF(AND(tblOrder[[#This Row],[Size - Description]]<>\"\",$E67<>\"\",E67<>\"Tag\"),E67,\"\")","v":""},{"$f":"_xlfn.IFNA(_xlfn.XLOOKUP(tblOrder[[#This Row],[Size - Description]],tblItemHidden[ITEM CODE DESC],tblItemHidden[UNIT PRICE],,0,1),\"\")","v":""},{"$f":"IFERROR(tblOrder[[#This Row],[Qty]]*tblOrder[[#This Row],[Unit Price]],\"\")","v":""},{"$f":"IFERROR(INDEX(tblItemHidden[], MATCH(B68&\"-\"&LEFT(C68,FIND(\" - \",C68,1)-1), ItemCodeLookup, 0), 10) * $D68,\"\")","v":""}]
[null,{"$f":"IF(ISNA(VLOOKUP(A69,tblStyle[],3,0)),\"\",VLOOKUP(A69,tblStyle[],3,0))","v":""},null,null,{"$f":"IF(AND(tblOrder[[#This Row],[Size - Description]]<>\"\",$E68<>\"\",E68<>\"Tag\"),E68,\"\")","v":""},{"$f":"_xlfn.IFNA(_xlfn.XLOOKUP(tblOrder[[#This Row],[Size - Description]],tblItemHidden[ITEM CODE DESC],tblItemHidden[UNIT PRICE],,0,1),\"\")","v":""},{"$f":"IFERROR(tblOrder[[#This Row],[Qty]]*tblOrder[[#This Row],[Unit Price]],\"\")","v":""},{"$f":"IFERROR(INDEX(tblItemHidden[], MATCH(B69&\"-\"&LEFT(C69,FIND(\" - \",C69,1)-1), ItemCodeLookup, 0), 10) * $D69,\"\")","v":""}]
[null,{"$f":"IF(ISNA(VLOOKUP(A70,tblStyle[],3,0)),\"\",VLOOKUP(A70,tblStyle[],3,0))","v":""},null,null,{"$f":"IF(AND(tblOrder[[#This Row],[Size - Description]]<>\"\",$E69<>\"\",E69<>\"Tag\"),E69,\"\")","v":""},{"$f":"_xlfn.IFNA(_xlfn.XLOOKUP(tblOrder[[#This Row],[Size - Description]],tblItemHidden[ITEM CODE DESC],tblItemHidden[UNIT PRICE],,0,1),\"\")","v":""},{"$f":"IFERROR(tblOrder[[#This Row],[Qty]]*tblOrder[[#This Row],[Unit Price]],\"\")","v":""},{"$f":"IFERROR(INDEX(tblItemHidden[], MATCH(B70&\"-\"&LEFT(C70,FIND(\" - \",C70,1)-1), ItemCodeLookup, 0), 10) * $D70,\"\")","v":""}]
[null,{"$f":"IF(ISNA(VLOOKUP(A71,tblStyle[],3,0)),\"\",VLOOKUP(A71,tblStyle[],3,0))","v":""},null,null,{"$f":"IF(AND(tblOrder[[#This Row],[Size - Description]]<>\"\",$E70<>\"\",E70<>\"Tag\"),E70,\"\")","v":""},{"$f":"_xlfn.IFNA(_xlfn.XLOOKUP(tblOrder[[#This Row],[Size - Description]],tblItemHidden[ITEM CODE DESC],tblItemHidden[UNIT PRICE],,0,1),\"\")","v":""},{"$f":"IFERROR(tblOrder[[#This Row],[Qty]]*tblOrder[[#This Row],[Unit Price]],\"\")","v":""},{"$f":"IFERROR(INDEX(tblItemHidden[], MATCH(B71&\"-\"&LEFT(C71,FIND(\" - \",C71,1)-1), ItemCodeLookup, 0), 10) * $D71,\"\")","v":""}]
[null,{"$f":"IF(ISNA(VLOOKUP(A72,tblStyle[],3,0)),\"\",VLOOKUP(A72,tblStyle[],3,0))","v":""},null,null,{"$f":"IF(AND(tblOrder[[#This Row],[Size - Description]]<>\"\",$E71<>\"\",E71<>\"Tag\"),E71,\"\")","v":""},{"$f":"_xlfn.IFNA(_xlfn.XLOOKUP(tblOrder[[#This Row],[Size - Description]],tblItemHidden[ITEM CODE DESC],tblItemHidden[UNIT PRICE],,0,1),\"\")","v":""},{"$f":"IFERROR(tblOrder[[#This Row],[Qty]]*tblOrder[[#This Row],[Unit Price]],\"\")","v":""},{"$f":"IFERROR(INDEX(tblItemHidden[], MATCH(B72&\"-\"&LEFT(C72,FIND(\" - \",C72,1)-1), ItemCodeLookup, 0), 10) * $D72,\"\")","v":""}]
[null,{"$f":"IF(ISNA(VLOOKUP(A73,tblStyle[],3,0)),\"\",VLOOKUP(A73,tblStyle[],3,0))","v":""},null,null,{"$f":"IF(AND(tblOrder[[#This Row],[Size - Description]]<>\"\",$E72<>\"\",E72<>\"Tag\"),E72,\"\")","v":""},{"$f":"_xlfn.IFNA(_xlfn.XLOOKUP(tblOrder[[#This Row],[Size - Description]],tblItemHidden[ITEM CODE DESC],tblItemHidden[UNIT PRICE],,0,1),\"\")","v":""},{"$f":"IFERROR(tblOrder[[#This Row],[Qty]]*tblOrder[[#This Row],[Unit Price]],\"\")","v":""},{"$f":"IFERROR(INDEX(tblItemHidden[], MATCH(B73&\"-\"&LEFT(C73,FIND(\" - \",C73,1)-1), ItemCodeLookup, 0), 10) * $D73,\"\")","v":""}]
[null,{"$f":"IF(ISNA(VLOOKUP(A74,tblStyle[],3,0)),\"\",VLOOKUP(A74,tblStyle[],3,0))","v":""},null,null,{"$f":"IF(AND(tblOrder[[#This Row],[Size - Description]]<>\"\",$E73<>\"\",E73<>\"Tag\"),E73,\"\")","v":""},{"$f":"_xlfn.IFNA(_xlfn.XLOOKUP(tblOrder[[#This Row],[Size - Description]],tblItemHidden[ITEM CODE DESC],tblItemHidden[UNIT PRICE],,0,1),\"\")","v":""},{"$f":"IFERROR(tblOrder[[#This Row],[Qty]]*tblOrder[[#This Row],[Unit Price]],\"\")","v":""},{"$f":"IFERROR(INDEX(tblItemHidden[], MATCH(B74&\"-\"&LEFT(C74,FIND(\" - \",C74,1)-1), ItemCodeLookup, 0), 10) * $D74,\"\")","v":""}]
[null,{"$f":"IF(ISNA(VLOOKUP(A75,tblStyle[],3,0)),\"\",VLOOKUP(A75,tblStyle[],3,0))","v":""},null,null,{"$f":"IF(AND(tblOrder[[#This Row],[Size - Description]]<>\"\",$E74<>\"\",E74<>\"Tag\"),E74,\"\")","v":""},{"$f":"_xlfn.IFNA(_xlfn.XLOOKUP(tblOrder[[#This Row],[Size - Description]],tblItemHidden[ITEM CODE DESC],tblItemHidden[UNIT PRICE],,0,1),\"\")","v":""},{"$f":"IFERROR(tblOrder[[#This Row],[Qty]]*tblOrder[[#This Row],[Unit Price]],\"\")","v":""},{"$f":"IFERROR(INDEX(tblItemHidden[], MATCH(B75&\"-\"&LEFT(C75,FIND(\" - \",C75,1)-1), ItemCodeLookup, 0), 10) * $D75,\"\")","v":""}]
[null,{"$f":"IF(ISNA(VLOOKUP(A76,tblStyle[],3,0)),\"\",VLOOKUP(A76,tblStyle[],3,0))","v":""},null,null,{"$f":"IF(AND(tblOrder[[#This Row],[Size - Description]]<>\"\",$E75<>\"\",E75<>\"Tag\"),E75,\"\")","v":""},{"$f":"_xlfn.IFNA(_xlfn.XLOOKUP(tblOrder[[#This Row],[Size - Description]],tblItemHidden[ITEM CODE DESC],tblItemHidden[UNIT PRICE],,0,1),\"\")","v":""},{"$f":"IFERROR(tblOrder[[#This Row],[Qty]]*tblOrder[[#This Row],[Unit Price]],\"\")","v":""},{"$f":"IFERROR(INDEX(tblItemHidden[], MATCH(B76&\"-\"&LEFT(C76,FIND(\" - \",C76,1)-1), ItemCodeLookup, 0), 10) * $D76,\"\")","v":""}]
[null,{"$f":"IF(ISNA(VLOOKUP(A77,tblStyle[],3,0)),\"\",VLOOKUP(A77,tblStyle[],3,0))","v":""},null,null,{"$f":"IF(AND(tblOrder[[#This Row],[Size - Description]]<>\"\",$E76<>\"\",E76<>\"Tag\"),E76,\"\")","v":""},{"$f":"_xlfn.IFNA(_xlfn.XLOOKUP(tblOrder[[#This Row],[Size - Description]],tblItemHidden[ITEM CODE DESC],tblItemHidden[UNIT PRICE],,0,1),\"\")","v":""},{"$f":"IFERROR(tblOrder[[#This Row],[Qty]]*tblOrder[[#This Row],[Unit Price]],\"\")","v":""},{"$f":"IFERROR(INDEX(tblItemHidden[], MATCH(B77&\"-\"&LEFT(C77,FIND(\" - \",C77,1)-1), ItemCodeLookup, 0), 10) * $D77,\"\")","v":""}]
[null,{"$f":"IF(ISNA(VLOOKUP(A78,tblStyle[],3,0)),\"\",VLOOKUP(A78,tblStyle[],3,0))","v":""},null,null,{"$f":"IF(AND(tblOrder[[#This Row],[Size - Description]]<>\"\",$E77<>\"\",E77<>\"Tag\"),E77,\"\")","v":""},{"$f":"_xlfn.IFNA(_xlfn.XLOOKUP(tblOrder[[#This Row],[Size - Description]],tblItemHidden[ITEM CODE DESC],tblItemHidden[UNIT PRICE],,0,1),\"\")","v":""},{"$f":"IFERROR(tblOrder[[#This Row],[Qty]]*tblOrder[[#This Row],[Unit Price]],\"\")","v":""},{"$f":"IFERROR(INDEX(tblItemHidden[], MATCH(B78&\"-\"&LEFT(C78,FIND(\" - \",C78,1)-1), ItemCodeLookup, 0), 10) * $D78,\"\")","v":""}]
[null,{"$f":"IF(ISNA(VLOOKUP(A79,tblStyle[],3,0)),\"\",VLOOKUP(A79,tblStyle[],3,0))","v":""},null,null,{"$f":"IF(AND(tblOrder[[#This Row],[Size - Description]]<>\"\",$E78<>\"\",E78<>\"Tag\"),E78,\"\")","v":""},{"$f":"_xlfn.IFNA(_xlfn.XLOOKUP(tblOrder[[#This Row],[Size - Description]],tblItemHidden[ITEM CODE DESC],tblItemHidden[UNIT PRICE],,0,1),\"\")","v":""},{"$f":"IFERROR(tblOrder[[#This Row],[Qty]]*tblOrder[[#This Row],[Unit Price]],\"\")","v":""},{"$f":"IFERROR(INDEX(tblItemHidden[], MATCH(B79&\"-\"&LEFT(C79,FIND(\" - \",C79,1)-1), ItemCodeLookup, 0), 10) * $D79,\"\")","v":""}]
[null,{"$f":"IF(ISNA(VLOOKUP(A80,tblStyle[],3,0)),\"\",VLOOKUP(A80,tblStyle[],3,0))","v":""},null,null,{"$f":"IF(AND(tblOrder[[#This Row],[Size - Description]]<>\"\",$E79<>\"\",E79<>\"Tag\"),E79,\"\")","v":""},{"$f":"_xlfn.IFNA(_xlfn.XLOOKUP(tblOrder[[#This Row],[Size - Description]],tblItemHidden[ITEM CODE DESC],tblItemHidden[UNIT PRICE],,0,1),\"\")","v":""},{"$f":"IFERROR(tblOrder[[#This Row],[Qty]]*tblOrder[[#This Row],[Unit Price]],\"\")","v":""},{"$f":"IFERROR(INDEX(tblItemHidden[], MATCH(B80&\"-\"&LEFT(C80,FIND(\" - \",C80,1)-1), ItemCodeLookup, 0), 10) * $D80,\"\")","v":""}]
[null,{"$f":"IF(ISNA(VLOOKUP(A81,tblStyle[],3,0)),\"\",VLOOKUP(A81,tblStyle[],3,0))","v":""},null,null,{"$f":"IF(AND(tblOrder[[#This Row],[Size - Description]]<>\"\",$E80<>\"\",E80<>\"Tag\"),E80,\"\")","v":""},{"$f":"_xlfn.IFNA(_xlfn.XLOOKUP(tblOrder[[#This Row],[Size - Description]],tblItemHidden[ITEM CODE DESC],tblItemHidden[UNIT PRICE],,0,1),\"\")","v":""},{"$f":"IFERROR(tblOrder[[#This Row],[Qty]]*tblOrder[[#This Row],[Unit Price]],\"\")","v":""},{"$f":"IFERROR(INDEX(tblItemHidden[], MATCH(B81&\"-\"&LEFT(C81,FIND(\" - \",C81,1)-1), ItemCodeLookup, 0), 10) * $D81,\"\")","v":""}]
[null,{"$f":"IF(ISNA(VLOOKUP(A82,tblStyle[],3,0)),\"\",VLOOKUP(A82,tblStyle[],3,0))","v":""},null,null,{"$f":"IF(AND(tblOrder[[#This Row],[Size - Description]]<>\"\",$E81<>\"\",E81<>\"Tag\"),E81,\"\")","v":""},{"$f":"_xlfn.IFNA(_xlfn.XLOOKUP(tblOrder[[#This Row],[Size - Description]],tblItemHidden[ITEM CODE DESC],tblItemHidden[UNIT PRICE],,0,1),\"\")","v":""},{"$f":"IFERROR(tblOrder[[#This Row],[Qty]]*tblOrder[[#This Row],[Unit Price]],\"\")","v":""},{"$f":"IFERROR(INDEX(tblItemHidden[], MATCH(B82&\"-\"&LEFT(C82,FIND(\" - \",C82,1)-1), ItemCodeLookup, 0), 10) * $D82,\"\")","v":""}]
[null,{"$f":"IF(ISNA(VLOOKUP(A83,tblStyle[],3,0)),\"\",VLOOKUP(A83,tblStyle[],3,0))","v":""},null,null,{"$f":"IF(AND(tblOrder[[#This Row],[Size - Description]]<>\"\",$E82<>\"\",E82<>\"Tag\"),E82,\"\")","v":""},{"$f":"_xlfn.IFNA(_xlfn.XLOOKUP(tblOrder[[#This Row],[Size - Description]],tblItemHidden[ITEM CODE DESC],tblItemHidden[UNIT PRICE],,0,1),\"\")","v":""},{"$f":"IFERROR(tblOrder[[#This Row],[Qty]]*tblOrder[[#This Row],[Unit Price]],\"\")","v":""},{"$f":"IFERROR(INDEX(tblItemHidden[], MATCH(B83&\"-\"&LEFT(C83,FIND(\" - \",C83,1)-1), ItemCodeLookup, 0), 10) * $D83,\"\")","v":""}]
[null,{"$f":"IF(ISNA(VLOOKUP(A84,tblStyle[],3,0)),\"\",VLOOKUP(A84,tblStyle[],3,0))","v":""},null,null,{"$f":"IF(AND(tblOrder[[#This Row],[Size - Description]]<>\"\",$E83<>\"\",E83<>\"Tag\"),E83,\"\")","v":""},{"$f":"_xlfn.IFNA(_xlfn.XLOOKUP(tblOrder[[#This Row],[Size - Description]],tblItemHidden[ITEM CODE DESC],tblItemHidden[UNIT PRICE],,0,1),\"\")","v":""},{"$f":"IFERROR(tblOrder[[#This Row],[Qty]]*tblOrder[[#This Row],[Unit Price]],\"\")","v":""},{"$f":"IFERROR(INDEX(tblItemHidden[], MATCH(B84&\"-\"&LEFT(C84,FIND(\" - \",C84,1)-1), ItemCodeLookup, 0), 10) * $D84,\"\")","v":""}]
[null,{"$f":"IF(ISNA(VLOOKUP(A85,tblStyle[],3,0)),\"\",VLOOKUP(A85,tblStyle[],3,0))","v":""},null,null,{"$f":"IF(AND(tblOrder[[#This Row],[Size - Description]]<>\"\",$E84<>\"\",E84<>\"Tag\"),E84,\"\")","v":""},{"$f":"_xlfn.IFNA(_xlfn.XLOOKUP(tblOrder[[#This Row],[Size - Description]],tblItemHidden[ITEM CODE DESC],tblItemHidden[UNIT PRICE],,0,1),\"\")","v":""},{"$f":"IFERROR(tblOrder[[#This Row],[Qty]]*tblOrder[[#This Row],[Unit Price]],\"\")","v":""},{"$f":"IFERROR(INDEX(tblItemHidden[], MATCH(B85&\"-\"&LEFT(C85,FIND(\" - \",C85,1)-1), ItemCodeLookup, 0), 10) * $D85,\"\")","v":""}]
[null,{"$f":"IF(ISNA(VLOOKUP(A86,tblStyle[],3,0)),\"\",VLOOKUP(A86,tblStyle[],3,0))","v":""},null,null,{"$f":"IF(AND(tblOrder[[#This Row],[Size - Description]]<>\"\",$E85<>\"\",E85<>\"Tag\"),E85,\"\")","v":""},{"$f":"_xlfn.IFNA(_xlfn.XLOOKUP(tblOrder[[#This Row],[Size - Description]],tblItemHidden[ITEM CODE DESC],tblItemHidden[UNIT PRICE],,0,1),\"\")","v":""},{"$f":"IFERROR(tblOrder[[#This Row],[Qty]]*tblOrder[[#This Row],[Unit Price]],\"\")","v":""},{"$f":"IFERROR(INDEX(tblItemHidden[], MATCH(B86&\"-\"&LEFT(C86,FIND(\" - \",C86,1)-1), ItemCodeLookup, 0), 10) * $D86,\"\")","v":""}]
[null,{"$f":"IF(ISNA(VLOOKUP(A87,tblStyle[],3,0)),\"\",VLOOKUP(A87,tblStyle[],3,0))","v":""},null,null,{"$f":"IF(AND(tblOrder[[#This Row],[Size - Description]]<>\"\",$E86<>\"\",E86<>\"Tag\"),E86,\"\")","v":""},{"$f":"_xlfn.IFNA(_xlfn.XLOOKUP(tblOrder[[#This Row],[Size - Description]],tblItemHidden[ITEM CODE DESC],tblItemHidden[UNIT PRICE],,0,1),\"\")","v":""},{"$f":"IFERROR(tblOrder[[#This Row],[Qty]]*tblOrder[[#This Row],[Unit Price]],\"\")","v":""},{"$f":"IFERROR(INDEX(tblItemHidden[], MATCH(B87&\"-\"&LEFT(C87,FIND(\" - \",C87,1)-1), ItemCodeLookup, 0), 10) * $D87,\"\")","v":""}]
[null,{"$f":"IF(ISNA(VLOOKUP(A88,tblStyle[],3,0)),\"\",VLOOKUP(A88,tblStyle[],3,0))","v":""},null,null,{"$f":"IF(AND(tblOrder[[#This Row],[Size - Description]]<>\"\",$E87<>\"\",E87<>\"Tag\"),E87,\"\")","v":""},{"$f":"_xlfn.IFNA(_xlfn.XLOOKUP(tblOrder[[#This Row],[Size - Description]],tblItemHidden[ITEM CODE DESC],tblItemHidden[UNIT PRICE],,0,1),\"\")","v":""},{"$f":"IFERROR(tblOrder[[#This Row],[Qty]]*tblOrder[[#This Row],[Unit Price]],\"\")","v":""},{"$f":"IFERROR(INDEX(tblItemHidden[], MATCH(B88&\"-\"&LEFT(C88,FIND(\" - \",C88,1)-1), ItemCodeLookup, 0), 10) * $D88,\"\")","v":""}]
[null,{"$f":"IF(ISNA(VLOOKUP(A89,tblStyle[],3,0)),\"\",VLOOKUP(A89,tblStyle[],3,0))","v":""},null,null,{"$f":"IF(AND(tblOrder[[#This Row],[Size - Description]]<>\"\",$E88<>\"\",E88<>\"Tag\"),E88,\"\")","v":""},{"$f":"_xlfn.IFNA(_xlfn.XLOOKUP(tblOrder[[#This Row],[Size - Description]],tblItemHidden[ITEM CODE DESC],tblItemHidden[UNIT PRICE],,0,1),\"\")","v":""},{"$f":"IFERROR(tblOrder[[#This Row],[Qty]]*tblOrder[[#This Row],[Unit Price]],\"\")","v":""},{"$f":"IFERROR(INDEX(tblItemHidden[], MATCH(B89&\"-\"&LEFT(C89,FIND(\" - \",C89,1)-1), ItemCodeLookup, 0), 10) * $D89,\"\")","v":""}]
[null,{"$f":"IF(ISNA(VLOOKUP(A90,tblStyle[],3,0)),\"\",VLOOKUP(A90,tblStyle[],3,0))","v":""},null,null,{"$f":"IF(AND(tblOrder[[#This Row],[Size - Description]]<>\"\",$E89<>\"\",E89<>\"Tag\"),E89,\"\")","v":""},{"$f":"_xlfn.IFNA(_xlfn.XLOOKUP(tblOrder[[#This Row],[Size - Description]],tblItemHidden[ITEM CODE DESC],tblItemHidden[UNIT PRICE],,0,1),\"\")","v":""},{"$f":"IFERROR(tblOrder[[#This Row],[Qty]]*tblOrder[[#This Row],[Unit Price]],\"\")","v":""},{"$f":"IFERROR(INDEX(tblItemHidden[], MATCH(B90&\"-\"&LEFT(C90,FIND(\" - \",C90,1)-1), ItemCodeLookup, 0), 10) * $D90,\"\")","v":""}]
[null,{"$f":"IF(ISNA(VLOOKUP(A91,tblStyle[],3,0)),\"\",VLOOKUP(A91,tblStyle[],3,0))","v":""},null,null,{"$f":"IF(AND(tblOrder[[#This Row],[Size - Description]]<>\"\",$E90<>\"\",E90<>\"Tag\"),E90,\"\")","v":""},{"$f":"_xlfn.IFNA(_xlfn.XLOOKUP(tblOrder[[#This Row],[Size - Description]],tblItemHidden[ITEM CODE DESC],tblItemHidden[UNIT PRICE],,0,1),\"\")","v":""},{"$f":"IFERROR(tblOrder[[#This Row],[Qty]]*tblOrder[[#This Row],[Unit Price]],\"\")","v":""},{"$f":"IFERROR(INDEX(tblItemHidden[], MATCH(B91&\"-\"&LEFT(C91,FIND(\" - \",C91,1)-1), ItemCodeLookup, 0), 10) * $D91,\"\")","v":""}]
[null,{"$f":"IF(ISNA(VLOOKUP(A92,tblStyle[],3,0)),\"\",VLOOKUP(A92,tblStyle[],3,0))","v":""},null,null,{"$f":"IF(AND(tblOrder[[#This Row],[Size - Description]]<>\"\",$E91<>\"\",E91<>\"Tag\"),E91,\"\")","v":""},{"$f":"_xlfn.IFNA(_xlfn.XLOOKUP(tblOrder[[#This Row],[Size - Description]],tblItemHidden[ITEM CODE DESC],tblItemHidden[UNIT PRICE],,0,1),\"\")","v":""},{"$f":"IFERROR(tblOrder[[#This Row],[Qty]]*tblOrder[[#This Row],[Unit Price]],\"\")","v":""},{"$f":"IFERROR(INDEX(tblItemHidden[], MATCH(B92&\"-\"&LEFT(C92,FIND(\" - \",C92,1)-1), ItemCodeLookup, 0), 10) * $D92,\"\")","v":""}]
[null,{"$f":"IF(ISNA(VLOOKUP(A93,tblStyle[],3,0)),\"\",VLOOKUP(A93,tblStyle[],3,0))","v":""},null,null,{"$f":"IF(AND(tblOrder[[#This Row],[Size - Description]]<>\"\",$E92<>\"\",E92<>\"Tag\"),E92,\"\")","v":""},{"$f":"_xlfn.IFNA(_xlfn.XLOOKUP(tblOrder[[#This Row],[Size - Description]],tblItemHidden[ITEM CODE DESC],tblItemHidden[UNIT PRICE],,0,1),\"\")","v":""},{"$f":"IFERROR(tblOrder[[#This Row],[Qty]]*tblOrder[[#This Row],[Unit Price]],\"\")","v":""},{"$f":"IFERROR(INDEX(tblItemHidden[], MATCH(B93&\"-\"&LEFT(C93,FIND(\" - \",C93,1)-1), ItemCodeLookup, 0), 10) * $D93,\"\")","v":""}]
[null,{"$f":"IF(ISNA(VLOOKUP(A94,tblStyle[],3,0)),\"\",VLOOKUP(A94,tblStyle[],3,0))","v":""},null,null,{"$f":"IF(AND(tblOrder[[#This Row],[Size - Description]]<>\"\",$E93<>\"\",E93<>\"Tag\"),E93,\"\")","v":""},{"$f":"_xlfn.IFNA(_xlfn.XLOOKUP(tblOrder[[#This Row],[Size - Description]],tblItemHidden[ITEM CODE DESC],tblItemHidden[UNIT PRICE],,0,1),\"\")","v":""},{"$f":"IFERROR(tblOrder[[#This Row],[Qty]]*tblOrder[[#This Row],[Unit Price]],\"\")","v":""},{"$f":"IFERROR(INDEX(tblItemHidden[], MATCH(B94&\"-\"&LEFT(C94,FIND(\" - \",C94,1)-1), ItemCodeLookup, 0), 10) * $D94,\"\")","v":""}]
[null,{"$f":"IF(ISNA(VLOOKUP(A95,tblStyle[],3,0)),\"\",VLOOKUP(A95,tblStyle[],3,0))","v":""},null,null,{"$f":"IF(AND(tblOrder[[#This Row],[Size - Description]]<>\"\",$E94<>\"\",E94<>\"Tag\"),E94,\"\")","v":""},{"$f":"_xlfn.IFNA(_xlfn.XLOOKUP(tblOrder[[#This Row],[Size - Description]],tblItemHidden[ITEM CODE DESC],tblItemHidden[UNIT PRICE],,0,1),\"\")","v":""},{"$f":"IFERROR(tblOrder[[#This Row],[Qty]]*tblOrder[[#This Row],[Unit Price]],\"\")","v":""},{"$f":"IFERROR(INDEX(tblItemHidden[], MATCH(B95&\"-\"&LEFT(C95,FIND(\" - \",C95,1)-1), ItemCodeLookup, 0), 10) * $D95,\"\")","v":""}]
[null,{"$f":"IF(ISNA(VLOOKUP(A96,tblStyle[],3,0)),\"\",VLOOKUP(A96,tblStyle[],3,0))","v":""},null,null,{"$f":"IF(AND(tblOrder[[#This Row],[Size - Description]]<>\"\",$E95<>\"\",E95<>\"Tag\"),E95,\"\")","v":""},{"$f":"_xlfn.IFNA(_xlfn.XLOOKUP(tblOrder[[#This Row],[Size - Description]],tblItemHidden[ITEM CODE DESC],tblItemHidden[UNIT PRICE],,0,1),\"\")","v":""},{"$f":"IFERROR(tblOrder[[#This Row],[Qty]]*tblOrder[[#This Row],[Unit Price]],\"\")","v":""},{"$f":"IFERROR(INDEX(tblItemHidden[], MATCH(B96&\"-\"&LEFT(C96,FIND(\" - \",C96,1)-1), ItemCodeLookup, 0), 10) * $D96,\"\")","v":""}]
[null,{"$f":"IF(ISNA(VLOOKUP(A97,tblStyle[],3,0)),\"\",VLOOKUP(A97,tblStyle[],3,0))","v":""},null,null,{"$f":"IF(AND(tblOrder[[#This Row],[Size - Description]]<>\"\",$E96<>\"\",E96<>\"Tag\"),E96,\"\")","v":""},{"$f":"_xlfn.IFNA(_xlfn.XLOOKUP(tblOrder[[#This Row],[Size - Description]],tblItemHidden[ITEM CODE DESC],tblItemHidden[UNIT PRICE],,0,1),\"\")","v":""},{"$f":"IFERROR(tblOrder[[#This Row],[Qty]]*tblOrder[[#This Row],[Unit Price]],\"\")","v":""},{"$f":"IFERROR(INDEX(tblItemHidden[], MATCH(B97&\"-\"&LEFT(C97,FIND(\" - \",C97,1)-1), ItemCodeLookup, 0), 10) * $D97,\"\")","v":""}]
[null,{"$f":"IF(ISNA(VLOOKUP(A98,tblStyle[],3,0)),\"\",VLOOKUP(A98,tblStyle[],3,0))","v":""},null,null,{"$f":"IF(AND(tblOrder[[#This Row],[Size - Description]]<>\"\",$E97<>\"\",E97<>\"Tag\"),E97,\"\")","v":""},{"$f":"_xlfn.IFNA(_xlfn.XLOOKUP(tblOrder[[#This Row],[Size - Description]],tblItemHidden[ITEM CODE DESC],tblItemHidden[UNIT PRICE],,0,1),\"\")","v":""},{"$f":"IFERROR(tblOrder[[#This Row],[Qty]]*tblOrder[[#This Row],[Unit Price]],\"\")","v":""},{"$f":"IFERROR(INDEX(tblItemHidden[], MATCH(B98&\"-\"&LEFT(C98,FIND(\" - \",C98,1)-1), ItemCodeLookup, 0), 10) * $D98,\"\")","v":""}]
[null,{"$f":"IF(ISNA(VLOOKUP(A99,tblStyle[],3,0)),\"\",VLOOKUP(A99,tblStyle[],3,0))","v":""},null,null,{"$f":"IF(AND(tblOrder[[#This Row],[Size - Description]]<>\"\",$E98<>\"\",E98<>\"Tag\"),E98,\"\")","v":""},{"$f":"_xlfn.IFNA(_xlfn.XLOOKUP(tblOrder[[#This Row],[Size - Description]],tblItemHidden[ITEM CODE DESC],tblItemHidden[UNIT PRICE],,0,1),\"\")","v":""},{"$f":"IFERROR(tblOrder[[#This Row],[Qty]]*tblOrder[[#This Row],[Unit Price]],\"\")","v":""},{"$f":"IFERROR(INDEX(tblItemHidden[], MATCH(B99&\"-\"&LEFT(C99,FIND(\" - \",C99,1)-1), ItemCodeLookup, 0), 10) * $D99,\"\")","v":""}]
[null,{"$f":"IF(ISNA(VLOOKUP(A100,tblStyle[],3,0)),\"\",VLOOKUP(A100,tblStyle[],3,0))","v":""},null,null,{"$f":"IF(AND(tblOrder[[#This Row],[Size - Description]]<>\"\",$E99<>\"\",E99<>\"Tag\"),E99,\"\")","v":""},{"$f":"_xlfn.IFNA(_xlfn.XLOOKUP(tblOrder[[#This Row],[Size - Description]],tblItemHidden[ITEM CODE DESC],tblItemHidden[UNIT PRICE],,0,1),\"\")","v":""},{"$f":"IFERROR(tblOrder[[#This Row],[Qty]]*tblOrder[[#This Row],[Unit Price]],\"\")","v":""},{"$f":"IFERROR(INDEX(tblItemHidden[], MATCH(B100&\"-\"&LEFT(C100,FIND(\" - \",C100,1)-1), ItemCodeLookup, 0), 10) * $D100,\"\")","v":""}]
[null,{"$f":"IF(ISNA(VLOOKUP(A101,tblStyle[],3,0)),\"\",VLOOKUP(A101,tblStyle[],3,0))","v":""},null,null,{"$f":"IF(AND(tblOrder[[#This Row],[Size - Description]]<>\"\",$E100<>\"\",E100<>\"Tag\"),E100,\"\")","v":""},{"$f":"_xlfn.IFNA(_xlfn.XLOOKUP(tblOrder[[#This Row],[Size - Description]],tblItemHidden[ITEM CODE DESC],tblItemHidden[UNIT PRICE],,0,1),\"\")","v":""},{"$f":"IFERROR(tblOrder[[#This Row],[Qty]]*tblOrder[[#This Row],[Unit Price]],\"\")","v":""},{"$f":"IFERROR(INDEX(tblItemHidden[], MATCH(B101&\"-\"&LEFT(C101,FIND(\" - \",C101,1)-1), ItemCodeLookup, 0), 10) * $D101,\"\")","v":""}]
[null,{"$f":"IF(ISNA(VLOOKUP(A102,tblStyle[],3,0)),\"\",VLOOKUP(A102,tblStyle[],3,0))","v":""},null,null,{"$f":"IF(AND(tblOrder[[#This Row],[Size - Description]]<>\"\",$E101<>\"\",E101<>\"Tag\"),E101,\"\")","v":""},{"$f":"_xlfn.IFNA(_xlfn.XLOOKUP(tblOrder[[#This Row],[Size - Description]],tblItemHidden[ITEM CODE DESC],tblItemHidden[UNIT PRICE],,0,1),\"\")","v":""},{"$f":"IFERROR(tblOrder[[#This Row],[Qty]]*tblOrder[[#This Row],[Unit Price]],\"\")","v":""},{"$f":"IFERROR(INDEX(tblItemHidden[], MATCH(B102&\"-\"&LEFT(C102,FIND(\" - \",C102,1)-1), ItemCodeLookup, 0), 10) * $D102,\"\")","v":""}]
[null,{"$f":"IF(ISNA(VLOOKUP(A103,tblStyle[],3,0)),\"\",VLOOKUP(A103,tblStyle[],3,0))","v":""},null,null,{"$f":"IF(AND(tblOrder[[#This Row],[Size - Description]]<>\"\",$E102<>\"\",E102<>\"Tag\"),E102,\"\")","v":""},{"$f":"_xlfn.IFNA(_xlfn.XLOOKUP(tblOrder[[#This Row],[Size - Description]],tblItemHidden[ITEM CODE DESC],tblItemHidden[UNIT PRICE],,0,1),\"\")","v":""},{"$f":"IFERROR(tblOrder[[#This Row],[Qty]]*tblOrder[[#This Row],[Unit Price]],\"\")","v":""},{"$f":"IFERROR(INDEX(tblItemHidden[], MATCH(B103&\"-\"&LEFT(C103,FIND(\" - \",C103,1)-1), ItemCodeLookup, 0), 10) * $D103,\"\")","v":""}]
[null,{"$f":"IF(ISNA(VLOOKUP(A104,tblStyle[],3,0)),\"\",VLOOKUP(A104,tblStyle[],3,0))","v":""},null,null,{"$f":"IF(AND(tblOrder[[#This Row],[Size - Description]]<>\"\",$E103<>\"\",E103<>\"Tag\"),E103,\"\")","v":""},{"$f":"_xlfn.IFNA(_xlfn.XLOOKUP(tblOrder[[#This Row],[Size - Description]],tblItemHidden[ITEM CODE DESC],tblItemHidden[UNIT PRICE],,0,1),\"\")","v":""},{"$f":"IFERROR(tblOrder[[#This Row],[Qty]]*tblOrder[[#This Row],[Unit Price]],\"\")","v":""},{"$f":"IFERROR(INDEX(tblItemHidden[], MATCH(B104&\"-\"&LEFT(C104,FIND(\" - \",C104,1)-1), ItemCodeLookup, 0), 10) * $D104,\"\")","v":""}]
[null,{"$f":"IF(ISNA(VLOOKUP(A105,tblStyle[],3,0)),\"\",VLOOKUP(A105,tblStyle[],3,0))","v":""},null,null,{"$f":"IF(AND(tblOrder[[#This Row],[Size - Description]]<>\"\",$E104<>\"\",E104<>\"Tag\"),E104,\"\")","v":""},{"$f":"_xlfn.IFNA(_xlfn.XLOOKUP(tblOrder[[#This Row],[Size - Description]],tblItemHidden[ITEM CODE DESC],tblItemHidden[UNIT PRICE],,0,1),\"\")","v":""},{"$f":"IFERROR(tblOrder[[#This Row],[Qty]]*tblOrder[[#This Row],[Unit Price]],\"\")","v":""},{"$f":"IFERROR(INDEX(tblItemHidden[], MATCH(B105&\"-\"&LEFT(C105,FIND(\" - \",C105,1)-1), ItemCodeLookup, 0), 10) * $D105,\"\")","v":""}]
[null,{"$f":"IF(ISNA(VLOOKUP(A106,tblStyle[],3,0)),\"\",VLOOKUP(A106,tblStyle[],3,0))","v":""},null,null,{"$f":"IF(AND(tblOrder[[#This Row],[Size - Description]]<>\"\",$E105<>\"\",E105<>\"Tag\"),E105,\"\")","v":""},{"$f":"_xlfn.IFNA(_xlfn.XLOOKUP(tblOrder[[#This Row],[Size - Description]],tblItemHidden[ITEM CODE DESC],tblItemHidden[UNIT PRICE],,0,1),\"\")","v":""},{"$f":"IFERROR(tblOrder[[#This Row],[Qty]]*tblOrder[[#This Row],[Unit Price]],\"\")","v":""},{"$f":"IFERROR(INDEX(tblItemHidden[], MATCH(B106&\"-\"&LEFT(C106,FIND(\" - \",C106,1)-1), ItemCodeLookup, 0), 10) * $D106,\"\")","v":""}]
[null,{"$f":"IF(ISNA(VLOOKUP(A107,tblStyle[],3,0)),\"\",VLOOKUP(A107,tblStyle[],3,0))","v":""},null,null,{"$f":"IF(AND(tblOrder[[#This Row],[Size - Description]]<>\"\",$E106<>\"\",E106<>\"Tag\"),E106,\"\")","v":""},{"$f":"_xlfn.IFNA(_xlfn.XLOOKUP(tblOrder[[#This Row],[Size - Description]],tblItemHidden[ITEM CODE DESC],tblItemHidden[UNIT PRICE],,0,1),\"\")","v":""},{"$f":"IFERROR(tblOrder[[#This Row],[Qty]]*tblOrder[[#This Row],[Unit Price]],\"\")","v":""},{"$f":"IFERROR(INDEX(tblItemHidden[], MATCH(B107&\"-\"&LEFT(C107,FIND(\" - \",C107,1)-1), ItemCodeLookup, 0), 10) * $D107,\"\")","v":""}]
[null,{"$f":"IF(ISNA(VLOOKUP(A108,tblStyle[],3,0)),\"\",VLOOKUP(A108,tblStyle[],3,0))","v":""},null,null,{"$f":"IF(AND(tblOrder[[#This Row],[Size - Description]]<>\"\",$E107<>\"\",E107<>\"Tag\"),E107,\"\")","v":""},{"$f":"_xlfn.IFNA(_xlfn.XLOOKUP(tblOrder[[#This Row],[Size - Description]],tblItemHidden[ITEM CODE DESC],tblItemHidden[UNIT PRICE],,0,1),\"\")","v":""},{"$f":"IFERROR(tblOrder[[#This Row],[Qty]]*tblOrder[[#This Row],[Unit Price]],\"\")","v":""},{"$f":"IFERROR(INDEX(tblItemHidden[], MATCH(B108&\"-\"&LEFT(C108,FIND(\" - \",C108,1)-1), ItemCodeLookup, 0), 10) * $D108,\"\")","v":""}]
[null,{"$f":"IF(ISNA(VLOOKUP(A109,tblStyle[],3,0)),\"\",VLOOKUP(A109,tblStyle[],3,0))","v":""},null,null,{"$f":"IF(AND(tblOrder[[#This Row],[Size - Description]]<>\"\",$E108<>\"\",E108<>\"Tag\"),E108,\"\")","v":""},{"$f":"_xlfn.IFNA(_xlfn.XLOOKUP(tblOrder[[#This Row],[Size - Description]],tblItemHidden[ITEM CODE DESC],tblItemHidden[UNIT PRICE],,0,1),\"\")","v":""},{"$f":"IFERROR(tblOrder[[#This Row],[Qty]]*tblOrder[[#This Row],[Unit Price]],\"\")","v":""},{"$f":"IFERROR(INDEX(tblItemHidden[], MATCH(B109&\"-\"&LEFT(C109,FIND(\" - \",C109,1)-1), ItemCodeLookup, 0), 10) * $D109,\"\")","v":""}]
[null,{"$f":"IF(ISNA(VLOOKUP(A110,tblStyle[],3,0)),\"\",VLOOKUP(A110,tblStyle[],3,0))","v":""},null,null,{"$f":"IF(AND(tblOrder[[#This Row],[Size - Description]]<>\"\",$E109<>\"\",E109<>\"Tag\"),E109,\"\")","v":""},{"$f":"_xlfn.IFNA(_xlfn.XLOOKUP(tblOrder[[#This Row],[Size - Description]],tblItemHidden[ITEM CODE DESC],tblItemHidden[UNIT PRICE],,0,1),\"\")","v":""},{"$f":"IFERROR(tblOrder[[#This Row],[Qty]]*tblOrder[[#This Row],[Unit Price]],\"\")","v":""},{"$f":"IFERROR(INDEX(tblItemHidden[], MATCH(B110&\"-\"&LEFT(C110,FIND(\" - \",C110,1)-1), ItemCodeLookup, 0), 10) * $D110,\"\")","v":""}]
[null,{"$f":"IF(ISNA(VLOOKUP(A111,tblStyle[],3,0)),\"\",VLOOKUP(A111,tblStyle[],3,0))","v":""},null,null,{"$f":"IF(AND(tblOrder[[#This Row],[Size - Description]]<>\"\",$E110<>\"\",E110<>\"Tag\"),E110,\"\")","v":""},{"$f":"_xlfn.IFNA(_xlfn.XLOOKUP(tblOrder[[#This Row],[Size - Description]],tblItemHidden[ITEM CODE DESC],tblItemHidden[UNIT PRICE],,0,1),\"\")","v":""},{"$f":"IFERROR(tblOrder[[#This Row],[Qty]]*tblOrder[[#This Row],[Unit Price]],\"\")","v":""},{"$f":"IFERROR(INDEX(tblItemHidden[], MATCH(B111&\"-\"&LEFT(C111,FIND(\" - \",C111,1)-1), ItemCodeLookup, 0), 10) * $D111,\"\")","v":""}]
[null,{"$f":"IF(ISNA(VLOOKUP(A112,tblStyle[],3,0)),\"\",VLOOKUP(A112,tblStyle[],3,0))","v":""},null,null,{"$f":"IF(AND(tblOrder[[#This Row],[Size - Description]]<>\"\",$E111<>\"\",E111<>\"Tag\"),E111,\"\")","v":""},{"$f":"_xlfn.IFNA(_xlfn.XLOOKUP(tblOrder[[#This Row],[Size - Description]],tblItemHidden[ITEM CODE DESC],tblItemHidden[UNIT PRICE],,0,1),\"\")","v":""},{"$f":"IFERROR(tblOrder[[#This Row],[Qty]]*tblOrder[[#This Row],[Unit Price]],\"\")","v":""},{"$f":"IFERROR(INDEX(tblItemHidden[], MATCH(B112&\"-\"&LEFT(C112,FIND(\" - \",C112,1)-1), ItemCodeLookup, 0), 10) * $D112,\"\")","v":""}]
[null,{"$f":"IF(ISNA(VLOOKUP(A113,tblStyle[],3,0)),\"\",VLOOKUP(A113,tblStyle[],3,0))","v":""},null,null,{"$f":"IF(AND(tblOrder[[#This Row],[Size - Description]]<>\"\",$E112<>\"\",E112<>\"Tag\"),E112,\"\")","v":""},{"$f":"_xlfn.IFNA(_xlfn.XLOOKUP(tblOrder[[#This Row],[Size - Description]],tblItemHidden[ITEM CODE DESC],tblItemHidden[UNIT PRICE],,0,1),\"\")","v":""},{"$f":"IFERROR(tblOrder[[#This Row],[Qty]]*tblOrder[[#This Row],[Unit Price]],\"\")","v":""},{"$f":"IFERROR(INDEX(tblItemHidden[], MATCH(B113&\"-\"&LEFT(C113,FIND(\" - \",C113,1)-1), ItemCodeLookup, 0), 10) * $D113,\"\")","v":""}]
[null,{"$f":"IF(ISNA(VLOOKUP(A114,tblStyle[],3,0)),\"\",VLOOKUP(A114,tblStyle[],3,0))","v":""},null,null,{"$f":"IF(AND(tblOrder[[#This Row],[Size - Description]]<>\"\",$E113<>\"\",E113<>\"Tag\"),E113,\"\")","v":""},{"$f":"_xlfn.IFNA(_xlfn.XLOOKUP(tblOrder[[#This Row],[Size - Description]],tblItemHidden[ITEM CODE DESC],tblItemHidden[UNIT PRICE],,0,1),\"\")","v":""},{"$f":"IFERROR(tblOrder[[#This Row],[Qty]]*tblOrder[[#This Row],[Unit Price]],\"\")","v":""},{"$f":"IFERROR(INDEX(tblItemHidden[], MATCH(B114&\"-\"&LEFT(C114,FIND(\" - \",C114,1)-1), ItemCodeLookup, 0), 10) * $D114,\"\")","v":""}]
[null,{"$f":"IF(ISNA(VLOOKUP(A115,tblStyle[],3,0)),\"\",VLOOKUP(A115,tblStyle[],3,0))","v":""},null,null,{"$f":"IF(AND(tblOrder[[#This Row],[Size - Description]]<>\"\",$E114<>\"\",E114<>\"Tag\"),E114,\"\")","v":""},{"$f":"_xlfn.IFNA(_xlfn.XLOOKUP(tblOrder[[#This Row],[Size - Description]],tblItemHidden[ITEM CODE DESC],tblItemHidden[UNIT PRICE],,0,1),\"\")","v":""},{"$f":"IFERROR(tblOrder[[#This Row],[Qty]]*tblOrder[[#This Row],[Unit Price]],\"\")","v":""},{"$f":"IFERROR(INDEX(tblItemHidden[], MATCH(B115&\"-\"&LEFT(C115,FIND(\" - \",C115,1)-1), ItemCodeLookup, 0), 10) * $D115,\"\")","v":""}]
[null,{"$f":"IF(ISNA(VLOOKUP(A116,tblStyle[],3,0)),\"\",VLOOKUP(A116,tblStyle[],3,0))","v":""},null,null,{"$f":"IF(AND(tblOrder[[#This Row],[Size - Description]]<>\"\",$E115<>\"\",E115<>\"Tag\"),E115,\"\")","v":""},{"$f":"_xlfn.IFNA(_xlfn.XLOOKUP(tblOrder[[#This Row],[Size - Description]],tblItemHidden[ITEM CODE DESC],tblItemHidden[UNIT PRICE],,0,1),\"\")","v":""},{"$f":"IFERROR(tblOrder[[#This Row],[Qty]]*tblOrder[[#This Row],[Unit Price]],\"\")","v":""},{"$f":"IFERROR(INDEX(tblItemHidden[], MATCH(B116&\"-\"&LEFT(C116,FIND(\" - \",C116,1)-1), ItemCodeLookup, 0), 10) * $D116,\"\")","v":""}]
[null,{"$f":"IF(ISNA(VLOOKUP(A117,tblStyle[],3,0)),\"\",VLOOKUP(A117,tblStyle[],3,0))","v":""},null,null,{"$f":"IF(AND(tblOrder[[#This Row],[Size - Description]]<>\"\",$E116<>\"\",E116<>\"Tag\"),E116,\"\")","v":""},{"$f":"_xlfn.IFNA(_xlfn.XLOOKUP(tblOrder[[#This Row],[Size - Description]],tblItemHidden[ITEM CODE DESC],tblItemHidden[UNIT PRICE],,0,1),\"\")","v":""},{"$f":"IFERROR(tblOrder[[#This Row],[Qty]]*tblOrder[[#This Row],[Unit Price]],\"\")","v":""},{"$f":"IFERROR(INDEX(tblItemHidden[], MATCH(B117&\"-\"&LEFT(C117,FIND(\" - \",C117,1)-1), ItemCodeLookup, 0), 10) * $D117,\"\")","v":""}]
[null,{"$f":"IF(ISNA(VLOOKUP(A118,tblStyle[],3,0)),\"\",VLOOKUP(A118,tblStyle[],3,0))","v":""},null,null,{"$f":"IF(AND(tblOrder[[#This Row],[Size - Description]]<>\"\",$E117<>\"\",E117<>\"Tag\"),E117,\"\")","v":""},{"$f":"_xlfn.IFNA(_xlfn.XLOOKUP(tblOrder[[#This Row],[Size - Description]],tblItemHidden[ITEM CODE DESC],tblItemHidden[UNIT PRICE],,0,1),\"\")","v":""},{"$f":"IFERROR(tblOrder[[#This Row],[Qty]]*tblOrder[[#This Row],[Unit Price]],\"\")","v":""},{"$f":"IFERROR(INDEX(tblItemHidden[], MATCH(B118&\"-\"&LEFT(C118,FIND(\" - \",C118,1)-1), ItemCodeLookup, 0), 10) * $D118,\"\")","v":""}]
[null,{"$f":"IF(ISNA(VLOOKUP(A119,tblStyle[],3,0)),\"\",VLOOKUP(A119,tblStyle[],3,0))","v":""},null,null,{"$f":"IF(AND(tblOrder[[#This Row],[Size - Description]]<>\"\",$E118<>\"\",E118<>\"Tag\"),E118,\"\")","v":""},{"$f":"_xlfn.IFNA(_xlfn.XLOOKUP(tblOrder[[#This Row],[Size - Description]],tblItemHidden[ITEM CODE DESC],tblItemHidden[UNIT PRICE],,0,1),\"\")","v":""},{"$f":"IFERROR(tblOrder[[#This Row],[Qty]]*tblOrder[[#This Row],[Unit Price]],\"\")","v":""},{"$f":"IFERROR(INDEX(tblItemHidden[], MATCH(B119&\"-\"&LEFT(C119,FIND(\" - \",C119,1)-1), ItemCodeLookup, 0), 10) * $D119,\"\")","v":""}]
[null,{"$f":"IF(ISNA(VLOOKUP(A120,tblStyle[],3,0)),\"\",VLOOKUP(A120,tblStyle[],3,0))","v":""},null,null,{"$f":"IF(AND(tblOrder[[#This Row],[Size - Description]]<>\"\",$E119<>\"\",E119<>\"Tag\"),E119,\"\")","v":""},{"$f":"_xlfn.IFNA(_xlfn.XLOOKUP(tblOrder[[#This Row],[Size - Description]],tblItemHidden[ITEM CODE DESC],tblItemHidden[UNIT PRICE],,0,1),\"\")","v":""},{"$f":"IFERROR(tblOrder[[#This Row],[Qty]]*tblOrder[[#This Row],[Unit Price]],\"\")","v":""},{"$f":"IFERROR(INDEX(tblItemHidden[], MATCH(B120&\"-\"&LEFT(C120,FIND(\" - \",C120,1)-1), ItemCodeLookup, 0), 10) * $D120,\"\")","v":""}]
[null,{"$f":"IF(ISNA(VLOOKUP(A121,tblStyle[],3,0)),\"\",VLOOKUP(A121,tblStyle[],3,0))","v":""},null,null,{"$f":"IF(AND(tblOrder[[#This Row],[Size - Description]]<>\"\",$E120<>\"\",E120<>\"Tag\"),E120,\"\")","v":""},{"$f":"_xlfn.IFNA(_xlfn.XLOOKUP(tblOrder[[#This Row],[Size - Description]],tblItemHidden[ITEM CODE DESC],tblItemHidden[UNIT PRICE],,0,1),\"\")","v":""},{"$f":"IFERROR(tblOrder[[#This Row],[Qty]]*tblOrder[[#This Row],[Unit Price]],\"\")","v":""},{"$f":"IFERROR(INDEX(tblItemHidden[], MATCH(B121&\"-\"&LEFT(C121,FIND(\" - \",C121,1)-1), ItemCodeLookup, 0), 10) * $D121,\"\")","v":""}]
[null,{"$f":"IF(ISNA(VLOOKUP(A122,tblStyle[],3,0)),\"\",VLOOKUP(A122,tblStyle[],3,0))","v":""},null,null,{"$f":"IF(AND(tblOrder[[#This Row],[Size - Description]]<>\"\",$E121<>\"\",E121<>\"Tag\"),E121,\"\")","v":""},{"$f":"_xlfn.IFNA(_xlfn.XLOOKUP(tblOrder[[#This Row],[Size - Description]],tblItemHidden[ITEM CODE DESC],tblItemHidden[UNIT PRICE],,0,1),\"\")","v":""},{"$f":"IFERROR(tblOrder[[#This Row],[Qty]]*tblOrder[[#This Row],[Unit Price]],\"\")","v":""},{"$f":"IFERROR(INDEX(tblItemHidden[], MATCH(B122&\"-\"&LEFT(C122,FIND(\" - \",C122,1)-1), ItemCodeLookup, 0), 10) * $D122,\"\")","v":""}]
[null,{"$f":"IF(ISNA(VLOOKUP(A123,tblStyle[],3,0)),\"\",VLOOKUP(A123,tblStyle[],3,0))","v":""},null,null,{"$f":"IF(AND(tblOrder[[#This Row],[Size - Description]]<>\"\",$E122<>\"\",E122<>\"Tag\"),E122,\"\")","v":""},{"$f":"_xlfn.IFNA(_xlfn.XLOOKUP(tblOrder[[#This Row],[Size - Description]],tblItemHidden[ITEM CODE DESC],tblItemHidden[UNIT PRICE],,0,1),\"\")","v":""},{"$f":"IFERROR(tblOrder[[#This Row],[Qty]]*tblOrder[[#This Row],[Unit Price]],\"\")","v":""},{"$f":"IFERROR(INDEX(tblItemHidden[], MATCH(B123&\"-\"&LEFT(C123,FIND(\" - \",C123,1)-1), ItemCodeLookup, 0), 10) * $D123,\"\")","v":""}]
[null,{"$f":"IF(ISNA(VLOOKUP(A124,tblStyle[],3,0)),\"\",VLOOKUP(A124,tblStyle[],3,0))","v":""},null,null,{"$f":"IF(AND(tblOrder[[#This Row],[Size - Description]]<>\"\",$E123<>\"\",E123<>\"Tag\"),E123,\"\")","v":""},{"$f":"_xlfn.IFNA(_xlfn.XLOOKUP(tblOrder[[#This Row],[Size - Description]],tblItemHidden[ITEM CODE DESC],tblItemHidden[UNIT PRICE],,0,1),\"\")","v":""},{"$f":"IFERROR(tblOrder[[#This Row],[Qty]]*tblOrder[[#This Row],[Unit Price]],\"\")","v":""},{"$f":"IFERROR(INDEX(tblItemHidden[], MATCH(B124&\"-\"&LEFT(C124,FIND(\" - \",C124,1)-1), ItemCodeLookup, 0), 10) * $D124,\"\")","v":""}]
[null,{"$f":"IF(ISNA(VLOOKUP(A125,tblStyle[],3,0)),\"\",VLOOKUP(A125,tblStyle[],3,0))","v":""},null,null,{"$f":"IF(AND(tblOrder[[#This Row],[Size - Description]]<>\"\",$E124<>\"\",E124<>\"Tag\"),E124,\"\")","v":""},{"$f":"_xlfn.IFNA(_xlfn.XLOOKUP(tblOrder[[#This Row],[Size - Description]],tblItemHidden[ITEM CODE DESC],tblItemHidden[UNIT PRICE],,0,1),\"\")","v":""},{"$f":"IFERROR(tblOrder[[#This Row],[Qty]]*tblOrder[[#This Row],[Unit Price]],\"\")","v":""},{"$f":"IFERROR(INDEX(tblItemHidden[], MATCH(B125&\"-\"&LEFT(C125,FIND(\" - \",C125,1)-1), ItemCodeLookup, 0), 10) * $D125,\"\")","v":""}]
[null,{"$f":"IF(ISNA(VLOOKUP(A126,tblStyle[],3,0)),\"\",VLOOKUP(A126,tblStyle[],3,0))","v":""},null,null,{"$f":"IF(AND(tblOrder[[#This Row],[Size - Description]]<>\"\",$E125<>\"\",E125<>\"Tag\"),E125,\"\")","v":""},{"$f":"_xlfn.IFNA(_xlfn.XLOOKUP(tblOrder[[#This Row],[Size - Description]],tblItemHidden[ITEM CODE DESC],tblItemHidden[UNIT PRICE],,0,1),\"\")","v":""},{"$f":"IFERROR(tblOrder[[#This Row],[Qty]]*tblOrder[[#This Row],[Unit Price]],\"\")","v":""},{"$f":"IFERROR(INDEX(tblItemHidden[], MATCH(B126&\"-\"&LEFT(C126,FIND(\" - \",C126,1)-1), ItemCodeLookup, 0), 10) * $D126,\"\")","v":""}]
[null,{"$f":"IF(ISNA(VLOOKUP(A127,tblStyle[],3,0)),\"\",VLOOKUP(A127,tblStyle[],3,0))","v":""},null,null,{"$f":"IF(AND(tblOrder[[#This Row],[Size - Description]]<>\"\",$E126<>\"\",E126<>\"Tag\"),E126,\"\")","v":""},{"$f":"_xlfn.IFNA(_xlfn.XLOOKUP(tblOrder[[#This Row],[Size - Description]],tblItemHidden[ITEM CODE DESC],tblItemHidden[UNIT PRICE],,0,1),\"\")","v":""},{"$f":"IFERROR(tblOrder[[#This Row],[Qty]]*tblOrder[[#This Row],[Unit Price]],\"\")","v":""},{"$f":"IFERROR(INDEX(tblItemHidden[], MATCH(B127&\"-\"&LEFT(C127,FIND(\" - \",C127,1)-1), ItemCodeLookup, 0), 10) * $D127,\"\")","v":""}]
[null,{"$f":"IF(ISNA(VLOOKUP(A128,tblStyle[],3,0)),\"\",VLOOKUP(A128,tblStyle[],3,0))","v":""},null,null,{"$f":"IF(AND(tblOrder[[#This Row],[Size - Description]]<>\"\",$E127<>\"\",E127<>\"Tag\"),E127,\"\")","v":""},{"$f":"_xlfn.IFNA(_xlfn.XLOOKUP(tblOrder[[#This Row],[Size - Description]],tblItemHidden[ITEM CODE DESC],tblItemHidden[UNIT PRICE],,0,1),\"\")","v":""},{"$f":"IFERROR(tblOrder[[#This Row],[Qty]]*tblOrder[[#This Row],[Unit Price]],\"\")","v":""},{"$f":"IFERROR(INDEX(tblItemHidden[], MATCH(B128&\"-\"&LEFT(C128,FIND(\" - \",C128,1)-1), ItemCodeLookup, 0), 10) * $D128,\"\")","v":""}]
[null,{"$f":"IF(ISNA(VLOOKUP(A129,tblStyle[],3,0)),\"\",VLOOKUP(A129,tblStyle[],3,0))","v":""},null,null,{"$f":"IF(AND(tblOrder[[#This Row],[Size - Description]]<>\"\",$E128<>\"\",E128<>\"Tag\"),E128,\"\")","v":""},{"$f":"_xlfn.IFNA(_xlfn.XLOOKUP(tblOrder[[#This Row],[Size - Description]],tblItemHidden[ITEM CODE DESC],tblItemHidden[UNIT PRICE],,0,1),\"\")","v":""},{"$f":"IFERROR(tblOrder[[#This Row],[Qty]]*tblOrder[[#This Row],[Unit Price]],\"\")","v":""},{"$f":"IFERROR(INDEX(tblItemHidden[], MATCH(B129&\"-\"&LEFT(C129,FIND(\" - \",C129,1)-1), ItemCodeLookup, 0), 10) * $D129,\"\")","v":""}]
[null,{"$f":"IF(ISNA(VLOOKUP(A130,tblStyle[],3,0)),\"\",VLOOKUP(A130,tblStyle[],3,0))","v":""},null,null,{"$f":"IF(AND(tblOrder[[#This Row],[Size - Description]]<>\"\",$E129<>\"\",E129<>\"Tag\"),E129,\"\")","v":""},{"$f":"_xlfn.IFNA(_xlfn.XLOOKUP(tblOrder[[#This Row],[Size - Description]],tblItemHidden[ITEM CODE DESC],tblItemHidden[UNIT PRICE],,0,1),\"\")","v":""},{"$f":"IFERROR(tblOrder[[#This Row],[Qty]]*tblOrder[[#This Row],[Unit Price]],\"\")","v":""},{"$f":"IFERROR(INDEX(tblItemHidden[], MATCH(B130&\"-\"&LEFT(C130,FIND(\" - \",C130,1)-1), ItemCodeLookup, 0), 10) * $D130,\"\")","v":""}]
[null,{"$f":"IF(ISNA(VLOOKUP(A131,tblStyle[],3,0)),\"\",VLOOKUP(A131,tblStyle[],3,0))","v":""},null,null,{"$f":"IF(AND(tblOrder[[#This Row],[Size - Description]]<>\"\",$E130<>\"\",E130<>\"Tag\"),E130,\"\")","v":""},{"$f":"_xlfn.IFNA(_xlfn.XLOOKUP(tblOrder[[#This Row],[Size - Description]],tblItemHidden[ITEM CODE DESC],tblItemHidden[UNIT PRICE],,0,1),\"\")","v":""},{"$f":"IFERROR(tblOrder[[#This Row],[Qty]]*tblOrder[[#This Row],[Unit Price]],\"\")","v":""},{"$f":"IFERROR(INDEX(tblItemHidden[], MATCH(B131&\"-\"&LEFT(C131,FIND(\" - \",C131,1)-1), ItemCodeLookup, 0), 10) * $D131,\"\")","v":""}]
[null,{"$f":"IF(ISNA(VLOOKUP(A132,tblStyle[],3,0)),\"\",VLOOKUP(A132,tblStyle[],3,0))","v":""},null,null,{"$f":"IF(AND(tblOrder[[#This Row],[Size - Description]]<>\"\",$E131<>\"\",E131<>\"Tag\"),E131,\"\")","v":""},{"$f":"_xlfn.IFNA(_xlfn.XLOOKUP(tblOrder[[#This Row],[Size - Description]],tblItemHidden[ITEM CODE DESC],tblItemHidden[UNIT PRICE],,0,1),\"\")","v":""},{"$f":"IFERROR(tblOrder[[#This Row],[Qty]]*tblOrder[[#This Row],[Unit Price]],\"\")","v":""},{"$f":"IFERROR(INDEX(tblItemHidden[], MATCH(B132&\"-\"&LEFT(C132,FIND(\" - \",C132,1)-1), ItemCodeLookup, 0), 10) * $D132,\"\")","v":""}]
[null,{"$f":"IF(ISNA(VLOOKUP(A133,tblStyle[],3,0)),\"\",VLOOKUP(A133,tblStyle[],3,0))","v":""},null,null,{"$f":"IF(AND(tblOrder[[#This Row],[Size - Description]]<>\"\",$E132<>\"\",E132<>\"Tag\"),E132,\"\")","v":""},{"$f":"_xlfn.IFNA(_xlfn.XLOOKUP(tblOrder[[#This Row],[Size - Description]],tblItemHidden[ITEM CODE DESC],tblItemHidden[UNIT PRICE],,0,1),\"\")","v":""},{"$f":"IFERROR(tblOrder[[#This Row],[Qty]]*tblOrder[[#This Row],[Unit Price]],\"\")","v":""},{"$f":"IFERROR(INDEX(tblItemHidden[], MATCH(B133&\"-\"&LEFT(C133,FIND(\" - \",C133,1)-1), ItemCodeLookup, 0), 10) * $D133,\"\")","v":""}]
[null,{"$f":"IF(ISNA(VLOOKUP(A134,tblStyle[],3,0)),\"\",VLOOKUP(A134,tblStyle[],3,0))","v":""},null,null,{"$f":"IF(AND(tblOrder[[#This Row],[Size - Description]]<>\"\",$E133<>\"\",E133<>\"Tag\"),E133,\"\")","v":""},{"$f":"_xlfn.IFNA(_xlfn.XLOOKUP(tblOrder[[#This Row],[Size - Description]],tblItemHidden[ITEM CODE DESC],tblItemHidden[UNIT PRICE],,0,1),\"\")","v":""},{"$f":"IFERROR(tblOrder[[#This Row],[Qty]]*tblOrder[[#This Row],[Unit Price]],\"\")","v":""},{"$f":"IFERROR(INDEX(tblItemHidden[], MATCH(B134&\"-\"&LEFT(C134,FIND(\" - \",C134,1)-1), ItemCodeLookup, 0), 10) * $D134,\"\")","v":""}]
[null,{"$f":"IF(ISNA(VLOOKUP(A135,tblStyle[],3,0)),\"\",VLOOKUP(A135,tblStyle[],3,0))","v":""},null,null,{"$f":"IF(AND(tblOrder[[#This Row],[Size - Description]]<>\"\",$E134<>\"\",E134<>\"Tag\"),E134,\"\")","v":""},{"$f":"_xlfn.IFNA(_xlfn.XLOOKUP(tblOrder[[#This Row],[Size - Description]],tblItemHidden[ITEM CODE DESC],tblItemHidden[UNIT PRICE],,0,1),\"\")","v":""},{"$f":"IFERROR(tblOrder[[#This Row],[Qty]]*tblOrder[[#This Row],[Unit Price]],\"\")","v":""},{"$f":"IFERROR(INDEX(tblItemHidden[], MATCH(B135&\"-\"&LEFT(C135,FIND(\" - \",C135,1)-1), ItemCodeLookup, 0), 10) * $D135,\"\")","v":""}]
[null,{"$f":"IF(ISNA(VLOOKUP(A136,tblStyle[],3,0)),\"\",VLOOKUP(A136,tblStyle[],3,0))","v":""},null,null,{"$f":"IF(AND(tblOrder[[#This Row],[Size - Description]]<>\"\",$E135<>\"\",E135<>\"Tag\"),E135,\"\")","v":""},{"$f":"_xlfn.IFNA(_xlfn.XLOOKUP(tblOrder[[#This Row],[Size - Description]],tblItemHidden[ITEM CODE DESC],tblItemHidden[UNIT PRICE],,0,1),\"\")","v":""},{"$f":"IFERROR(tblOrder[[#This Row],[Qty]]*tblOrder[[#This Row],[Unit Price]],\"\")","v":""},{"$f":"IFERROR(INDEX(tblItemHidden[], MATCH(B136&\"-\"&LEFT(C136,FIND(\" - \",C136,1)-1), ItemCodeLookup, 0), 10) * $D136,\"\")","v":""}]
[null,{"$f":"IF(ISNA(VLOOKUP(A137,tblStyle[],3,0)),\"\",VLOOKUP(A137,tblStyle[],3,0))","v":""},null,null,{"$f":"IF(AND(tblOrder[[#This Row],[Size - Description]]<>\"\",$E136<>\"\",E136<>\"Tag\"),E136,\"\")","v":""},{"$f":"_xlfn.IFNA(_xlfn.XLOOKUP(tblOrder[[#This Row],[Size - Description]],tblItemHidden[ITEM CODE DESC],tblItemHidden[UNIT PRICE],,0,1),\"\")","v":""},{"$f":"IFERROR(tblOrder[[#This Row],[Qty]]*tblOrder[[#This Row],[Unit Price]],\"\")","v":""},{"$f":"IFERROR(INDEX(tblItemHidden[], MATCH(B137&\"-\"&LEFT(C137,FIND(\" - \",C137,1)-1), ItemCodeLookup, 0), 10) * $D137,\"\")","v":""}]
[null,{"$f":"IF(ISNA(VLOOKUP(A138,tblStyle[],3,0)),\"\",VLOOKUP(A138,tblStyle[],3,0))","v":""},null,null,{"$f":"IF(AND(tblOrder[[#This Row],[Size - Description]]<>\"\",$E137<>\"\",E137<>\"Tag\"),E137,\"\")","v":""},{"$f":"_xlfn.IFNA(_xlfn.XLOOKUP(tblOrder[[#This Row],[Size - Description]],tblItemHidden[ITEM CODE DESC],tblItemHidden[UNIT PRICE],,0,1),\"\")","v":""},{"$f":"IFERROR(tblOrder[[#This Row],[Qty]]*tblOrder[[#This Row],[Unit Price]],\"\")","v":""},{"$f":"IFERROR(INDEX(tblItemHidden[], MATCH(B138&\"-\"&LEFT(C138,FIND(\" - \",C138,1)-1), ItemCodeLookup, 0), 10) * $D138,\"\")","v":""}]
[null,{"$f":"IF(ISNA(VLOOKUP(A139,tblStyle[],3,0)),\"\",VLOOKUP(A139,tblStyle[],3,0))","v":""},null,null,{"$f":"IF(AND(tblOrder[[#This Row],[Size - Description]]<>\"\",$E138<>\"\",E138<>\"Tag\"),E138,\"\")","v":""},{"$f":"_xlfn.IFNA(_xlfn.XLOOKUP(tblOrder[[#This Row],[Size - Description]],tblItemHidden[ITEM CODE DESC],tblItemHidden[UNIT PRICE],,0,1),\"\")","v":""},{"$f":"IFERROR(tblOrder[[#This Row],[Qty]]*tblOrder[[#This Row],[Unit Price]],\"\")","v":""},{"$f":"IFERROR(INDEX(tblItemHidden[], MATCH(B139&\"-\"&LEFT(C139,FIND(\" - \",C139,1)-1), ItemCodeLookup, 0), 10) * $D139,\"\")","v":""}]
[null,{"$f":"IF(ISNA(VLOOKUP(A140,tblStyle[],3,0)),\"\",VLOOKUP(A140,tblStyle[],3,0))","v":""},null,null,{"$f":"IF(AND(tblOrder[[#This Row],[Size - Description]]<>\"\",$E139<>\"\",E139<>\"Tag\"),E139,\"\")","v":""},{"$f":"_xlfn.IFNA(_xlfn.XLOOKUP(tblOrder[[#This Row],[Size - Description]],tblItemHidden[ITEM CODE DESC],tblItemHidden[UNIT PRICE],,0,1),\"\")","v":""},{"$f":"IFERROR(tblOrder[[#This Row],[Qty]]*tblOrder[[#This Row],[Unit Price]],\"\")","v":""},{"$f":"IFERROR(INDEX(tblItemHidden[], MATCH(B140&\"-\"&LEFT(C140,FIND(\" - \",C140,1)-1), ItemCodeLookup, 0), 10) * $D140,\"\")","v":""}]
[null,{"$f":"IF(ISNA(VLOOKUP(A141,tblStyle[],3,0)),\"\",VLOOKUP(A141,tblStyle[],3,0))","v":""},null,null,{"$f":"IF(AND(tblOrder[[#This Row],[Size - Description]]<>\"\",$E140<>\"\",E140<>\"Tag\"),E140,\"\")","v":""},{"$f":"_xlfn.IFNA(_xlfn.XLOOKUP(tblOrder[[#This Row],[Size - Description]],tblItemHidden[ITEM CODE DESC],tblItemHidden[UNIT PRICE],,0,1),\"\")","v":""},{"$f":"IFERROR(tblOrder[[#This Row],[Qty]]*tblOrder[[#This Row],[Unit Price]],\"\")","v":""},{"$f":"IFERROR(INDEX(tblItemHidden[], MATCH(B141&\"-\"&LEFT(C141,FIND(\" - \",C141,1)-1), ItemCodeLookup, 0), 10) * $D141,\"\")","v":""}]
[null,{"$f":"IF(ISNA(VLOOKUP(A142,tblStyle[],3,0)),\"\",VLOOKUP(A142,tblStyle[],3,0))","v":""},null,null,{"$f":"IF(AND(tblOrder[[#This Row],[Size - Description]]<>\"\",$E141<>\"\",E141<>\"Tag\"),E141,\"\")","v":""},{"$f":"_xlfn.IFNA(_xlfn.XLOOKUP(tblOrder[[#This Row],[Size - Description]],tblItemHidden[ITEM CODE DESC],tblItemHidden[UNIT PRICE],,0,1),\"\")","v":""},{"$f":"IFERROR(tblOrder[[#This Row],[Qty]]*tblOrder[[#This Row],[Unit Price]],\"\")","v":""},{"$f":"IFERROR(INDEX(tblItemHidden[], MATCH(B142&\"-\"&LEFT(C142,FIND(\" - \",C142,1)-1), ItemCodeLookup, 0), 10) * $D142,\"\")","v":""}]
[null,{"$f":"IF(ISNA(VLOOKUP(A143,tblStyle[],3,0)),\"\",VLOOKUP(A143,tblStyle[],3,0))","v":""},null,null,{"$f":"IF(AND(tblOrder[[#This Row],[Size - Description]]<>\"\",$E142<>\"\",E142<>\"Tag\"),E142,\"\")","v":""},{"$f":"_xlfn.IFNA(_xlfn.XLOOKUP(tblOrder[[#This Row],[Size - Description]],tblItemHidden[ITEM CODE DESC],tblItemHidden[UNIT PRICE],,0,1),\"\")","v":""},{"$f":"IFERROR(tblOrder[[#This Row],[Qty]]*tblOrder[[#This Row],[Unit Price]],\"\")","v":""},{"$f":"IFERROR(INDEX(tblItemHidden[], MATCH(B143&\"-\"&LEFT(C143,FIND(\" - \",C143,1)-1), ItemCodeLookup, 0), 10) * $D143,\"\")","v":""}]
[null,{"$f":"IF(ISNA(VLOOKUP(A144,tblStyle[],3,0)),\"\",VLOOKUP(A144,tblStyle[],3,0))","v":""},null,null,{"$f":"IF(AND(tblOrder[[#This Row],[Size - Description]]<>\"\",$E143<>\"\",E143<>\"Tag\"),E143,\"\")","v":""},{"$f":"_xlfn.IFNA(_xlfn.XLOOKUP(tblOrder[[#This Row],[Size - Description]],tblItemHidden[ITEM CODE DESC],tblItemHidden[UNIT PRICE],,0,1),\"\")","v":""},{"$f":"IFERROR(tblOrder[[#This Row],[Qty]]*tblOrder[[#This Row],[Unit Price]],\"\")","v":""},{"$f":"IFERROR(INDEX(tblItemHidden[], MATCH(B144&\"-\"&LEFT(C144,FIND(\" - \",C144,1)-1), ItemCodeLookup, 0), 10) * $D144,\"\")","v":""}]
[null,{"$f":"IF(ISNA(VLOOKUP(A145,tblStyle[],3,0)),\"\",VLOOKUP(A145,tblStyle[],3,0))","v":""},null,null,{"$f":"IF(AND(tblOrder[[#This Row],[Size - Description]]<>\"\",$E144<>\"\",E144<>\"Tag\"),E144,\"\")","v":""},{"$f":"_xlfn.IFNA(_xlfn.XLOOKUP(tblOrder[[#This Row],[Size - Description]],tblItemHidden[ITEM CODE DESC],tblItemHidden[UNIT PRICE],,0,1),\"\")","v":""},{"$f":"IFERROR(tblOrder[[#This Row],[Qty]]*tblOrder[[#This Row],[Unit Price]],\"\")","v":""},{"$f":"IFERROR(INDEX(tblItemHidden[], MATCH(B145&\"-\"&LEFT(C145,FIND(\" - \",C145,1)-1), ItemCodeLookup, 0), 10) * $D145,\"\")","v":""}]
[null,{"$f":"IF(ISNA(VLOOKUP(A146,tblStyle[],3,0)),\"\",VLOOKUP(A146,tblStyle[],3,0))","v":""},null,null,{"$f":"IF(AND(tblOrder[[#This Row],[Size - Description]]<>\"\",$E145<>\"\",E145<>\"Tag\"),E145,\"\")","v":""},{"$f":"_xlfn.IFNA(_xlfn.XLOOKUP(tblOrder[[#This Row],[Size - Description]],tblItemHidden[ITEM CODE DESC],tblItemHidden[UNIT PRICE],,0,1),\"\")","v":""},{"$f":"IFERROR(tblOrder[[#This Row],[Qty]]*tblOrder[[#This Row],[Unit Price]],\"\")","v":""},{"$f":"IFERROR(INDEX(tblItemHidden[], MATCH(B146&\"-\"&LEFT(C146,FIND(\" - \",C146,1)-1), ItemCodeLookup, 0), 10) * $D146,\"\")","v":""}]
[null,{"$f":"IF(ISNA(VLOOKUP(A147,tblStyle[],3,0)),\"\",VLOOKUP(A147,tblStyle[],3,0))","v":""},null,null,{"$f":"IF(AND(tblOrder[[#This Row],[Size - Description]]<>\"\",$E146<>\"\",E146<>\"Tag\"),E146,\"\")","v":""},{"$f":"_xlfn.IFNA(_xlfn.XLOOKUP(tblOrder[[#This Row],[Size - Description]],tblItemHidden[ITEM CODE DESC],tblItemHidden[UNIT PRICE],,0,1),\"\")","v":""},{"$f":"IFERROR(tblOrder[[#This Row],[Qty]]*tblOrder[[#This Row],[Unit Price]],\"\")","v":""},{"$f":"IFERROR(INDEX(tblItemHidden[], MATCH(B147&\"-\"&LEFT(C147,FIND(\" - \",C147,1)-1), ItemCodeLookup, 0), 10) * $D147,\"\")","v":""}]
[null,{"$f":"IF(ISNA(VLOOKUP(A148,tblStyle[],3,0)),\"\",VLOOKUP(A148,tblStyle[],3,0))","v":""},null,null,{"$f":"IF(AND(tblOrder[[#This Row],[Size - Description]]<>\"\",$E147<>\"\",E147<>\"Tag\"),E147,\"\")","v":""},{"$f":"_xlfn.IFNA(_xlfn.XLOOKUP(tblOrder[[#This Row],[Size - Description]],tblItemHidden[ITEM CODE DESC],tblItemHidden[UNIT PRICE],,0,1),\"\")","v":""},{"$f":"IFERROR(tblOrder[[#This Row],[Qty]]*tblOrder[[#This Row],[Unit Price]],\"\")","v":""},{"$f":"IFERROR(INDEX(tblItemHidden[], MATCH(B148&\"-\"&LEFT(C148,FIND(\" - \",C148,1)-1), ItemCodeLookup, 0), 10) * $D148,\"\")","v":""}]
[null,{"$f":"IF(ISNA(VLOOKUP(A149,tblStyle[],3,0)),\"\",VLOOKUP(A149,tblStyle[],3,0))","v":""},null,null,{"$f":"IF(AND(tblOrder[[#This Row],[Size - Description]]<>\"\",$E148<>\"\",E148<>\"Tag\"),E148,\"\")","v":""},{"$f":"_xlfn.IFNA(_xlfn.XLOOKUP(tblOrder[[#This Row],[Size - Description]],tblItemHidden[ITEM CODE DESC],tblItemHidden[UNIT PRICE],,0,1),\"\")","v":""},{"$f":"IFERROR(tblOrder[[#This Row],[Qty]]*tblOrder[[#This Row],[Unit Price]],\"\")","v":""},{"$f":"IFERROR(INDEX(tblItemHidden[], MATCH(B149&\"-\"&LEFT(C149,FIND(\" - \",C149,1)-1), ItemCodeLookup, 0), 10) * $D149,\"\")","v":""}]
[null,{"$f":"IF(ISNA(VLOOKUP(A150,tblStyle[],3,0)),\"\",VLOOKUP(A150,tblStyle[],3,0))","v":""},null,null,{"$f":"IF(AND(tblOrder[[#This Row],[Size - Description]]<>\"\",$E149<>\"\",E149<>\"Tag\"),E149,\"\")","v":""},{"$f":"_xlfn.IFNA(_xlfn.XLOOKUP(tblOrder[[#This Row],[Size - Description]],tblItemHidden[ITEM CODE DESC],tblItemHidden[UNIT PRICE],,0,1),\"\")","v":""},{"$f":"IFERROR(tblOrder[[#This Row],[Qty]]*tblOrder[[#This Row],[Unit Price]],\"\")","v":""},{"$f":"IFERROR(INDEX(tblItemHidden[], MATCH(B150&\"-\"&LEFT(C150,FIND(\" - \",C150,1)-1), ItemCodeLookup, 0), 10) * $D150,\"\")","v":""}]
[null,{"$f":"IF(ISNA(VLOOKUP(A151,tblStyle[],3,0)),\"\",VLOOKUP(A151,tblStyle[],3,0))","v":""},null,null,{"$f":"IF(AND(tblOrder[[#This Row],[Size - Description]]<>\"\",$E150<>\"\",E150<>\"Tag\"),E150,\"\")","v":""},{"$f":"_xlfn.IFNA(_xlfn.XLOOKUP(tblOrder[[#This Row],[Size - Description]],tblItemHidden[ITEM CODE DESC],tblItemHidden[UNIT PRICE],,0,1),\"\")","v":""},{"$f":"IFERROR(tblOrder[[#This Row],[Qty]]*tblOrder[[#This Row],[Unit Price]],\"\")","v":""},{"$f":"IFERROR(INDEX(tblItemHidden[], MATCH(B151&\"-\"&LEFT(C151,FIND(\" - \",C151,1)-1), ItemCodeLookup, 0), 10) * $D151,\"\")","v":""}]
[null,{"$f":"IF(ISNA(VLOOKUP(A152,tblStyle[],3,0)),\"\",VLOOKUP(A152,tblStyle[],3,0))","v":""},null,null,{"$f":"IF(AND(tblOrder[[#This Row],[Size - Description]]<>\"\",$E151<>\"\",E151<>\"Tag\"),E151,\"\")","v":""},{"$f":"_xlfn.IFNA(_xlfn.XLOOKUP(tblOrder[[#This Row],[Size - Description]],tblItemHidden[ITEM CODE DESC],tblItemHidden[UNIT PRICE],,0,1),\"\")","v":""},{"$f":"IFERROR(tblOrder[[#This Row],[Qty]]*tblOrder[[#This Row],[Unit Price]],\"\")","v":""},{"$f":"IFERROR(INDEX(tblItemHidden[], MATCH(B152&\"-\"&LEFT(C152,FIND(\" - \",C152,1)-1), ItemCodeLookup, 0), 10) * $D152,\"\")","v":""}]
[null,{"$f":"IF(ISNA(VLOOKUP(A153,tblStyle[],3,0)),\"\",VLOOKUP(A153,tblStyle[],3,0))","v":""},null,null,{"$f":"IF(AND(tblOrder[[#This Row],[Size - Description]]<>\"\",$E152<>\"\",E152<>\"Tag\"),E152,\"\")","v":""},{"$f":"_xlfn.IFNA(_xlfn.XLOOKUP(tblOrder[[#This Row],[Size - Description]],tblItemHidden[ITEM CODE DESC],tblItemHidden[UNIT PRICE],,0,1),\"\")","v":""},{"$f":"IFERROR(tblOrder[[#This Row],[Qty]]*tblOrder[[#This Row],[Unit Price]],\"\")","v":""},{"$f":"IFERROR(INDEX(tblItemHidden[], MATCH(B153&\"-\"&LEFT(C153,FIND(\" - \",C153,1)-1), ItemCodeLookup, 0), 10) * $D153,\"\")","v":""}]
[null,{"$f":"IF(ISNA(VLOOKUP(A154,tblStyle[],3,0)),\"\",VLOOKUP(A154,tblStyle[],3,0))","v":""},null,null,{"$f":"IF(AND(tblOrder[[#This Row],[Size - Description]]<>\"\",$E153<>\"\",E153<>\"Tag\"),E153,\"\")","v":""},{"$f":"_xlfn.IFNA(_xlfn.XLOOKUP(tblOrder[[#This Row],[Size - Description]],tblItemHidden[ITEM CODE DESC],tblItemHidden[UNIT PRICE],,0,1),\"\")","v":""},{"$f":"IFERROR(tblOrder[[#This Row],[Qty]]*tblOrder[[#This Row],[Unit Price]],\"\")","v":""},{"$f":"IFERROR(INDEX(tblItemHidden[], MATCH(B154&\"-\"&LEFT(C154,FIND(\" - \",C154,1)-1), ItemCodeLookup, 0), 10) * $D154,\"\")","v":""}]
[null,{"$f":"IF(ISNA(VLOOKUP(A155,tblStyle[],3,0)),\"\",VLOOKUP(A155,tblStyle[],3,0))","v":""},null,null,{"$f":"IF(AND(tblOrder[[#This Row],[Size - Description]]<>\"\",$E154<>\"\",E154<>\"Tag\"),E154,\"\")","v":""},{"$f":"_xlfn.IFNA(_xlfn.XLOOKUP(tblOrder[[#This Row],[Size - Description]],tblItemHidden[ITEM CODE DESC],tblItemHidden[UNIT PRICE],,0,1),\"\")","v":""},{"$f":"IFERROR(tblOrder[[#This Row],[Qty]]*tblOrder[[#This Row],[Unit Price]],\"\")","v":""},{"$f":"IFERROR(INDEX(tblItemHidden[], MATCH(B155&\"-\"&LEFT(C155,FIND(\" - \",C155,1)-1), ItemCodeLookup, 0), 10) * $D155,\"\")","v":""}]
[null,{"$f":"IF(ISNA(VLOOKUP(A156,tblStyle[],3,0)),\"\",VLOOKUP(A156,tblStyle[],3,0))","v":""},null,null,{"$f":"IF(AND(tblOrder[[#This Row],[Size - Description]]<>\"\",$E155<>\"\",E155<>\"Tag\"),E155,\"\")","v":""},{"$f":"_xlfn.IFNA(_xlfn.XLOOKUP(tblOrder[[#This Row],[Size - Description]],tblItemHidden[ITEM CODE DESC],tblItemHidden[UNIT PRICE],,0,1),\"\")","v":""},{"$f":"IFERROR(tblOrder[[#This Row],[Qty]]*tblOrder[[#This Row],[Unit Price]],\"\")","v":""},{"$f":"IFERROR(INDEX(tblItemHidden[], MATCH(B156&\"-\"&LEFT(C156,FIND(\" - \",C156,1)-1), ItemCodeLookup, 0), 10) * $D156,\"\")","v":""}]
[null,{"$f":"IF(ISNA(VLOOKUP(A157,tblStyle[],3,0)),\"\",VLOOKUP(A157,tblStyle[],3,0))","v":""},null,null,{"$f":"IF(AND(tblOrder[[#This Row],[Size - Description]]<>\"\",$E156<>\"\",E156<>\"Tag\"),E156,\"\")","v":""},{"$f":"_xlfn.IFNA(_xlfn.XLOOKUP(tblOrder[[#This Row],[Size - Description]],tblItemHidden[ITEM CODE DESC],tblItemHidden[UNIT PRICE],,0,1),\"\")","v":""},{"$f":"IFERROR(tblOrder[[#This Row],[Qty]]*tblOrder[[#This Row],[Unit Price]],\"\")","v":""},{"$f":"IFERROR(INDEX(tblItemHidden[], MATCH(B157&\"-\"&LEFT(C157,FIND(\" - \",C157,1)-1), ItemCodeLookup, 0), 10) * $D157,\"\")","v":""}]
[null,{"$f":"IF(ISNA(VLOOKUP(A158,tblStyle[],3,0)),\"\",VLOOKUP(A158,tblStyle[],3,0))","v":""},null,null,{"$f":"IF(AND(tblOrder[[#This Row],[Size - Description]]<>\"\",$E157<>\"\",E157<>\"Tag\"),E157,\"\")","v":""},{"$f":"_xlfn.IFNA(_xlfn.XLOOKUP(tblOrder[[#This Row],[Size - Description]],tblItemHidden[ITEM CODE DESC],tblItemHidden[UNIT PRICE],,0,1),\"\")","v":""},{"$f":"IFERROR(tblOrder[[#This Row],[Qty]]*tblOrder[[#This Row],[Unit Price]],\"\")","v":""},{"$f":"IFERROR(INDEX(tblItemHidden[], MATCH(B158&\"-\"&LEFT(C158,FIND(\" - \",C158,1)-1), ItemCodeLookup, 0), 10) * $D158,\"\")","v":""}]
[null,{"$f":"IF(ISNA(VLOOKUP(A159,tblStyle[],3,0)),\"\",VLOOKUP(A159,tblStyle[],3,0))","v":""},null,null,{"$f":"IF(AND(tblOrder[[#This Row],[Size - Description]]<>\"\",$E158<>\"\",E158<>\"Tag\"),E158,\"\")","v":""},{"$f":"_xlfn.IFNA(_xlfn.XLOOKUP(tblOrder[[#This Row],[Size - Description]],tblItemHidden[ITEM CODE DESC],tblItemHidden[UNIT PRICE],,0,1),\"\")","v":""},{"$f":"IFERROR(tblOrder[[#This Row],[Qty]]*tblOrder[[#This Row],[Unit Price]],\"\")","v":""},{"$f":"IFERROR(INDEX(tblItemHidden[], MATCH(B159&\"-\"&LEFT(C159,FIND(\" - \",C159,1)-1), ItemCodeLookup, 0), 10) * $D159,\"\")","v":""}]
[null,{"$f":"IF(ISNA(VLOOKUP(A160,tblStyle[],3,0)),\"\",VLOOKUP(A160,tblStyle[],3,0))","v":""},null,null,{"$f":"IF(AND(tblOrder[[#This Row],[Size - Description]]<>\"\",$E159<>\"\",E159<>\"Tag\"),E159,\"\")","v":""},{"$f":"_xlfn.IFNA(_xlfn.XLOOKUP(tblOrder[[#This Row],[Size - Description]],tblItemHidden[ITEM CODE DESC],tblItemHidden[UNIT PRICE],,0,1),\"\")","v":""},{"$f":"IFERROR(tblOrder[[#This Row],[Qty]]*tblOrder[[#This Row],[Unit Price]],\"\")","v":""},{"$f":"IFERROR(INDEX(tblItemHidden[], MATCH(B160&\"-\"&LEFT(C160,FIND(\" - \",C160,1)-1), ItemCodeLookup, 0), 10) * $D160,\"\")","v":""}]
[null,{"$f":"IF(ISNA(VLOOKUP(A161,tblStyle[],3,0)),\"\",VLOOKUP(A161,tblStyle[],3,0))","v":""},null,null,{"$f":"IF(AND(tblOrder[[#This Row],[Size - Description]]<>\"\",$E160<>\"\",E160<>\"Tag\"),E160,\"\")","v":""},{"$f":"_xlfn.IFNA(_xlfn.XLOOKUP(tblOrder[[#This Row],[Size - Description]],tblItemHidden[ITEM CODE DESC],tblItemHidden[UNIT PRICE],,0,1),\"\")","v":""},{"$f":"IFERROR(tblOrder[[#This Row],[Qty]]*tblOrder[[#This Row],[Unit Price]],\"\")","v":""},{"$f":"IFERROR(INDEX(tblItemHidden[], MATCH(B161&\"-\"&LEFT(C161,FIND(\" - \",C161,1)-1), ItemCodeLookup, 0), 10) * $D161,\"\")","v":""}]
[null,{"$f":"IF(ISNA(VLOOKUP(A162,tblStyle[],3,0)),\"\",VLOOKUP(A162,tblStyle[],3,0))","v":""},null,null,{"$f":"IF(AND(tblOrder[[#This Row],[Size - Description]]<>\"\",$E161<>\"\",E161<>\"Tag\"),E161,\"\")","v":""},{"$f":"_xlfn.IFNA(_xlfn.XLOOKUP(tblOrder[[#This Row],[Size - Description]],tblItemHidden[ITEM CODE DESC],tblItemHidden[UNIT PRICE],,0,1),\"\")","v":""},{"$f":"IFERROR(tblOrder[[#This Row],[Qty]]*tblOrder[[#This Row],[Unit Price]],\"\")","v":""},{"$f":"IFERROR(INDEX(tblItemHidden[], MATCH(B162&\"-\"&LEFT(C162,FIND(\" - \",C162,1)-1), ItemCodeLookup, 0), 10) * $D162,\"\")","v":""}]
[null,{"$f":"IF(ISNA(VLOOKUP(A163,tblStyle[],3,0)),\"\",VLOOKUP(A163,tblStyle[],3,0))","v":""},null,null,{"$f":"IF(AND(tblOrder[[#This Row],[Size - Description]]<>\"\",$E162<>\"\",E162<>\"Tag\"),E162,\"\")","v":""},{"$f":"_xlfn.IFNA(_xlfn.XLOOKUP(tblOrder[[#This Row],[Size - Description]],tblItemHidden[ITEM CODE DESC],tblItemHidden[UNIT PRICE],,0,1),\"\")","v":""},{"$f":"IFERROR(tblOrder[[#This Row],[Qty]]*tblOrder[[#This Row],[Unit Price]],\"\")","v":""},{"$f":"IFERROR(INDEX(tblItemHidden[], MATCH(B163&\"-\"&LEFT(C163,FIND(\" - \",C163,1)-1), ItemCodeLookup, 0), 10) * $D163,\"\")","v":""}]
[null,{"$f":"IF(ISNA(VLOOKUP(A164,tblStyle[],3,0)),\"\",VLOOKUP(A164,tblStyle[],3,0))","v":""},null,null,{"$f":"IF(AND(tblOrder[[#This Row],[Size - Description]]<>\"\",$E163<>\"\",E163<>\"Tag\"),E163,\"\")","v":""},{"$f":"_xlfn.IFNA(_xlfn.XLOOKUP(tblOrder[[#This Row],[Size - Description]],tblItemHidden[ITEM CODE DESC],tblItemHidden[UNIT PRICE],,0,1),\"\")","v":""},{"$f":"IFERROR(tblOrder[[#This Row],[Qty]]*tblOrder[[#This Row],[Unit Price]],\"\")","v":""},{"$f":"IFERROR(INDEX(tblItemHidden[], MATCH(B164&\"-\"&LEFT(C164,FIND(\" - \",C164,1)-1), ItemCodeLookup, 0), 10) * $D164,\"\")","v":""}]
[null,{"$f":"IF(ISNA(VLOOKUP(A165,tblStyle[],3,0)),\"\",VLOOKUP(A165,tblStyle[],3,0))","v":""},null,null,{"$f":"IF(AND(tblOrder[[#This Row],[Size - Description]]<>\"\",$E164<>\"\",E164<>\"Tag\"),E164,\"\")","v":""},{"$f":"_xlfn.IFNA(_xlfn.XLOOKUP(tblOrder[[#This Row],[Size - Description]],tblItemHidden[ITEM CODE DESC],tblItemHidden[UNIT PRICE],,0,1),\"\")","v":""},{"$f":"IFERROR(tblOrder[[#This Row],[Qty]]*tblOrder[[#This Row],[Unit Price]],\"\")","v":""},{"$f":"IFERROR(INDEX(tblItemHidden[], MATCH(B165&\"-\"&LEFT(C165,FIND(\" - \",C165,1)-1), ItemCodeLookup, 0), 10) * $D165,\"\")","v":""}]
[null,{"$f":"IF(ISNA(VLOOKUP(A166,tblStyle[],3,0)),\"\",VLOOKUP(A166,tblStyle[],3,0))","v":""},null,null,{"$f":"IF(AND(tblOrder[[#This Row],[Size - Description]]<>\"\",$E165<>\"\",E165<>\"Tag\"),E165,\"\")","v":""},{"$f":"_xlfn.IFNA(_xlfn.XLOOKUP(tblOrder[[#This Row],[Size - Description]],tblItemHidden[ITEM CODE DESC],tblItemHidden[UNIT PRICE],,0,1),\"\")","v":""},{"$f":"IFERROR(tblOrder[[#This Row],[Qty]]*tblOrder[[#This Row],[Unit Price]],\"\")","v":""},{"$f":"IFERROR(INDEX(tblItemHidden[], MATCH(B166&\"-\"&LEFT(C166,FIND(\" - \",C166,1)-1), ItemCodeLookup, 0), 10) * $D166,\"\")","v":""}]
[null,{"$f":"IF(ISNA(VLOOKUP(A167,tblStyle[],3,0)),\"\",VLOOKUP(A167,tblStyle[],3,0))","v":""},null,null,{"$f":"IF(AND(tblOrder[[#This Row],[Size - Description]]<>\"\",$E166<>\"\",E166<>\"Tag\"),E166,\"\")","v":""},{"$f":"_xlfn.IFNA(_xlfn.XLOOKUP(tblOrder[[#This Row],[Size - Description]],tblItemHidden[ITEM CODE DESC],tblItemHidden[UNIT PRICE],,0,1),\"\")","v":""},{"$f":"IFERROR(tblOrder[[#This Row],[Qty]]*tblOrder[[#This Row],[Unit Price]],\"\")","v":""},{"$f":"IFERROR(INDEX(tblItemHidden[], MATCH(B167&\"-\"&LEFT(C167,FIND(\" - \",C167,1)-1), ItemCodeLookup, 0), 10) * $D167,\"\")","v":""}]
[null,{"$f":"IF(ISNA(VLOOKUP(A168,tblStyle[],3,0)),\"\",VLOOKUP(A168,tblStyle[],3,0))","v":""},null,null,{"$f":"IF(AND(tblOrder[[#This Row],[Size - Description]]<>\"\",$E167<>\"\",E167<>\"Tag\"),E167,\"\")","v":""},{"$f":"_xlfn.IFNA(_xlfn.XLOOKUP(tblOrder[[#This Row],[Size - Description]],tblItemHidden[ITEM CODE DESC],tblItemHidden[UNIT PRICE],,0,1),\"\")","v":""},{"$f":"IFERROR(tblOrder[[#This Row],[Qty]]*tblOrder[[#This Row],[Unit Price]],\"\")","v":""},{"$f":"IFERROR(INDEX(tblItemHidden[], MATCH(B168&\"-\"&LEFT(C168,FIND(\" - \",C168,1)-1), ItemCodeLookup, 0), 10) * $D168,\"\")","v":""}]
[null,{"$f":"IF(ISNA(VLOOKUP(A169,tblStyle[],3,0)),\"\",VLOOKUP(A169,tblStyle[],3,0))","v":""},null,null,{"$f":"IF(AND(tblOrder[[#This Row],[Size - Description]]<>\"\",$E168<>\"\",E168<>\"Tag\"),E168,\"\")","v":""},{"$f":"_xlfn.IFNA(_xlfn.XLOOKUP(tblOrder[[#This Row],[Size - Description]],tblItemHidden[ITEM CODE DESC],tblItemHidden[UNIT PRICE],,0,1),\"\")","v":""},{"$f":"IFERROR(tblOrder[[#This Row],[Qty]]*tblOrder[[#This Row],[Unit Price]],\"\")","v":""},{"$f":"IFERROR(INDEX(tblItemHidden[], MATCH(B169&\"-\"&LEFT(C169,FIND(\" - \",C169,1)-1), ItemCodeLookup, 0), 10) * $D169,\"\")","v":""}]
[null,{"$f":"IF(ISNA(VLOOKUP(A170,tblStyle[],3,0)),\"\",VLOOKUP(A170,tblStyle[],3,0))","v":""},null,null,{"$f":"IF(AND(tblOrder[[#This Row],[Size - Description]]<>\"\",$E169<>\"\",E169<>\"Tag\"),E169,\"\")","v":""},{"$f":"_xlfn.IFNA(_xlfn.XLOOKUP(tblOrder[[#This Row],[Size - Description]],tblItemHidden[ITEM CODE DESC],tblItemHidden[UNIT PRICE],,0,1),\"\")","v":""},{"$f":"IFERROR(tblOrder[[#This Row],[Qty]]*tblOrder[[#This Row],[Unit Price]],\"\")","v":""},{"$f":"IFERROR(INDEX(tblItemHidden[], MATCH(B170&\"-\"&LEFT(C170,FIND(\" - \",C170,1)-1), ItemCodeLookup, 0), 10) * $D170,\"\")","v":""}]
[null,{"$f":"IF(ISNA(VLOOKUP(A171,tblStyle[],3,0)),\"\",VLOOKUP(A171,tblStyle[],3,0))","v":""},null,null,{"$f":"IF(AND(tblOrder[[#This Row],[Size - Description]]<>\"\",$E170<>\"\",E170<>\"Tag\"),E170,\"\")","v":""},{"$f":"_xlfn.IFNA(_xlfn.XLOOKUP(tblOrder[[#This Row],[Size - Description]],tblItemHidden[ITEM CODE DESC],tblItemHidden[UNIT PRICE],,0,1),\"\")","v":""},{"$f":"IFERROR(tblOrder[[#This Row],[Qty]]*tblOrder[[#This Row],[Unit Price]],\"\")","v":""},{"$f":"IFERROR(INDEX(tblItemHidden[], MATCH(B171&\"-\"&LEFT(C171,FIND(\" - \",C171,1)-1), ItemCodeLookup, 0), 10) * $D171,\"\")","v":""}]
[null,{"$f":"IF(ISNA(VLOOKUP(A172,tblStyle[],3,0)),\"\",VLOOKUP(A172,tblStyle[],3,0))","v":""},null,null,{"$f":"IF(AND(tblOrder[[#This Row],[Size - Description]]<>\"\",$E171<>\"\",E171<>\"Tag\"),E171,\"\")","v":""},{"$f":"_xlfn.IFNA(_xlfn.XLOOKUP(tblOrder[[#This Row],[Size - Description]],tblItemHidden[ITEM CODE DESC],tblItemHidden[UNIT PRICE],,0,1),\"\")","v":""},{"$f":"IFERROR(tblOrder[[#This Row],[Qty]]*tblOrder[[#This Row],[Unit Price]],\"\")","v":""},{"$f":"IFERROR(INDEX(tblItemHidden[], MATCH(B172&\"-\"&LEFT(C172,FIND(\" - \",C172,1)-1), ItemCodeLookup, 0), 10) * $D172,\"\")","v":""}]
[null,{"$f":"IF(ISNA(VLOOKUP(A173,tblStyle[],3,0)),\"\",VLOOKUP(A173,tblStyle[],3,0))","v":""},null,null,{"$f":"IF(AND(tblOrder[[#This Row],[Size - Description]]<>\"\",$E172<>\"\",E172<>\"Tag\"),E172,\"\")","v":""},{"$f":"_xlfn.IFNA(_xlfn.XLOOKUP(tblOrder[[#This Row],[Size - Description]],tblItemHidden[ITEM CODE DESC],tblItemHidden[UNIT PRICE],,0,1),\"\")","v":""},{"$f":"IFERROR(tblOrder[[#This Row],[Qty]]*tblOrder[[#This Row],[Unit Price]],\"\")","v":""},{"$f":"IFERROR(INDEX(tblItemHidden[], MATCH(B173&\"-\"&LEFT(C173,FIND(\" - \",C173,1)-1), ItemCodeLookup, 0), 10) * $D173,\"\")","v":""}]
[null,{"$f":"IF(ISNA(VLOOKUP(A174,tblStyle[],3,0)),\"\",VLOOKUP(A174,tblStyle[],3,0))","v":""},null,null,{"$f":"IF(AND(tblOrder[[#This Row],[Size - Description]]<>\"\",$E173<>\"\",E173<>\"Tag\"),E173,\"\")","v":""},{"$f":"_xlfn.IFNA(_xlfn.XLOOKUP(tblOrder[[#This Row],[Size - Description]],tblItemHidden[ITEM CODE DESC],tblItemHidden[UNIT PRICE],,0,1),\"\")","v":""},{"$f":"IFERROR(tblOrder[[#This Row],[Qty]]*tblOrder[[#This Row],[Unit Price]],\"\")","v":""},{"$f":"IFERROR(INDEX(tblItemHidden[], MATCH(B174&\"-\"&LEFT(C174,FIND(\" - \",C174,1)-1), ItemCodeLookup, 0), 10) * $D174,\"\")","v":""}]
[null,{"$f":"IF(ISNA(VLOOKUP(A175,tblStyle[],3,0)),\"\",VLOOKUP(A175,tblStyle[],3,0))","v":""},null,null,{"$f":"IF(AND(tblOrder[[#This Row],[Size - Description]]<>\"\",$E174<>\"\",E174<>\"Tag\"),E174,\"\")","v":""},{"$f":"_xlfn.IFNA(_xlfn.XLOOKUP(tblOrder[[#This Row],[Size - Description]],tblItemHidden[ITEM CODE DESC],tblItemHidden[UNIT PRICE],,0,1),\"\")","v":""},{"$f":"IFERROR(tblOrder[[#This Row],[Qty]]*tblOrder[[#This Row],[Unit Price]],\"\")","v":""},{"$f":"IFERROR(INDEX(tblItemHidden[], MATCH(B175&\"-\"&LEFT(C175,FIND(\" - \",C175,1)-1), ItemCodeLookup, 0), 10) * $D175,\"\")","v":""}]
[null,{"$f":"IF(ISNA(VLOOKUP(A176,tblStyle[],3,0)),\"\",VLOOKUP(A176,tblStyle[],3,0))","v":""},null,null,{"$f":"IF(AND(tblOrder[[#This Row],[Size - Description]]<>\"\",$E175<>\"\",E175<>\"Tag\"),E175,\"\")","v":""},{"$f":"_xlfn.IFNA(_xlfn.XLOOKUP(tblOrder[[#This Row],[Size - Description]],tblItemHidden[ITEM CODE DESC],tblItemHidden[UNIT PRICE],,0,1),\"\")","v":""},{"$f":"IFERROR(tblOrder[[#This Row],[Qty]]*tblOrder[[#This Row],[Unit Price]],\"\")","v":""},{"$f":"IFERROR(INDEX(tblItemHidden[], MATCH(B176&\"-\"&LEFT(C176,FIND(\" - \",C176,1)-1), ItemCodeLookup, 0), 10) * $D176,\"\")","v":""}]
[null,{"$f":"IF(ISNA(VLOOKUP(A177,tblStyle[],3,0)),\"\",VLOOKUP(A177,tblStyle[],3,0))","v":""},null,null,{"$f":"IF(AND(tblOrder[[#This Row],[Size - Description]]<>\"\",$E176<>\"\",E176<>\"Tag\"),E176,\"\")","v":""},{"$f":"_xlfn.IFNA(_xlfn.XLOOKUP(tblOrder[[#This Row],[Size - Description]],tblItemHidden[ITEM CODE DESC],tblItemHidden[UNIT PRICE],,0,1),\"\")","v":""},{"$f":"IFERROR(tblOrder[[#This Row],[Qty]]*tblOrder[[#This Row],[Unit Price]],\"\")","v":""},{"$f":"IFERROR(INDEX(tblItemHidden[], MATCH(B177&\"-\"&LEFT(C177,FIND(\" - \",C177,1)-1), ItemCodeLookup, 0), 10) * $D177,\"\")","v":""}]
[null,{"$f":"IF(ISNA(VLOOKUP(A178,tblStyle[],3,0)),\"\",VLOOKUP(A178,tblStyle[],3,0))","v":""},null,null,{"$f":"IF(AND(tblOrder[[#This Row],[Size - Description]]<>\"\",$E177<>\"\",E177<>\"Tag\"),E177,\"\")","v":""},{"$f":"_xlfn.IFNA(_xlfn.XLOOKUP(tblOrder[[#This Row],[Size - Description]],tblItemHidden[ITEM CODE DESC],tblItemHidden[UNIT PRICE],,0,1),\"\")","v":""},{"$f":"IFERROR(tblOrder[[#This Row],[Qty]]*tblOrder[[#This Row],[Unit Price]],\"\")","v":""},{"$f":"IFERROR(INDEX(tblItemHidden[], MATCH(B178&\"-\"&LEFT(C178,FIND(\" - \",C178,1)-1), ItemCodeLookup, 0), 10) * $D178,\"\")","v":""}]
[null,{"$f":"IF(ISNA(VLOOKUP(A179,tblStyle[],3,0)),\"\",VLOOKUP(A179,tblStyle[],3,0))","v":""},null,null,{"$f":"IF(AND(tblOrder[[#This Row],[Size - Description]]<>\"\",$E178<>\"\",E178<>\"Tag\"),E178,\"\")","v":""},{"$f":"_xlfn.IFNA(_xlfn.XLOOKUP(tblOrder[[#This Row],[Size - Description]],tblItemHidden[ITEM CODE DESC],tblItemHidden[UNIT PRICE],,0,1),\"\")","v":""},{"$f":"IFERROR(tblOrder[[#This Row],[Qty]]*tblOrder[[#This Row],[Unit Price]],\"\")","v":""},{"$f":"IFERROR(INDEX(tblItemHidden[], MATCH(B179&\"-\"&LEFT(C179,FIND(\" - \",C179,1)-1), ItemCodeLookup, 0), 10) * $D179,\"\")","v":""}]
[null,{"$f":"IF(ISNA(VLOOKUP(A180,tblStyle[],3,0)),\"\",VLOOKUP(A180,tblStyle[],3,0))","v":""},null,null,{"$f":"IF(AND(tblOrder[[#This Row],[Size - Description]]<>\"\",$E179<>\"\",E179<>\"Tag\"),E179,\"\")","v":""},{"$f":"_xlfn.IFNA(_xlfn.XLOOKUP(tblOrder[[#This Row],[Size - Description]],tblItemHidden[ITEM CODE DESC],tblItemHidden[UNIT PRICE],,0,1),\"\")","v":""},{"$f":"IFERROR(tblOrder[[#This Row],[Qty]]*tblOrder[[#This Row],[Unit Price]],\"\")","v":""},{"$f":"IFERROR(INDEX(tblItemHidden[], MATCH(B180&\"-\"&LEFT(C180,FIND(\" - \",C180,1)-1), ItemCodeLookup, 0), 10) * $D180,\"\")","v":""}]
[null,{"$f":"IF(ISNA(VLOOKUP(A181,tblStyle[],3,0)),\"\",VLOOKUP(A181,tblStyle[],3,0))","v":""},null,null,{"$f":"IF(AND(tblOrder[[#This Row],[Size - Description]]<>\"\",$E180<>\"\",E180<>\"Tag\"),E180,\"\")","v":""},{"$f":"_xlfn.IFNA(_xlfn.XLOOKUP(tblOrder[[#This Row],[Size - Description]],tblItemHidden[ITEM CODE DESC],tblItemHidden[UNIT PRICE],,0,1),\"\")","v":""},{"$f":"IFERROR(tblOrder[[#This Row],[Qty]]*tblOrder[[#This Row],[Unit Price]],\"\")","v":""},{"$f":"IFERROR(INDEX(tblItemHidden[], MATCH(B181&\"-\"&LEFT(C181,FIND(\" - \",C181,1)-1), ItemCodeLookup, 0), 10) * $D181,\"\")","v":""}]
[null,{"$f":"IF(ISNA(VLOOKUP(A182,tblStyle[],3,0)),\"\",VLOOKUP(A182,tblStyle[],3,0))","v":""},null,null,{"$f":"IF(AND(tblOrder[[#This Row],[Size - Description]]<>\"\",$E181<>\"\",E181<>\"Tag\"),E181,\"\")","v":""},{"$f":"_xlfn.IFNA(_xlfn.XLOOKUP(tblOrder[[#This Row],[Size - Description]],tblItemHidden[ITEM CODE DESC],tblItemHidden[UNIT PRICE],,0,1),\"\")","v":""},{"$f":"IFERROR(tblOrder[[#This Row],[Qty]]*tblOrder[[#This Row],[Unit Price]],\"\")","v":""},{"$f":"IFERROR(INDEX(tblItemHidden[], MATCH(B182&\"-\"&LEFT(C182,FIND(\" - \",C182,1)-1), ItemCodeLookup, 0), 10) * $D182,\"\")","v":""}]
[null,{"$f":"IF(ISNA(VLOOKUP(A183,tblStyle[],3,0)),\"\",VLOOKUP(A183,tblStyle[],3,0))","v":""},null,null,{"$f":"IF(AND(tblOrder[[#This Row],[Size - Description]]<>\"\",$E182<>\"\",E182<>\"Tag\"),E182,\"\")","v":""},{"$f":"_xlfn.IFNA(_xlfn.XLOOKUP(tblOrder[[#This Row],[Size - Description]],tblItemHidden[ITEM CODE DESC],tblItemHidden[UNIT PRICE],,0,1),\"\")","v":""},{"$f":"IFERROR(tblOrder[[#This Row],[Qty]]*tblOrder[[#This Row],[Unit Price]],\"\")","v":""},{"$f":"IFERROR(INDEX(tblItemHidden[], MATCH(B183&\"-\"&LEFT(C183,FIND(\" - \",C183,1)-1), ItemCodeLookup, 0), 10) * $D183,\"\")","v":""}]
[null,{"$f":"IF(ISNA(VLOOKUP(A184,tblStyle[],3,0)),\"\",VLOOKUP(A184,tblStyle[],3,0))","v":""},null,null,{"$f":"IF(AND(tblOrder[[#This Row],[Size - Description]]<>\"\",$E183<>\"\",E183<>\"Tag\"),E183,\"\")","v":""},{"$f":"_xlfn.IFNA(_xlfn.XLOOKUP(tblOrder[[#This Row],[Size - Description]],tblItemHidden[ITEM CODE DESC],tblItemHidden[UNIT PRICE],,0,1),\"\")","v":""},{"$f":"IFERROR(tblOrder[[#This Row],[Qty]]*tblOrder[[#This Row],[Unit Price]],\"\")","v":""},{"$f":"IFERROR(INDEX(tblItemHidden[], MATCH(B184&\"-\"&LEFT(C184,FIND(\" - \",C184,1)-1), ItemCodeLookup, 0), 10) * $D184,\"\")","v":""}]
[null,{"$f":"IF(ISNA(VLOOKUP(A185,tblStyle[],3,0)),\"\",VLOOKUP(A185,tblStyle[],3,0))","v":""},null,null,{"$f":"IF(AND(tblOrder[[#This Row],[Size - Description]]<>\"\",$E184<>\"\",E184<>\"Tag\"),E184,\"\")","v":""},{"$f":"_xlfn.IFNA(_xlfn.XLOOKUP(tblOrder[[#This Row],[Size - Description]],tblItemHidden[ITEM CODE DESC],tblItemHidden[UNIT PRICE],,0,1),\"\")","v":""},{"$f":"IFERROR(tblOrder[[#This Row],[Qty]]*tblOrder[[#This Row],[Unit Price]],\"\")","v":""},{"$f":"IFERROR(INDEX(tblItemHidden[], MATCH(B185&\"-\"&LEFT(C185,FIND(\" - \",C185,1)-1), ItemCodeLookup, 0), 10) * $D185,\"\")","v":""}]
[null,{"$f":"IF(ISNA(VLOOKUP(A186,tblStyle[],3,0)),\"\",VLOOKUP(A186,tblStyle[],3,0))","v":""},null,null,{"$f":"IF(AND(tblOrder[[#This Row],[Size - Description]]<>\"\",$E185<>\"\",E185<>\"Tag\"),E185,\"\")","v":""},{"$f":"_xlfn.IFNA(_xlfn.XLOOKUP(tblOrder[[#This Row],[Size - Description]],tblItemHidden[ITEM CODE DESC],tblItemHidden[UNIT PRICE],,0,1),\"\")","v":""},{"$f":"IFERROR(tblOrder[[#This Row],[Qty]]*tblOrder[[#This Row],[Unit Price]],\"\")","v":""},{"$f":"IFERROR(INDEX(tblItemHidden[], MATCH(B186&\"-\"&LEFT(C186,FIND(\" - \",C186,1)-1), ItemCodeLookup, 0), 10) * $D186,\"\")","v":""}]
[null,{"$f":"IF(ISNA(VLOOKUP(A187,tblStyle[],3,0)),\"\",VLOOKUP(A187,tblStyle[],3,0))","v":""},null,null,{"$f":"IF(AND(tblOrder[[#This Row],[Size - Description]]<>\"\",$E186<>\"\",E186<>\"Tag\"),E186,\"\")","v":""},{"$f":"_xlfn.IFNA(_xlfn.XLOOKUP(tblOrder[[#This Row],[Size - Description]],tblItemHidden[ITEM CODE DESC],tblItemHidden[UNIT PRICE],,0,1),\"\")","v":""},{"$f":"IFERROR(tblOrder[[#This Row],[Qty]]*tblOrder[[#This Row],[Unit Price]],\"\")","v":""},{"$f":"IFERROR(INDEX(tblItemHidden[], MATCH(B187&\"-\"&LEFT(C187,FIND(\" - \",C187,1)-1), ItemCodeLookup, 0), 10) * $D187,\"\")","v":""}]
[null,{"$f":"IF(ISNA(VLOOKUP(A188,tblStyle[],3,0)),\"\",VLOOKUP(A188,tblStyle[],3,0))","v":""},null,null,{"$f":"IF(AND(tblOrder[[#This Row],[Size - Description]]<>\"\",$E187<>\"\",E187<>\"Tag\"),E187,\"\")","v":""},{"$f":"_xlfn.IFNA(_xlfn.XLOOKUP(tblOrder[[#This Row],[Size - Description]],tblItemHidden[ITEM CODE DESC],tblItemHidden[UNIT PRICE],,0,1),\"\")","v":""},{"$f":"IFERROR(tblOrder[[#This Row],[Qty]]*tblOrder[[#This Row],[Unit Price]],\"\")","v":""},{"$f":"IFERROR(INDEX(tblItemHidden[], MATCH(B188&\"-\"&LEFT(C188,FIND(\" - \",C188,1)-1), ItemCodeLookup, 0), 10) * $D188,\"\")","v":""}]
[null,{"$f":"IF(ISNA(VLOOKUP(A189,tblStyle[],3,0)),\"\",VLOOKUP(A189,tblStyle[],3,0))","v":""},null,null,{"$f":"IF(AND(tblOrder[[#This Row],[Size - Description]]<>\"\",$E188<>\"\",E188<>\"Tag\"),E188,\"\")","v":""},{"$f":"_xlfn.IFNA(_xlfn.XLOOKUP(tblOrder[[#This Row],[Size - Description]],tblItemHidden[ITEM CODE DESC],tblItemHidden[UNIT PRICE],,0,1),\"\")","v":""},{"$f":"IFERROR(tblOrder[[#This Row],[Qty]]*tblOrder[[#This Row],[Unit Price]],\"\")","v":""},{"$f":"IFERROR(INDEX(tblItemHidden[], MATCH(B189&\"-\"&LEFT(C189,FIND(\" - \",C189,1)-1), ItemCodeLookup, 0), 10) * $D189,\"\")","v":""}]
[null,{"$f":"IF(ISNA(VLOOKUP(A190,tblStyle[],3,0)),\"\",VLOOKUP(A190,tblStyle[],3,0))","v":""},null,null,{"$f":"IF(AND(tblOrder[[#This Row],[Size - Description]]<>\"\",$E189<>\"\",E189<>\"Tag\"),E189,\"\")","v":""},{"$f":"_xlfn.IFNA(_xlfn.XLOOKUP(tblOrder[[#This Row],[Size - Description]],tblItemHidden[ITEM CODE DESC],tblItemHidden[UNIT PRICE],,0,1),\"\")","v":""},{"$f":"IFERROR(tblOrder[[#This Row],[Qty]]*tblOrder[[#This Row],[Unit Price]],\"\")","v":""},{"$f":"IFERROR(INDEX(tblItemHidden[], MATCH(B190&\"-\"&LEFT(C190,FIND(\" - \",C190,1)-1), ItemCodeLookup, 0), 10) * $D190,\"\")","v":""}]
[null,{"$f":"IF(ISNA(VLOOKUP(A191,tblStyle[],3,0)),\"\",VLOOKUP(A191,tblStyle[],3,0))","v":""},null,null,{"$f":"IF(AND(tblOrder[[#This Row],[Size - Description]]<>\"\",$E190<>\"\",E190<>\"Tag\"),E190,\"\")","v":""},{"$f":"_xlfn.IFNA(_xlfn.XLOOKUP(tblOrder[[#This Row],[Size - Description]],tblItemHidden[ITEM CODE DESC],tblItemHidden[UNIT PRICE],,0,1),\"\")","v":""},{"$f":"IFERROR(tblOrder[[#This Row],[Qty]]*tblOrder[[#This Row],[Unit Price]],\"\")","v":""},{"$f":"IFERROR(INDEX(tblItemHidden[], MATCH(B191&\"-\"&LEFT(C191,FIND(\" - \",C191,1)-1), ItemCodeLookup, 0), 10) * $D191,\"\")","v":""}]
[null,{"$f":"IF(ISNA(VLOOKUP(A192,tblStyle[],3,0)),\"\",VLOOKUP(A192,tblStyle[],3,0))","v":""},null,null,{"$f":"IF(AND(tblOrder[[#This Row],[Size - Description]]<>\"\",$E191<>\"\",E191<>\"Tag\"),E191,\"\")","v":""},{"$f":"_xlfn.IFNA(_xlfn.XLOOKUP(tblOrder[[#This Row],[Size - Description]],tblItemHidden[ITEM CODE DESC],tblItemHidden[UNIT PRICE],,0,1),\"\")","v":""},{"$f":"IFERROR(tblOrder[[#This Row],[Qty]]*tblOrder[[#This Row],[Unit Price]],\"\")","v":""},{"$f":"IFERROR(INDEX(tblItemHidden[], MATCH(B192&\"-\"&LEFT(C192,FIND(\" - \",C192,1)-1), ItemCodeLookup, 0), 10) * $D192,\"\")","v":""}]
[null,{"$f":"IF(ISNA(VLOOKUP(A193,tblStyle[],3,0)),\"\",VLOOKUP(A193,tblStyle[],3,0))","v":""},null,null,{"$f":"IF(AND(tblOrder[[#This Row],[Size - Description]]<>\"\",$E192<>\"\",E192<>\"Tag\"),E192,\"\")","v":""},{"$f":"_xlfn.IFNA(_xlfn.XLOOKUP(tblOrder[[#This Row],[Size - Description]],tblItemHidden[ITEM CODE DESC],tblItemHidden[UNIT PRICE],,0,1),\"\")","v":""},{"$f":"IFERROR(tblOrder[[#This Row],[Qty]]*tblOrder[[#This Row],[Unit Price]],\"\")","v":""},{"$f":"IFERROR(INDEX(tblItemHidden[], MATCH(B193&\"-\"&LEFT(C193,FIND(\" - \",C193,1)-1), ItemCodeLookup, 0), 10) * $D193,\"\")","v":""}]
[null,{"$f":"IF(ISNA(VLOOKUP(A194,tblStyle[],3,0)),\"\",VLOOKUP(A194,tblStyle[],3,0))","v":""},null,null,{"$f":"IF(AND(tblOrder[[#This Row],[Size - Description]]<>\"\",$E193<>\"\",E193<>\"Tag\"),E193,\"\")","v":""},{"$f":"_xlfn.IFNA(_xlfn.XLOOKUP(tblOrder[[#This Row],[Size - Description]],tblItemHidden[ITEM CODE DESC],tblItemHidden[UNIT PRICE],,0,1),\"\")","v":""},{"$f":"IFERROR(tblOrder[[#This Row],[Qty]]*tblOrder[[#This Row],[Unit Price]],\"\")","v":""},{"$f":"IFERROR(INDEX(tblItemHidden[], MATCH(B194&\"-\"&LEFT(C194,FIND(\" - \",C194,1)-1), ItemCodeLookup, 0), 10) * $D194,\"\")","v":""}]
[null,{"$f":"IF(ISNA(VLOOKUP(A195,tblStyle[],3,0)),\"\",VLOOKUP(A195,tblStyle[],3,0))","v":""},null,null,{"$f":"IF(AND(tblOrder[[#This Row],[Size - Description]]<>\"\",$E194<>\"\",E194<>\"Tag\"),E194,\"\")","v":""},{"$f":"_xlfn.IFNA(_xlfn.XLOOKUP(tblOrder[[#This Row],[Size - Description]],tblItemHidden[ITEM CODE DESC],tblItemHidden[UNIT PRICE],,0,1),\"\")","v":""},{"$f":"IFERROR(tblOrder[[#This Row],[Qty]]*tblOrder[[#This Row],[Unit Price]],\"\")","v":""},{"$f":"IFERROR(INDEX(tblItemHidden[], MATCH(B195&\"-\"&LEFT(C195,FIND(\" - \",C195,1)-1), ItemCodeLookup, 0), 10) * $D195,\"\")","v":""}]
[null,{"$f":"IF(ISNA(VLOOKUP(A196,tblStyle[],3,0)),\"\",VLOOKUP(A196,tblStyle[],3,0))","v":""},null,null,{"$f":"IF(AND(tblOrder[[#This Row],[Size - Description]]<>\"\",$E195<>\"\",E195<>\"Tag\"),E195,\"\")","v":""},{"$f":"_xlfn.IFNA(_xlfn.XLOOKUP(tblOrder[[#This Row],[Size - Description]],tblItemHidden[ITEM CODE DESC],tblItemHidden[UNIT PRICE],,0,1),\"\")","v":""},{"$f":"IFERROR(tblOrder[[#This Row],[Qty]]*tblOrder[[#This Row],[Unit Price]],\"\")","v":""},{"$f":"IFERROR(INDEX(tblItemHidden[], MATCH(B196&\"-\"&LEFT(C196,FIND(\" - \",C196,1)-1), ItemCodeLookup, 0), 10) * $D196,\"\")","v":""}]
[null,{"$f":"IF(ISNA(VLOOKUP(A197,tblStyle[],3,0)),\"\",VLOOKUP(A197,tblStyle[],3,0))","v":""},null,null,{"$f":"IF(AND(tblOrder[[#This Row],[Size - Description]]<>\"\",$E196<>\"\",E196<>\"Tag\"),E196,\"\")","v":""},{"$f":"_xlfn.IFNA(_xlfn.XLOOKUP(tblOrder[[#This Row],[Size - Description]],tblItemHidden[ITEM CODE DESC],tblItemHidden[UNIT PRICE],,0,1),\"\")","v":""},{"$f":"IFERROR(tblOrder[[#This Row],[Qty]]*tblOrder[[#This Row],[Unit Price]],\"\")","v":""},{"$f":"IFERROR(INDEX(tblItemHidden[], MATCH(B197&\"-\"&LEFT(C197,FIND(\" - \",C197,1)-1), ItemCodeLookup, 0), 10) * $D197,\"\")","v":""}]
[null,{"$f":"IF(ISNA(VLOOKUP(A198,tblStyle[],3,0)),\"\",VLOOKUP(A198,tblStyle[],3,0))","v":""},null,null,{"$f":"IF(AND(tblOrder[[#This Row],[Size - Description]]<>\"\",$E197<>\"\",E197<>\"Tag\"),E197,\"\")","v":""},{"$f":"_xlfn.IFNA(_xlfn.XLOOKUP(tblOrder[[#This Row],[Size - Description]],tblItemHidden[ITEM CODE DESC],tblItemHidden[UNIT PRICE],,0,1),\"\")","v":""},{"$f":"IFERROR(tblOrder[[#This Row],[Qty]]*tblOrder[[#This Row],[Unit Price]],\"\")","v":""},{"$f":"IFERROR(INDEX(tblItemHidden[], MATCH(B198&\"-\"&LEFT(C198,FIND(\" - \",C198,1)-1), ItemCodeLookup, 0), 10) * $D198,\"\")","v":""}]
[null,{"$f":"IF(ISNA(VLOOKUP(A199,tblStyle[],3,0)),\"\",VLOOKUP(A199,tblStyle[],3,0))","v":""},null,null,{"$f":"IF(AND(tblOrder[[#This Row],[Size - Description]]<>\"\",$E198<>\"\",E198<>\"Tag\"),E198,\"\")","v":""},{"$f":"_xlfn.IFNA(_xlfn.XLOOKUP(tblOrder[[#This Row],[Size - Description]],tblItemHidden[ITEM CODE DESC],tblItemHidden[UNIT PRICE],,0,1),\"\")","v":""},{"$f":"IFERROR(tblOrder[[#This Row],[Qty]]*tblOrder[[#This Row],[Unit Price]],\"\")","v":""},{"$f":"IFERROR(INDEX(tblItemHidden[], MATCH(B199&\"-\"&LEFT(C199,FIND(\" - \",C199,1)-1), ItemCodeLookup, 0), 10) * $D199,\"\")","v":""}]
[null,{"$f":"IF(ISNA(VLOOKUP(A200,tblStyle[],3,0)),\"\",VLOOKUP(A200,tblStyle[],3,0))","v":""},null,null,{"$f":"IF(AND(tblOrder[[#This Row],[Size - Description]]<>\"\",$E199<>\"\",E199<>\"Tag\"),E199,\"\")","v":""},{"$f":"_xlfn.IFNA(_xlfn.XLOOKUP(tblOrder[[#This Row],[Size - Description]],tblItemHidden[ITEM CODE DESC],tblItemHidden[UNIT PRICE],,0,1),\"\")","v":""},{"$f":"IFERROR(tblOrder[[#This Row],[Qty]]*tblOrder[[#This Row],[Unit Price]],\"\")","v":""},{"$f":"IFERROR(INDEX(tblItemHidden[], MATCH(B200&\"-\"&LEFT(C200,FIND(\" - \",C200,1)-1), ItemCodeLookup, 0), 10) * $D200,\"\")","v":""}]
[null,{"$f":"IF(ISNA(VLOOKUP(A201,tblStyle[],3,0)),\"\",VLOOKUP(A201,tblStyle[],3,0))","v":""},null,null,{"$f":"IF(AND(tblOrder[[#This Row],[Size - Description]]<>\"\",$E200<>\"\",E200<>\"Tag\"),E200,\"\")","v":""},{"$f":"_xlfn.IFNA(_xlfn.XLOOKUP(tblOrder[[#This Row],[Size - Description]],tblItemHidden[ITEM CODE DESC],tblItemHidden[UNIT PRICE],,0,1),\"\")","v":""},{"$f":"IFERROR(tblOrder[[#This Row],[Qty]]*tblOrder[[#This Row],[Unit Price]],\"\")","v":""},{"$f":"IFERROR(INDEX(tblItemHidden[], MATCH(B201&\"-\"&LEFT(C201,FIND(\" - \",C201,1)-1), ItemCodeLookup, 0), 10) * $D201,\"\")","v":""}]
[null,{"$f":"IF(ISNA(VLOOKUP(A202,tblStyle[],3,0)),\"\",VLOOKUP(A202,tblStyle[],3,0))","v":""},null,null,{"$f":"IF(AND(tblOrder[[#This Row],[Size - Description]]<>\"\",$E201<>\"\",E201<>\"Tag\"),E201,\"\")","v":""},{"$f":"_xlfn.IFNA(_xlfn.XLOOKUP(tblOrder[[#This Row],[Size - Description]],tblItemHidden[ITEM CODE DESC],tblItemHidden[UNIT PRICE],,0,1),\"\")","v":""},{"$f":"IFERROR(tblOrder[[#This Row],[Qty]]*tblOrder[[#This Row],[Unit Price]],\"\")","v":""},{"$f":"IFERROR(INDEX(tblItemHidden[], MATCH(B202&\"-\"&LEFT(C202,FIND(\" - \",C202,1)-1), ItemCodeLookup, 0), 10) * $D202,\"\")","v":""}]
[null,{"$f":"IF(ISNA(VLOOKUP(A203,tblStyle[],3,0)),\"\",VLOOKUP(A203,tblStyle[],3,0))","v":""},null,null,{"$f":"IF(AND(tblOrder[[#This Row],[Size - Description]]<>\"\",$E202<>\"\",E202<>\"Tag\"),E202,\"\")","v":""},{"$f":"_xlfn.IFNA(_xlfn.XLOOKUP(tblOrder[[#This Row],[Size - Description]],tblItemHidden[ITEM CODE DESC],tblItemHidden[UNIT PRICE],,0,1),\"\")","v":""},{"$f":"IFERROR(tblOrder[[#This Row],[Qty]]*tblOrder[[#This Row],[Unit Price]],\"\")","v":""},{"$f":"IFERROR(INDEX(tblItemHidden[], MATCH(B203&\"-\"&LEFT(C203,FIND(\" - \",C203,1)-1), ItemCodeLookup, 0), 10) * $D203,\"\")","v":""}]
[null,{"$f":"IF(ISNA(VLOOKUP(A204,tblStyle[],3,0)),\"\",VLOOKUP(A204,tblStyle[],3,0))","v":""},null,null,{"$f":"IF(AND(tblOrder[[#This Row],[Size - Description]]<>\"\",$E203<>\"\",E203<>\"Tag\"),E203,\"\")","v":""},{"$f":"_xlfn.IFNA(_xlfn.XLOOKUP(tblOrder[[#This Row],[Size - Description]],tblItemHidden[ITEM CODE DESC],tblItemHidden[UNIT PRICE],,0,1),\"\")","v":""},{"$f":"IFERROR(tblOrder[[#This Row],[Qty]]*tblOrder[[#This Row],[Unit Price]],\"\")","v":""},{"$f":"IFERROR(INDEX(tblItemHidden[], MATCH(B204&\"-\"&LEFT(C204,FIND(\" - \",C204,1)-1), ItemCodeLookup, 0), 10) * $D204,\"\")","v":""}]
[null,{"$f":"IF(ISNA(VLOOKUP(A205,tblStyle[],3,0)),\"\",VLOOKUP(A205,tblStyle[],3,0))","v":""},null,null,{"$f":"IF(AND(tblOrder[[#This Row],[Size - Description]]<>\"\",$E204<>\"\",E204<>\"Tag\"),E204,\"\")","v":""},{"$f":"_xlfn.IFNA(_xlfn.XLOOKUP(tblOrder[[#This Row],[Size - Description]],tblItemHidden[ITEM CODE DESC],tblItemHidden[UNIT PRICE],,0,1),\"\")","v":""},{"$f":"IFERROR(tblOrder[[#This Row],[Qty]]*tblOrder[[#This Row],[Unit Price]],\"\")","v":""},{"$f":"IFERROR(INDEX(tblItemHidden[], MATCH(B205&\"-\"&LEFT(C205,FIND(\" - \",C205,1)-1), ItemCodeLookup, 0), 10) * $D205,\"\")","v":""}]
[null,{"$f":"IF(ISNA(VLOOKUP(A206,tblStyle[],3,0)),\"\",VLOOKUP(A206,tblStyle[],3,0))","v":""},null,null,{"$f":"IF(AND(tblOrder[[#This Row],[Size - Description]]<>\"\",$E205<>\"\",E205<>\"Tag\"),E205,\"\")","v":""},{"$f":"_xlfn.IFNA(_xlfn.XLOOKUP(tblOrder[[#This Row],[Size - Description]],tblItemHidden[ITEM CODE DESC],tblItemHidden[UNIT PRICE],,0,1),\"\")","v":""},{"$f":"IFERROR(tblOrder[[#This Row],[Qty]]*tblOrder[[#This Row],[Unit Price]],\"\")","v":""},{"$f":"IFERROR(INDEX(tblItemHidden[], MATCH(B206&\"-\"&LEFT(C206,FIND(\" - \",C206,1)-1), ItemCodeLookup, 0), 10) * $D206,\"\")","v":""}]
[null,{"$f":"IF(ISNA(VLOOKUP(A207,tblStyle[],3,0)),\"\",VLOOKUP(A207,tblStyle[],3,0))","v":""},null,null,{"$f":"IF(AND(tblOrder[[#This Row],[Size - Description]]<>\"\",$E206<>\"\",E206<>\"Tag\"),E206,\"\")","v":""},{"$f":"_xlfn.IFNA(_xlfn.XLOOKUP(tblOrder[[#This Row],[Size - Description]],tblItemHidden[ITEM CODE DESC],tblItemHidden[UNIT PRICE],,0,1),\"\")","v":""},{"$f":"IFERROR(tblOrder[[#This Row],[Qty]]*tblOrder[[#This Row],[Unit Price]],\"\")","v":""},{"$f":"IFERROR(INDEX(tblItemHidden[], MATCH(B207&\"-\"&LEFT(C207,FIND(\" - \",C207,1)-1), ItemCodeLookup, 0), 10) * $D207,\"\")","v":""}]
[null,{"$f":"IF(ISNA(VLOOKUP(A208,tblStyle[],3,0)),\"\",VLOOKUP(A208,tblStyle[],3,0))","v":""},null,null,{"$f":"IF(AND(tblOrder[[#This Row],[Size - Description]]<>\"\",$E207<>\"\",E207<>\"Tag\"),E207,\"\")","v":""},{"$f":"_xlfn.IFNA(_xlfn.XLOOKUP(tblOrder[[#This Row],[Size - Description]],tblItemHidden[ITEM CODE DESC],tblItemHidden[UNIT PRICE],,0,1),\"\")","v":""},{"$f":"IFERROR(tblOrder[[#This Row],[Qty]]*tblOrder[[#This Row],[Unit Price]],\"\")","v":""},{"$f":"IFERROR(INDEX(tblItemHidden[], MATCH(B208&\"-\"&LEFT(C208,FIND(\" - \",C208,1)-1), ItemCodeLookup, 0), 10) * $D208,\"\")","v":""}]
[null,{"$f":"IF(ISNA(VLOOKUP(A209,tblStyle[],3,0)),\"\",VLOOKUP(A209,tblStyle[],3,0))","v":""},null,null,{"$f":"IF(AND(tblOrder[[#This Row],[Size - Description]]<>\"\",$E208<>\"\",E208<>\"Tag\"),E208,\"\")","v":""},{"$f":"_xlfn.IFNA(_xlfn.XLOOKUP(tblOrder[[#This Row],[Size - Description]],tblItemHidden[ITEM CODE DESC],tblItemHidden[UNIT PRICE],,0,1),\"\")","v":""},{"$f":"IFERROR(tblOrder[[#This Row],[Qty]]*tblOrder[[#This Row],[Unit Price]],\"\")","v":""},{"$f":"IFERROR(INDEX(tblItemHidden[], MATCH(B209&\"-\"&LEFT(C209,FIND(\" - \",C209,1)-1), ItemCodeLookup, 0), 10) * $D209,\"\")","v":""}]
[null,{"$f":"IF(ISNA(VLOOKUP(A210,tblStyle[],3,0)),\"\",VLOOKUP(A210,tblStyle[],3,0))","v":""},null,null,{"$f":"IF(AND(tblOrder[[#This Row],[Size - Description]]<>\"\",$E209<>\"\",E209<>\"Tag\"),E209,\"\")","v":""},{"$f":"_xlfn.IFNA(_xlfn.XLOOKUP(tblOrder[[#This Row],[Size - Description]],tblItemHidden[ITEM CODE DESC],tblItemHidden[UNIT PRICE],,0,1),\"\")","v":""},{"$f":"IFERROR(tblOrder[[#This Row],[Qty]]*tblOrder[[#This Row],[Unit Price]],\"\")","v":""},{"$f":"IFERROR(INDEX(tblItemHidden[], MATCH(B210&\"-\"&LEFT(C210,FIND(\" - \",C210,1)-1), ItemCodeLookup, 0), 10) * $D210,\"\")","v":""}]
[null,{"$f":"IF(ISNA(VLOOKUP(A211,tblStyle[],3,0)),\"\",VLOOKUP(A211,tblStyle[],3,0))","v":""},null,null,{"$f":"IF(AND(tblOrder[[#This Row],[Size - Description]]<>\"\",$E210<>\"\",E210<>\"Tag\"),E210,\"\")","v":""},{"$f":"_xlfn.IFNA(_xlfn.XLOOKUP(tblOrder[[#This Row],[Size - Description]],tblItemHidden[ITEM CODE DESC],tblItemHidden[UNIT PRICE],,0,1),\"\")","v":""},{"$f":"IFERROR(tblOrder[[#This Row],[Qty]]*tblOrder[[#This Row],[Unit Price]],\"\")","v":""},{"$f":"IFERROR(INDEX(tblItemHidden[], MATCH(B211&\"-\"&LEFT(C211,FIND(\" - \",C211,1)-1), ItemCodeLookup, 0), 10) * $D211,\"\")","v":""}]
[null,{"$f":"IF(ISNA(VLOOKUP(A212,tblStyle[],3,0)),\"\",VLOOKUP(A212,tblStyle[],3,0))","v":""},null,null,{"$f":"IF(AND(tblOrder[[#This Row],[Size - Description]]<>\"\",$E211<>\"\",E211<>\"Tag\"),E211,\"\")","v":""},{"$f":"_xlfn.IFNA(_xlfn.XLOOKUP(tblOrder[[#This Row],[Size - Description]],tblItemHidden[ITEM CODE DESC],tblItemHidden[UNIT PRICE],,0,1),\"\")","v":""},{"$f":"IFERROR(tblOrder[[#This Row],[Qty]]*tblOrder[[#This Row],[Unit Price]],\"\")","v":""},{"$f":"IFERROR(INDEX(tblItemHidden[], MATCH(B212&\"-\"&LEFT(C212,FIND(\" - \",C212,1)-1), ItemCodeLookup, 0), 10) * $D212,\"\")","v":""}]
[null,{"$f":"IF(ISNA(VLOOKUP(A213,tblStyle[],3,0)),\"\",VLOOKUP(A213,tblStyle[],3,0))","v":""},null,null,{"$f":"IF(AND(tblOrder[[#This Row],[Size - Description]]<>\"\",$E212<>\"\",E212<>\"Tag\"),E212,\"\")","v":""},{"$f":"_xlfn.IFNA(_xlfn.XLOOKUP(tblOrder[[#This Row],[Size - Description]],tblItemHidden[ITEM CODE DESC],tblItemHidden[UNIT PRICE],,0,1),\"\")","v":""},{"$f":"IFERROR(tblOrder[[#This Row],[Qty]]*tblOrder[[#This Row],[Unit Price]],\"\")","v":""},{"$f":"IFERROR(INDEX(tblItemHidden[], MATCH(B213&\"-\"&LEFT(C213,FIND(\" - \",C213,1)-1), ItemCodeLookup, 0), 10) * $D213,\"\")","v":""}]
[null,{"$f":"IF(ISNA(VLOOKUP(A214,tblStyle[],3,0)),\"\",VLOOKUP(A214,tblStyle[],3,0))","v":""},null,null,{"$f":"IF(AND(tblOrder[[#This Row],[Size - Description]]<>\"\",$E213<>\"\",E213<>\"Tag\"),E213,\"\")","v":""},{"$f":"_xlfn.IFNA(_xlfn.XLOOKUP(tblOrder[[#This Row],[Size - Description]],tblItemHidden[ITEM CODE DESC],tblItemHidden[UNIT PRICE],,0,1),\"\")","v":""},{"$f":"IFERROR(tblOrder[[#This Row],[Qty]]*tblOrder[[#This Row],[Unit Price]],\"\")","v":""},{"$f":"IFERROR(INDEX(tblItemHidden[], MATCH(B214&\"-\"&LEFT(C214,FIND(\" - \",C214,1)-1), ItemCodeLookup, 0), 10) * $D214,\"\")","v":""}]
[null,{"$f":"IF(ISNA(VLOOKUP(A215,tblStyle[],3,0)),\"\",VLOOKUP(A215,tblStyle[],3,0))","v":""},null,null,{"$f":"IF(AND(tblOrder[[#This Row],[Size - Description]]<>\"\",$E214<>\"\",E214<>\"Tag\"),E214,\"\")","v":""},{"$f":"_xlfn.IFNA(_xlfn.XLOOKUP(tblOrder[[#This Row],[Size - Description]],tblItemHidden[ITEM CODE DESC],tblItemHidden[UNIT PRICE],,0,1),\"\")","v":""},{"$f":"IFERROR(tblOrder[[#This Row],[Qty]]*tblOrder[[#This Row],[Unit Price]],\"\")","v":""},{"$f":"IFERROR(INDEX(tblItemHidden[], MATCH(B215&\"-\"&LEFT(C215,FIND(\" - \",C215,1)-1), ItemCodeLookup, 0), 10) * $D215,\"\")","v":""}]
[null,{"$f":"IF(ISNA(VLOOKUP(A216,tblStyle[],3,0)),\"\",VLOOKUP(A216,tblStyle[],3,0))","v":""},null,null,{"$f":"IF(AND(tblOrder[[#This Row],[Size - Description]]<>\"\",$E215<>\"\",E215<>\"Tag\"),E215,\"\")","v":""},{"$f":"_xlfn.IFNA(_xlfn.XLOOKUP(tblOrder[[#This Row],[Size - Description]],tblItemHidden[ITEM CODE DESC],tblItemHidden[UNIT PRICE],,0,1),\"\")","v":""},{"$f":"IFERROR(tblOrder[[#This Row],[Qty]]*tblOrder[[#This Row],[Unit Price]],\"\")","v":""},{"$f":"IFERROR(INDEX(tblItemHidden[], MATCH(B216&\"-\"&LEFT(C216,FIND(\" - \",C216,1)-1), ItemCodeLookup, 0), 10) * $D216,\"\")","v":""}]
[null,{"$f":"IF(ISNA(VLOOKUP(A217,tblStyle[],3,0)),\"\",VLOOKUP(A217,tblStyle[],3,0))","v":""},null,null,{"$f":"IF(AND(tblOrder[[#This Row],[Size - Description]]<>\"\",$E216<>\"\",E216<>\"Tag\"),E216,\"\")","v":""},{"$f":"_xlfn.IFNA(_xlfn.XLOOKUP(tblOrder[[#This Row],[Size - Description]],tblItemHidden[ITEM CODE DESC],tblItemHidden[UNIT PRICE],,0,1),\"\")","v":""},{"$f":"IFERROR(tblOrder[[#This Row],[Qty]]*tblOrder[[#This Row],[Unit Price]],\"\")","v":""},{"$f":"IFERROR(INDEX(tblItemHidden[], MATCH(B217&\"-\"&LEFT(C217,FIND(\" - \",C217,1)-1), ItemCodeLookup, 0), 10) * $D217,\"\")","v":""}]
[null,{"$f":"IF(ISNA(VLOOKUP(A218,tblStyle[],3,0)),\"\",VLOOKUP(A218,tblStyle[],3,0))","v":""},null,null,{"$f":"IF(AND(tblOrder[[#This Row],[Size - Description]]<>\"\",$E217<>\"\",E217<>\"Tag\"),E217,\"\")","v":""},{"$f":"_xlfn.IFNA(_xlfn.XLOOKUP(tblOrder[[#This Row],[Size - Description]],tblItemHidden[ITEM CODE DESC],tblItemHidden[UNIT PRICE],,0,1),\"\")","v":""},{"$f":"IFERROR(tblOrder[[#This Row],[Qty]]*tblOrder[[#This Row],[Unit Price]],\"\")","v":""},{"$f":"IFERROR(INDEX(tblItemHidden[], MATCH(B218&\"-\"&LEFT(C218,FIND(\" - \",C218,1)-1), ItemCodeLookup, 0), 10) * $D218,\"\")","v":""}]
[null,{"$f":"IF(ISNA(VLOOKUP(A219,tblStyle[],3,0)),\"\",VLOOKUP(A219,tblStyle[],3,0))","v":""},null,null,{"$f":"IF(AND(tblOrder[[#This Row],[Size - Description]]<>\"\",$E218<>\"\",E218<>\"Tag\"),E218,\"\")","v":""},{"$f":"_xlfn.IFNA(_xlfn.XLOOKUP(tblOrder[[#This Row],[Size - Description]],tblItemHidden[ITEM CODE DESC],tblItemHidden[UNIT PRICE],,0,1),\"\")","v":""},{"$f":"IFERROR(tblOrder[[#This Row],[Qty]]*tblOrder[[#This Row],[Unit Price]],\"\")","v":""},{"$f":"IFERROR(INDEX(tblItemHidden[], MATCH(B219&\"-\"&LEFT(C219,FIND(\" - \",C219,1)-1), ItemCodeLookup, 0), 10) * $D219,\"\")","v":""}]
[null,{"$f":"IF(ISNA(VLOOKUP(A220,tblStyle[],3,0)),\"\",VLOOKUP(A220,tblStyle[],3,0))","v":""},null,null,{"$f":"IF(AND(tblOrder[[#This Row],[Size - Description]]<>\"\",$E219<>\"\",E219<>\"Tag\"),E219,\"\")","v":""},{"$f":"_xlfn.IFNA(_xlfn.XLOOKUP(tblOrder[[#This Row],[Size - Description]],tblItemHidden[ITEM CODE DESC],tblItemHidden[UNIT PRICE],,0,1),\"\")","v":""},{"$f":"IFERROR(tblOrder[[#This Row],[Qty]]*tblOrder[[#This Row],[Unit Price]],\"\")","v":""},{"$f":"IFERROR(INDEX(tblItemHidden[], MATCH(B220&\"-\"&LEFT(C220,FIND(\" - \",C220,1)-1), ItemCodeLookup, 0), 10) * $D220,\"\")","v":""}]
[null,{"$f":"IF(ISNA(VLOOKUP(A221,tblStyle[],3,0)),\"\",VLOOKUP(A221,tblStyle[],3,0))","v":""},null,null,{"$f":"IF(AND(tblOrder[[#This Row],[Size - Description]]<>\"\",$E220<>\"\",E220<>\"Tag\"),E220,\"\")","v":""},{"$f":"_xlfn.IFNA(_xlfn.XLOOKUP(tblOrder[[#This Row],[Size - Description]],tblItemHidden[ITEM CODE DESC],tblItemHidden[UNIT PRICE],,0,1),\"\")","v":""},{"$f":"IFERROR(tblOrder[[#This Row],[Qty]]*tblOrder[[#This Row],[Unit Price]],\"\")","v":""},{"$f":"IFERROR(INDEX(tblItemHidden[], MATCH(B221&\"-\"&LEFT(C221,FIND(\" - \",C221,1)-1), ItemCodeLookup, 0), 10) * $D221,\"\")","v":""}]
[null,{"$f":"IF(ISNA(VLOOKUP(A222,tblStyle[],3,0)),\"\",VLOOKUP(A222,tblStyle[],3,0))","v":""},null,null,{"$f":"IF(AND(tblOrder[[#This Row],[Size - Description]]<>\"\",$E221<>\"\",E221<>\"Tag\"),E221,\"\")","v":""},{"$f":"_xlfn.IFNA(_xlfn.XLOOKUP(tblOrder[[#This Row],[Size - Description]],tblItemHidden[ITEM CODE DESC],tblItemHidden[UNIT PRICE],,0,1),\"\")","v":""},{"$f":"IFERROR(tblOrder[[#This Row],[Qty]]*tblOrder[[#This Row],[Unit Price]],\"\")","v":""},{"$f":"IFERROR(INDEX(tblItemHidden[], MATCH(B222&\"-\"&LEFT(C222,FIND(\" - \",C222,1)-1), ItemCodeLookup, 0), 10) * $D222,\"\")","v":""}]
[null,{"$f":"IF(ISNA(VLOOKUP(A223,tblStyle[],3,0)),\"\",VLOOKUP(A223,tblStyle[],3,0))","v":""},null,null,{"$f":"IF(AND(tblOrder[[#This Row],[Size - Description]]<>\"\",$E222<>\"\",E222<>\"Tag\"),E222,\"\")","v":""},{"$f":"_xlfn.IFNA(_xlfn.XLOOKUP(tblOrder[[#This Row],[Size - Description]],tblItemHidden[ITEM CODE DESC],tblItemHidden[UNIT PRICE],,0,1),\"\")","v":""},{"$f":"IFERROR(tblOrder[[#This Row],[Qty]]*tblOrder[[#This Row],[Unit Price]],\"\")","v":""},{"$f":"IFERROR(INDEX(tblItemHidden[], MATCH(B223&\"-\"&LEFT(C223,FIND(\" - \",C223,1)-1), ItemCodeLookup, 0), 10) * $D223,\"\")","v":""}]
[null,{"$f":"IF(ISNA(VLOOKUP(A224,tblStyle[],3,0)),\"\",VLOOKUP(A224,tblStyle[],3,0))","v":""},null,null,{"$f":"IF(AND(tblOrder[[#This Row],[Size - Description]]<>\"\",$E223<>\"\",E223<>\"Tag\"),E223,\"\")","v":""},{"$f":"_xlfn.IFNA(_xlfn.XLOOKUP(tblOrder[[#This Row],[Size - Description]],tblItemHidden[ITEM CODE DESC],tblItemHidden[UNIT PRICE],,0,1),\"\")","v":""},{"$f":"IFERROR(tblOrder[[#This Row],[Qty]]*tblOrder[[#This Row],[Unit Price]],\"\")","v":""},{"$f":"IFERROR(INDEX(tblItemHidden[], MATCH(B224&\"-\"&LEFT(C224,FIND(\" - \",C224,1)-1), ItemCodeLookup, 0), 10) * $D224,\"\")","v":""}]
[null,{"$f":"IF(ISNA(VLOOKUP(A225,tblStyle[],3,0)),\"\",VLOOKUP(A225,tblStyle[],3,0))","v":""},null,null,{"$f":"IF(AND(tblOrder[[#This Row],[Size - Description]]<>\"\",$E224<>\"\",E224<>\"Tag\"),E224,\"\")","v":""},{"$f":"_xlfn.IFNA(_xlfn.XLOOKUP(tblOrder[[#This Row],[Size - Description]],tblItemHidden[ITEM CODE DESC],tblItemHidden[UNIT PRICE],,0,1),\"\")","v":""},{"$f":"IFERROR(tblOrder[[#This Row],[Qty]]*tblOrder[[#This Row],[Unit Price]],\"\")","v":""},{"$f":"IFERROR(INDEX(tblItemHidden[], MATCH(B225&\"-\"&LEFT(C225,FIND(\" - \",C225,1)-1), ItemCodeLookup, 0), 10) * $D225,\"\")","v":""}]
[null,{"$f":"IF(ISNA(VLOOKUP(A226,tblStyle[],3,0)),\"\",VLOOKUP(A226,tblStyle[],3,0))","v":""},null,null,{"$f":"IF(AND(tblOrder[[#This Row],[Size - Description]]<>\"\",$E225<>\"\",E225<>\"Tag\"),E225,\"\")","v":""},{"$f":"_xlfn.IFNA(_xlfn.XLOOKUP(tblOrder[[#This Row],[Size - Description]],tblItemHidden[ITEM CODE DESC],tblItemHidden[UNIT PRICE],,0,1),\"\")","v":""},{"$f":"IFERROR(tblOrder[[#This Row],[Qty]]*tblOrder[[#This Row],[Unit Price]],\"\")","v":""},{"$f":"IFERROR(INDEX(tblItemHidden[], MATCH(B226&\"-\"&LEFT(C226,FIND(\" - \",C226,1)-1), ItemCodeLookup, 0), 10) * $D226,\"\")","v":""}]
[null,{"$f":"IF(ISNA(VLOOKUP(A227,tblStyle[],3,0)),\"\",VLOOKUP(A227,tblStyle[],3,0))","v":""},null,null,{"$f":"IF(AND(tblOrder[[#This Row],[Size - Description]]<>\"\",$E226<>\"\",E226<>\"Tag\"),E226,\"\")","v":""},{"$f":"_xlfn.IFNA(_xlfn.XLOOKUP(tblOrder[[#This Row],[Size - Description]],tblItemHidden[ITEM CODE DESC],tblItemHidden[UNIT PRICE],,0,1),\"\")","v":""},{"$f":"IFERROR(tblOrder[[#This Row],[Qty]]*tblOrder[[#This Row],[Unit Price]],\"\")","v":""},{"$f":"IFERROR(INDEX(tblItemHidden[], MATCH(B227&\"-\"&LEFT(C227,FIND(\" - \",C227,1)-1), ItemCodeLookup, 0), 10) * $D227,\"\")","v":""}]
[null,{"$f":"IF(ISNA(VLOOKUP(A228,tblStyle[],3,0)),\"\",VLOOKUP(A228,tblStyle[],3,0))","v":""},null,null,{"$f":"IF(AND(tblOrder[[#This Row],[Size - Description]]<>\"\",$E227<>\"\",E227<>\"Tag\"),E227,\"\")","v":""},{"$f":"_xlfn.IFNA(_xlfn.XLOOKUP(tblOrder[[#This Row],[Size - Description]],tblItemHidden[ITEM CODE DESC],tblItemHidden[UNIT PRICE],,0,1),\"\")","v":""},{"$f":"IFERROR(tblOrder[[#This Row],[Qty]]*tblOrder[[#This Row],[Unit Price]],\"\")","v":""},{"$f":"IFERROR(INDEX(tblItemHidden[], MATCH(B228&\"-\"&LEFT(C228,FIND(\" - \",C228,1)-1), ItemCodeLookup, 0), 10) * $D228,\"\")","v":""}]
[null,{"$f":"IF(ISNA(VLOOKUP(A229,tblStyle[],3,0)),\"\",VLOOKUP(A229,tblStyle[],3,0))","v":""},null,null,{"$f":"IF(AND(tblOrder[[#This Row],[Size - Description]]<>\"\",$E228<>\"\",E228<>\"Tag\"),E228,\"\")","v":""},{"$f":"_xlfn.IFNA(_xlfn.XLOOKUP(tblOrder[[#This Row],[Size - Description]],tblItemHidden[ITEM CODE DESC],tblItemHidden[UNIT PRICE],,0,1),\"\")","v":""},{"$f":"IFERROR(tblOrder[[#This Row],[Qty]]*tblOrder[[#This Row],[Unit Price]],\"\")","v":""},{"$f":"IFERROR(INDEX(tblItemHidden[], MATCH(B229&\"-\"&LEFT(C229,FIND(\" - \",C229,1)-1), ItemCodeLookup, 0), 10) * $D229,\"\")","v":""}]
[null,{"$f":"IF(ISNA(VLOOKUP(A230,tblStyle[],3,0)),\"\",VLOOKUP(A230,tblStyle[],3,0))","v":""},null,null,{"$f":"IF(AND(tblOrder[[#This Row],[Size - Description]]<>\"\",$E229<>\"\",E229<>\"Tag\"),E229,\"\")","v":""},{"$f":"_xlfn.IFNA(_xlfn.XLOOKUP(tblOrder[[#This Row],[Size - Description]],tblItemHidden[ITEM CODE DESC],tblItemHidden[UNIT PRICE],,0,1),\"\")","v":""},{"$f":"IFERROR(tblOrder[[#This Row],[Qty]]*tblOrder[[#This Row],[Unit Price]],\"\")","v":""},{"$f":"IFERROR(INDEX(tblItemHidden[], MATCH(B230&\"-\"&LEFT(C230,FIND(\" - \",C230,1)-1), ItemCodeLookup, 0), 10) * $D230,\"\")","v":""}]
[null,{"$f":"IF(ISNA(VLOOKUP(A231,tblStyle[],3,0)),\"\",VLOOKUP(A231,tblStyle[],3,0))","v":""},null,null,{"$f":"IF(AND(tblOrder[[#This Row],[Size - Description]]<>\"\",$E230<>\"\",E230<>\"Tag\"),E230,\"\")","v":""},{"$f":"_xlfn.IFNA(_xlfn.XLOOKUP(tblOrder[[#This Row],[Size - Description]],tblItemHidden[ITEM CODE DESC],tblItemHidden[UNIT PRICE],,0,1),\"\")","v":""},{"$f":"IFERROR(tblOrder[[#This Row],[Qty]]*tblOrder[[#This Row],[Unit Price]],\"\")","v":""},{"$f":"IFERROR(INDEX(tblItemHidden[], MATCH(B231&\"-\"&LEFT(C231,FIND(\" - \",C231,1)-1), ItemCodeLookup, 0), 10) * $D231,\"\")","v":""}]
[null,{"$f":"IF(ISNA(VLOOKUP(A232,tblStyle[],3,0)),\"\",VLOOKUP(A232,tblStyle[],3,0))","v":""},null,null,{"$f":"IF(AND(tblOrder[[#This Row],[Size - Description]]<>\"\",$E231<>\"\",E231<>\"Tag\"),E231,\"\")","v":""},{"$f":"_xlfn.IFNA(_xlfn.XLOOKUP(tblOrder[[#This Row],[Size - Description]],tblItemHidden[ITEM CODE DESC],tblItemHidden[UNIT PRICE],,0,1),\"\")","v":""},{"$f":"IFERROR(tblOrder[[#This Row],[Qty]]*tblOrder[[#This Row],[Unit Price]],\"\")","v":""},{"$f":"IFERROR(INDEX(tblItemHidden[], MATCH(B232&\"-\"&LEFT(C232,FIND(\" - \",C232,1)-1), ItemCodeLookup, 0), 10) * $D232,\"\")","v":""}]
[null,{"$f":"IF(ISNA(VLOOKUP(A233,tblStyle[],3,0)),\"\",VLOOKUP(A233,tblStyle[],3,0))","v":""},null,null,{"$f":"IF(AND(tblOrder[[#This Row],[Size - Description]]<>\"\",$E232<>\"\",E232<>\"Tag\"),E232,\"\")","v":""},{"$f":"_xlfn.IFNA(_xlfn.XLOOKUP(tblOrder[[#This Row],[Size - Description]],tblItemHidden[ITEM CODE DESC],tblItemHidden[UNIT PRICE],,0,1),\"\")","v":""},{"$f":"IFERROR(tblOrder[[#This Row],[Qty]]*tblOrder[[#This Row],[Unit Price]],\"\")","v":""},{"$f":"IFERROR(INDEX(tblItemHidden[], MATCH(B233&\"-\"&LEFT(C233,FIND(\" - \",C233,1)-1), ItemCodeLookup, 0), 10) * $D233,\"\")","v":""}]
[null,{"$f":"IF(ISNA(VLOOKUP(A234,tblStyle[],3,0)),\"\",VLOOKUP(A234,tblStyle[],3,0))","v":""},null,null,{"$f":"IF(AND(tblOrder[[#This Row],[Size - Description]]<>\"\",$E233<>\"\",E233<>\"Tag\"),E233,\"\")","v":""},{"$f":"_xlfn.IFNA(_xlfn.XLOOKUP(tblOrder[[#This Row],[Size - Description]],tblItemHidden[ITEM CODE DESC],tblItemHidden[UNIT PRICE],,0,1),\"\")","v":""},{"$f":"IFERROR(tblOrder[[#This Row],[Qty]]*tblOrder[[#This Row],[Unit Price]],\"\")","v":""},{"$f":"IFERROR(INDEX(tblItemHidden[], MATCH(B234&\"-\"&LEFT(C234,FIND(\" - \",C234,1)-1), ItemCodeLookup, 0), 10) * $D234,\"\")","v":""}]
[null,{"$f":"IF(ISNA(VLOOKUP(A235,tblStyle[],3,0)),\"\",VLOOKUP(A235,tblStyle[],3,0))","v":""},null,null,{"$f":"IF(AND(tblOrder[[#This Row],[Size - Description]]<>\"\",$E234<>\"\",E234<>\"Tag\"),E234,\"\")","v":""},{"$f":"_xlfn.IFNA(_xlfn.XLOOKUP(tblOrder[[#This Row],[Size - Description]],tblItemHidden[ITEM CODE DESC],tblItemHidden[UNIT PRICE],,0,1),\"\")","v":""},{"$f":"IFERROR(tblOrder[[#This Row],[Qty]]*tblOrder[[#This Row],[Unit Price]],\"\")","v":""},{"$f":"IFERROR(INDEX(tblItemHidden[], MATCH(B235&\"-\"&LEFT(C235,FIND(\" - \",C235,1)-1), ItemCodeLookup, 0), 10) * $D235,\"\")","v":""}]
[null,{"$f":"IF(ISNA(VLOOKUP(A236,tblStyle[],3,0)),\"\",VLOOKUP(A236,tblStyle[],3,0))","v":""},null,null,{"$f":"IF(AND(tblOrder[[#This Row],[Size - Description]]<>\"\",$E235<>\"\",E235<>\"Tag\"),E235,\"\")","v":""},{"$f":"_xlfn.IFNA(_xlfn.XLOOKUP(tblOrder[[#This Row],[Size - Description]],tblItemHidden[ITEM CODE DESC],tblItemHidden[UNIT PRICE],,0,1),\"\")","v":""},{"$f":"IFERROR(tblOrder[[#This Row],[Qty]]*tblOrder[[#This Row],[Unit Price]],\"\")","v":""},{"$f":"IFERROR(INDEX(tblItemHidden[], MATCH(B236&\"-\"&LEFT(C236,FIND(\" - \",C236,1)-1), ItemCodeLookup, 0), 10) * $D236,\"\")","v":""}]
[null,{"$f":"IF(ISNA(VLOOKUP(A237,tblStyle[],3,0)),\"\",VLOOKUP(A237,tblStyle[],3,0))","v":""},null,null,{"$f":"IF(AND(tblOrder[[#This Row],[Size - Description]]<>\"\",$E236<>\"\",E236<>\"Tag\"),E236,\"\")","v":""},{"$f":"_xlfn.IFNA(_xlfn.XLOOKUP(tblOrder[[#This Row],[Size - Description]],tblItemHidden[ITEM CODE DESC],tblItemHidden[UNIT PRICE],,0,1),\"\")","v":""},{"$f":"IFERROR(tblOrder[[#This Row],[Qty]]*tblOrder[[#This Row],[Unit Price]],\"\")","v":""},{"$f":"IFERROR(INDEX(tblItemHidden[], MATCH(B237&\"-\"&LEFT(C237,FIND(\" - \",C237,1)-1), ItemCodeLookup, 0), 10) * $D237,\"\")","v":""}]
[null,{"$f":"IF(ISNA(VLOOKUP(A238,tblStyle[],3,0)),\"\",VLOOKUP(A238,tblStyle[],3,0))","v":""},null,null,{"$f":"IF(AND(tblOrder[[#This Row],[Size - Description]]<>\"\",$E237<>\"\",E237<>\"Tag\"),E237,\"\")","v":""},{"$f":"_xlfn.IFNA(_xlfn.XLOOKUP(tblOrder[[#This Row],[Size - Description]],tblItemHidden[ITEM CODE DESC],tblItemHidden[UNIT PRICE],,0,1),\"\")","v":""},{"$f":"IFERROR(tblOrder[[#This Row],[Qty]]*tblOrder[[#This Row],[Unit Price]],\"\")","v":""},{"$f":"IFERROR(INDEX(tblItemHidden[], MATCH(B238&\"-\"&LEFT(C238,FIND(\" - \",C238,1)-1), ItemCodeLookup, 0), 10) * $D238,\"\")","v":""}]
[null,{"$f":"IF(ISNA(VLOOKUP(A239,tblStyle[],3,0)),\"\",VLOOKUP(A239,tblStyle[],3,0))","v":""},null,null,{"$f":"IF(AND(tblOrder[[#This Row],[Size - Description]]<>\"\",$E238<>\"\",E238<>\"Tag\"),E238,\"\")","v":""},{"$f":"_xlfn.IFNA(_xlfn.XLOOKUP(tblOrder[[#This Row],[Size - Description]],tblItemHidden[ITEM CODE DESC],tblItemHidden[UNIT PRICE],,0,1),\"\")","v":""},{"$f":"IFERROR(tblOrder[[#This Row],[Qty]]*tblOrder[[#This Row],[Unit Price]],\"\")","v":""},{"$f":"IFERROR(INDEX(tblItemHidden[], MATCH(B239&\"-\"&LEFT(C239,FIND(\" - \",C239,1)-1), ItemCodeLookup, 0), 10) * $D239,\"\")","v":""}]
[null,{"$f":"IF(ISNA(VLOOKUP(A240,tblStyle[],3,0)),\"\",VLOOKUP(A240,tblStyle[],3,0))","v":""},null,null,{"$f":"IF(AND(tblOrder[[#This Row],[Size - Description]]<>\"\",$E239<>\"\",E239<>\"Tag\"),E239,\"\")","v":""},{"$f":"_xlfn.IFNA(_xlfn.XLOOKUP(tblOrder[[#This Row],[Size - Description]],tblItemHidden[ITEM CODE DESC],tblItemHidden[UNIT PRICE],,0,1),\"\")","v":""},{"$f":"IFERROR(tblOrder[[#This Row],[Qty]]*tblOrder[[#This Row],[Unit Price]],\"\")","v":""},{"$f":"IFERROR(INDEX(tblItemHidden[], MATCH(B240&\"-\"&LEFT(C240,FIND(\" - \",C240,1)-1), ItemCodeLookup, 0), 10) * $D240,\"\")","v":""}]
[null,{"$f":"IF(ISNA(VLOOKUP(A241,tblStyle[],3,0)),\"\",VLOOKUP(A241,tblStyle[],3,0))","v":""},null,null,{"$f":"IF(AND(tblOrder[[#This Row],[Size - Description]]<>\"\",$E240<>\"\",E240<>\"Tag\"),E240,\"\")","v":""},{"$f":"_xlfn.IFNA(_xlfn.XLOOKUP(tblOrder[[#This Row],[Size - Description]],tblItemHidden[ITEM CODE DESC],tblItemHidden[UNIT PRICE],,0,1),\"\")","v":""},{"$f":"IFERROR(tblOrder[[#This Row],[Qty]]*tblOrder[[#This Row],[Unit Price]],\"\")","v":""},{"$f":"IFERROR(INDEX(tblItemHidden[], MATCH(B241&\"-\"&LEFT(C241,FIND(\" - \",C241,1)-1), ItemCodeLookup, 0), 10) * $D241,\"\")","v":""}]
[null,{"$f":"IF(ISNA(VLOOKUP(A242,tblStyle[],3,0)),\"\",VLOOKUP(A242,tblStyle[],3,0))","v":""},null,null,{"$f":"IF(AND(tblOrder[[#This Row],[Size - Description]]<>\"\",$E241<>\"\",E241<>\"Tag\"),E241,\"\")","v":""},{"$f":"_xlfn.IFNA(_xlfn.XLOOKUP(tblOrder[[#This Row],[Size - Description]],tblItemHidden[ITEM CODE DESC],tblItemHidden[UNIT PRICE],,0,1),\"\")","v":""},{"$f":"IFERROR(tblOrder[[#This Row],[Qty]]*tblOrder[[#This Row],[Unit Price]],\"\")","v":""},{"$f":"IFERROR(INDEX(tblItemHidden[], MATCH(B242&\"-\"&LEFT(C242,FIND(\" - \",C242,1)-1), ItemCodeLookup, 0), 10) * $D242,\"\")","v":""}]
[null,{"$f":"IF(ISNA(VLOOKUP(A243,tblStyle[],3,0)),\"\",VLOOKUP(A243,tblStyle[],3,0))","v":""},null,null,{"$f":"IF(AND(tblOrder[[#This Row],[Size - Description]]<>\"\",$E242<>\"\",E242<>\"Tag\"),E242,\"\")","v":""},{"$f":"_xlfn.IFNA(_xlfn.XLOOKUP(tblOrder[[#This Row],[Size - Description]],tblItemHidden[ITEM CODE DESC],tblItemHidden[UNIT PRICE],,0,1),\"\")","v":""},{"$f":"IFERROR(tblOrder[[#This Row],[Qty]]*tblOrder[[#This Row],[Unit Price]],\"\")","v":""},{"$f":"IFERROR(INDEX(tblItemHidden[], MATCH(B243&\"-\"&LEFT(C243,FIND(\" - \",C243,1)-1), ItemCodeLookup, 0), 10) * $D243,\"\")","v":""}]
[null,{"$f":"IF(ISNA(VLOOKUP(A244,tblStyle[],3,0)),\"\",VLOOKUP(A244,tblStyle[],3,0))","v":""},null,null,{"$f":"IF(AND(tblOrder[[#This Row],[Size - Description]]<>\"\",$E243<>\"\",E243<>\"Tag\"),E243,\"\")","v":""},{"$f":"_xlfn.IFNA(_xlfn.XLOOKUP(tblOrder[[#This Row],[Size - Description]],tblItemHidden[ITEM CODE DESC],tblItemHidden[UNIT PRICE],,0,1),\"\")","v":""},{"$f":"IFERROR(tblOrder[[#This Row],[Qty]]*tblOrder[[#This Row],[Unit Price]],\"\")","v":""},{"$f":"IFERROR(INDEX(tblItemHidden[], MATCH(B244&\"-\"&LEFT(C244,FIND(\" - \",C244,1)-1), ItemCodeLookup, 0), 10) * $D244,\"\")","v":""}]
[null,{"$f":"IF(ISNA(VLOOKUP(A245,tblStyle[],3,0)),\"\",VLOOKUP(A245,tblStyle[],3,0))","v":""},null,null,{"$f":"IF(AND(tblOrder[[#This Row],[Size - Description]]<>\"\",$E244<>\"\",E244<>\"Tag\"),E244,\"\")","v":""},{"$f":"_xlfn.IFNA(_xlfn.XLOOKUP(tblOrder[[#This Row],[Size - Description]],tblItemHidden[ITEM CODE DESC],tblItemHidden[UNIT PRICE],,0,1),\"\")","v":""},{"$f":"IFERROR(tblOrder[[#This Row],[Qty]]*tblOrder[[#This Row],[Unit Price]],\"\")","v":""},{"$f":"IFERROR(INDEX(tblItemHidden[], MATCH(B245&\"-\"&LEFT(C245,FIND(\" - \",C245,1)-1), ItemCodeLookup, 0), 10) * $D245,\"\")","v":""}]
[null,{"$f":"IF(ISNA(VLOOKUP(A246,tblStyle[],3,0)),\"\",VLOOKUP(A246,tblStyle[],3,0))","v":""},null,null,{"$f":"IF(AND(tblOrder[[#This Row],[Size - Description]]<>\"\",$E245<>\"\",E245<>\"Tag\"),E245,\"\")","v":""},{"$f":"_xlfn.IFNA(_xlfn.XLOOKUP(tblOrder[[#This Row],[Size - Description]],tblItemHidden[ITEM CODE DESC],tblItemHidden[UNIT PRICE],,0,1),\"\")","v":""},{"$f":"IFERROR(tblOrder[[#This Row],[Qty]]*tblOrder[[#This Row],[Unit Price]],\"\")","v":""},{"$f":"IFERROR(INDEX(tblItemHidden[], MATCH(B246&\"-\"&LEFT(C246,FIND(\" - \",C246,1)-1), ItemCodeLookup, 0), 10) * $D246,\"\")","v":""}]
[null,{"$f":"IF(ISNA(VLOOKUP(A247,tblStyle[],3,0)),\"\",VLOOKUP(A247,tblStyle[],3,0))","v":""},null,null,{"$f":"IF(AND(tblOrder[[#This Row],[Size - Description]]<>\"\",$E246<>\"\",E246<>\"Tag\"),E246,\"\")","v":""},{"$f":"_xlfn.IFNA(_xlfn.XLOOKUP(tblOrder[[#This Row],[Size - Description]],tblItemHidden[ITEM CODE DESC],tblItemHidden[UNIT PRICE],,0,1),\"\")","v":""},{"$f":"IFERROR(tblOrder[[#This Row],[Qty]]*tblOrder[[#This Row],[Unit Price]],\"\")","v":""},{"$f":"IFERROR(INDEX(tblItemHidden[], MATCH(B247&\"-\"&LEFT(C247,FIND(\" - \",C247,1)-1), ItemCodeLookup, 0), 10) * $D247,\"\")","v":""}]
[null,{"$f":"IF(ISNA(VLOOKUP(A248,tblStyle[],3,0)),\"\",VLOOKUP(A248,tblStyle[],3,0))","v":""},null,null,{"$f":"IF(AND(tblOrder[[#This Row],[Size - Description]]<>\"\",$E247<>\"\",E247<>\"Tag\"),E247,\"\")","v":""},{"$f":"_xlfn.IFNA(_xlfn.XLOOKUP(tblOrder[[#This Row],[Size - Description]],tblItemHidden[ITEM CODE DESC],tblItemHidden[UNIT PRICE],,0,1),\"\")","v":""},{"$f":"IFERROR(tblOrder[[#This Row],[Qty]]*tblOrder[[#This Row],[Unit Price]],\"\")","v":""},{"$f":"IFERROR(INDEX(tblItemHidden[], MATCH(B248&\"-\"&LEFT(C248,FIND(\" - \",C248,1)-1), ItemCodeLookup, 0), 10) * $D248,\"\")","v":""}]
[null,{"$f":"IF(ISNA(VLOOKUP(A249,tblStyle[],3,0)),\"\",VLOOKUP(A249,tblStyle[],3,0))","v":""},null,null,{"$f":"IF(AND(tblOrder[[#This Row],[Size - Description]]<>\"\",$E248<>\"\",E248<>\"Tag\"),E248,\"\")","v":""},{"$f":"_xlfn.IFNA(_xlfn.XLOOKUP(tblOrder[[#This Row],[Size - Description]],tblItemHidden[ITEM CODE DESC],tblItemHidden[UNIT PRICE],,0,1),\"\")","v":""},{"$f":"IFERROR(tblOrder[[#This Row],[Qty]]*tblOrder[[#This Row],[Unit Price]],\"\")","v":""},{"$f":"IFERROR(INDEX(tblItemHidden[], MATCH(B249&\"-\"&LEFT(C249,FIND(\" - \",C249,1)-1), ItemCodeLookup, 0), 10) * $D249,\"\")","v":""}]
[null,{"$f":"IF(ISNA(VLOOKUP(A250,tblStyle[],3,0)),\"\",VLOOKUP(A250,tblStyle[],3,0))","v":""},null,null,{"$f":"IF(AND(tblOrder[[#This Row],[Size - Description]]<>\"\",$E249<>\"\",E249<>\"Tag\"),E249,\"\")","v":""},{"$f":"_xlfn.IFNA(_xlfn.XLOOKUP(tblOrder[[#This Row],[Size - Description]],tblItemHidden[ITEM CODE DESC],tblItemHidden[UNIT PRICE],,0,1),\"\")","v":""},{"$f":"IFERROR(tblOrder[[#This Row],[Qty]]*tblOrder[[#This Row],[Unit Price]],\"\")","v":""},{"$f":"IFERROR(INDEX(tblItemHidden[], MATCH(B250&\"-\"&LEFT(C250,FIND(\" - \",C250,1)-1), ItemCodeLookup, 0), 10) * $D250,\"\")","v":""}]
[null,{"$f":"IF(ISNA(VLOOKUP(A251,tblStyle[],3,0)),\"\",VLOOKUP(A251,tblStyle[],3,0))","v":""},null,null,{"$f":"IF(AND(tblOrder[[#This Row],[Size - Description]]<>\"\",$E250<>\"\",E250<>\"Tag\"),E250,\"\")","v":""},{"$f":"_xlfn.IFNA(_xlfn.XLOOKUP(tblOrder[[#This Row],[Size - Description]],tblItemHidden[ITEM CODE DESC],tblItemHidden[UNIT PRICE],,0,1),\"\")","v":""},{"$f":"IFERROR(tblOrder[[#This Row],[Qty]]*tblOrder[[#This Row],[Unit Price]],\"\")","v":""},{"$f":"IFERROR(INDEX(tblItemHidden[], MATCH(B251&\"-\"&LEFT(C251,FIND(\" - \",C251,1)-1), ItemCodeLookup, 0), 10) * $D251,\"\")","v":""}]
[null,{"$f":"IF(ISNA(VLOOKUP(A252,tblStyle[],3,0)),\"\",VLOOKUP(A252,tblStyle[],3,0))","v":""},null,null,{"$f":"IF(AND(tblOrder[[#This Row],[Size - Description]]<>\"\",$E251<>\"\",E251<>\"Tag\"),E251,\"\")","v":""},{"$f":"_xlfn.IFNA(_xlfn.XLOOKUP(tblOrder[[#This Row],[Size - Description]],tblItemHidden[ITEM CODE DESC],tblItemHidden[UNIT PRICE],,0,1),\"\")","v":""},{"$f":"IFERROR(tblOrder[[#This Row],[Qty]]*tblOrder[[#This Row],[Unit Price]],\"\")","v":""},{"$f":"IFERROR(INDEX(tblItemHidden[], MATCH(B252&\"-\"&LEFT(C252,FIND(\" - \",C252,1)-1), ItemCodeLookup, 0), 10) * $D252,\"\")","v":""}]
[null,{"$f":"IF(ISNA(VLOOKUP(A253,tblStyle[],3,0)),\"\",VLOOKUP(A253,tblStyle[],3,0))","v":""},null,null,{"$f":"IF(AND(tblOrder[[#This Row],[Size - Description]]<>\"\",$E252<>\"\",E252<>\"Tag\"),E252,\"\")","v":""},{"$f":"_xlfn.IFNA(_xlfn.XLOOKUP(tblOrder[[#This Row],[Size - Description]],tblItemHidden[ITEM CODE DESC],tblItemHidden[UNIT PRICE],,0,1),\"\")","v":""},{"$f":"IFERROR(tblOrder[[#This Row],[Qty]]*tblOrder[[#This Row],[Unit Price]],\"\")","v":""},{"$f":"IFERROR(INDEX(tblItemHidden[], MATCH(B253&\"-\"&LEFT(C253,FIND(\" - \",C253,1)-1), ItemCodeLookup, 0), 10) * $D253,\"\")","v":""}]
[null,{"$f":"IF(ISNA(VLOOKUP(A254,tblStyle[],3,0)),\"\",VLOOKUP(A254,tblStyle[],3,0))","v":""},null,null,{"$f":"IF(AND(tblOrder[[#This Row],[Size - Description]]<>\"\",$E253<>\"\",E253<>\"Tag\"),E253,\"\")","v":""},{"$f":"_xlfn.IFNA(_xlfn.XLOOKUP(tblOrder[[#This Row],[Size - Description]],tblItemHidden[ITEM CODE DESC],tblItemHidden[UNIT PRICE],,0,1),\"\")","v":""},{"$f":"IFERROR(tblOrder[[#This Row],[Qty]]*tblOrder[[#This Row],[Unit Price]],\"\")","v":""},{"$f":"IFERROR(INDEX(tblItemHidden[], MATCH(B254&\"-\"&LEFT(C254,FIND(\" - \",C254,1)-1), ItemCodeLookup, 0), 10) * $D254,\"\")","v":""}]
[null,{"$f":"IF(ISNA(VLOOKUP(A255,tblStyle[],3,0)),\"\",VLOOKUP(A255,tblStyle[],3,0))","v":""},null,null,{"$f":"IF(AND(tblOrder[[#This Row],[Size - Description]]<>\"\",$E254<>\"\",E254<>\"Tag\"),E254,\"\")","v":""},{"$f":"_xlfn.IFNA(_xlfn.XLOOKUP(tblOrder[[#This Row],[Size - Description]],tblItemHidden[ITEM CODE DESC],tblItemHidden[UNIT PRICE],,0,1),\"\")","v":""},{"$f":"IFERROR(tblOrder[[#This Row],[Qty]]*tblOrder[[#This Row],[Unit Price]],\"\")","v":""},{"$f":"IFERROR(INDEX(tblItemHidden[], MATCH(B255&\"-\"&LEFT(C255,FIND(\" - \",C255,1)-1), ItemCodeLookup, 0), 10) * $D255,\"\")","v":""}]
[null,{"$f":"IF(ISNA(VLOOKUP(A256,tblStyle[],3,0)),\"\",VLOOKUP(A256,tblStyle[],3,0))","v":""},null,null,{"$f":"IF(AND(tblOrder[[#This Row],[Size - Description]]<>\"\",$E255<>\"\",E255<>\"Tag\"),E255,\"\")","v":""},{"$f":"_xlfn.IFNA(_xlfn.XLOOKUP(tblOrder[[#This Row],[Size - Description]],tblItemHidden[ITEM CODE DESC],tblItemHidden[UNIT PRICE],,0,1),\"\")","v":""},{"$f":"IFERROR(tblOrder[[#This Row],[Qty]]*tblOrder[[#This Row],[Unit Price]],\"\")","v":""},{"$f":"IFERROR(INDEX(tblItemHidden[], MATCH(B256&\"-\"&LEFT(C256,FIND(\" - \",C256,1)-1), ItemCodeLookup, 0), 10) * $D256,\"\")","v":""}]
[null,{"$f":"IF(ISNA(VLOOKUP(A257,tblStyle[],3,0)),\"\",VLOOKUP(A257,tblStyle[],3,0))","v":""},null,null,{"$f":"IF(AND(tblOrder[[#This Row],[Size - Description]]<>\"\",$E256<>\"\",E256<>\"Tag\"),E256,\"\")","v":""},{"$f":"_xlfn.IFNA(_xlfn.XLOOKUP(tblOrder[[#This Row],[Size - Description]],tblItemHidden[ITEM CODE DESC],tblItemHidden[UNIT PRICE],,0,1),\"\")","v":""},{"$f":"IFERROR(tblOrder[[#This Row],[Qty]]*tblOrder[[#This Row],[Unit Price]],\"\")","v":""},{"$f":"IFERROR(INDEX(tblItemHidden[], MATCH(B257&\"-\"&LEFT(C257,FIND(\" - \",C257,1)-1), ItemCodeLookup, 0), 10) * $D257,\"\")","v":""}]
[null,{"$f":"IF(ISNA(VLOOKUP(A258,tblStyle[],3,0)),\"\",VLOOKUP(A258,tblStyle[],3,0))","v":""},null,null,{"$f":"IF(AND(tblOrder[[#This Row],[Size - Description]]<>\"\",$E257<>\"\",E257<>\"Tag\"),E257,\"\")","v":""},{"$f":"_xlfn.IFNA(_xlfn.XLOOKUP(tblOrder[[#This Row],[Size - Description]],tblItemHidden[ITEM CODE DESC],tblItemHidden[UNIT PRICE],,0,1),\"\")","v":""},{"$f":"IFERROR(tblOrder[[#This Row],[Qty]]*tblOrder[[#This Row],[Unit Price]],\"\")","v":""},{"$f":"IFERROR(INDEX(tblItemHidden[], MATCH(B258&\"-\"&LEFT(C258,FIND(\" - \",C258,1)-1), ItemCodeLookup, 0), 10) * $D258,\"\")","v":""}]
[null,{"$f":"IF(ISNA(VLOOKUP(A259,tblStyle[],3,0)),\"\",VLOOKUP(A259,tblStyle[],3,0))","v":""},null,null,{"$f":"IF(AND(tblOrder[[#This Row],[Size - Description]]<>\"\",$E258<>\"\",E258<>\"Tag\"),E258,\"\")","v":""},{"$f":"_xlfn.IFNA(_xlfn.XLOOKUP(tblOrder[[#This Row],[Size - Description]],tblItemHidden[ITEM CODE DESC],tblItemHidden[UNIT PRICE],,0,1),\"\")","v":""},{"$f":"IFERROR(tblOrder[[#This Row],[Qty]]*tblOrder[[#This Row],[Unit Price]],\"\")","v":""},{"$f":"IFERROR(INDEX(tblItemHidden[], MATCH(B259&\"-\"&LEFT(C259,FIND(\" - \",C259,1)-1), ItemCodeLookup, 0), 10) * $D259,\"\")","v":""}]
[null,{"$f":"IF(ISNA(VLOOKUP(A260,tblStyle[],3,0)),\"\",VLOOKUP(A260,tblStyle[],3,0))","v":""},null,null,{"$f":"IF(AND(tblOrder[[#This Row],[Size - Description]]<>\"\",$E259<>\"\",E259<>\"Tag\"),E259,\"\")","v":""},{"$f":"_xlfn.IFNA(_xlfn.XLOOKUP(tblOrder[[#This Row],[Size - Description]],tblItemHidden[ITEM CODE DESC],tblItemHidden[UNIT PRICE],,0,1),\"\")","v":""},{"$f":"IFERROR(tblOrder[[#This Row],[Qty]]*tblOrder[[#This Row],[Unit Price]],\"\")","v":""},{"$f":"IFERROR(INDEX(tblItemHidden[], MATCH(B260&\"-\"&LEFT(C260,FIND(\" - \",C260,1)-1), ItemCodeLookup, 0), 10) * $D260,\"\")","v":""}]
[null,{"$f":"IF(ISNA(VLOOKUP(A261,tblStyle[],3,0)),\"\",VLOOKUP(A261,tblStyle[],3,0))","v":""},null,null,{"$f":"IF(AND(tblOrder[[#This Row],[Size - Description]]<>\"\",$E260<>\"\",E260<>\"Tag\"),E260,\"\")","v":""},{"$f":"_xlfn.IFNA(_xlfn.XLOOKUP(tblOrder[[#This Row],[Size - Description]],tblItemHidden[ITEM CODE DESC],tblItemHidden[UNIT PRICE],,0,1),\"\")","v":""},{"$f":"IFERROR(tblOrder[[#This Row],[Qty]]*tblOrder[[#This Row],[Unit Price]],\"\")","v":""},{"$f":"IFERROR(INDEX(tblItemHidden[], MATCH(B261&\"-\"&LEFT(C261,FIND(\" - \",C261,1)-1), ItemCodeLookup, 0), 10) * $D261,\"\")","v":""}]
[null,{"$f":"IF(ISNA(VLOOKUP(A262,tblStyle[],3,0)),\"\",VLOOKUP(A262,tblStyle[],3,0))","v":""},null,null,{"$f":"IF(AND(tblOrder[[#This Row],[Size - Description]]<>\"\",$E261<>\"\",E261<>\"Tag\"),E261,\"\")","v":""},{"$f":"_xlfn.IFNA(_xlfn.XLOOKUP(tblOrder[[#This Row],[Size - Description]],tblItemHidden[ITEM CODE DESC],tblItemHidden[UNIT PRICE],,0,1),\"\")","v":""},{"$f":"IFERROR(tblOrder[[#This Row],[Qty]]*tblOrder[[#This Row],[Unit Price]],\"\")","v":""},{"$f":"IFERROR(INDEX(tblItemHidden[], MATCH(B262&\"-\"&LEFT(C262,FIND(\" - \",C262,1)-1), ItemCodeLookup, 0), 10) * $D262,\"\")","v":""}]
[null,{"$f":"IF(ISNA(VLOOKUP(A263,tblStyle[],3,0)),\"\",VLOOKUP(A263,tblStyle[],3,0))","v":""},null,null,{"$f":"IF(AND(tblOrder[[#This Row],[Size - Description]]<>\"\",$E262<>\"\",E262<>\"Tag\"),E262,\"\")","v":""},{"$f":"_xlfn.IFNA(_xlfn.XLOOKUP(tblOrder[[#This Row],[Size - Description]],tblItemHidden[ITEM CODE DESC],tblItemHidden[UNIT PRICE],,0,1),\"\")","v":""},{"$f":"IFERROR(tblOrder[[#This Row],[Qty]]*tblOrder[[#This Row],[Unit Price]],\"\")","v":""},{"$f":"IFERROR(INDEX(tblItemHidden[], MATCH(B263&\"-\"&LEFT(C263,FIND(\" - \",C263,1)-1), ItemCodeLookup, 0), 10) * $D263,\"\")","v":""}]
[null,{"$f":"IF(ISNA(VLOOKUP(A264,tblStyle[],3,0)),\"\",VLOOKUP(A264,tblStyle[],3,0))","v":""},null,null,{"$f":"IF(AND(tblOrder[[#This Row],[Size - Description]]<>\"\",$E263<>\"\",E263<>\"Tag\"),E263,\"\")","v":""},{"$f":"_xlfn.IFNA(_xlfn.XLOOKUP(tblOrder[[#This Row],[Size - Description]],tblItemHidden[ITEM CODE DESC],tblItemHidden[UNIT PRICE],,0,1),\"\")","v":""},{"$f":"IFERROR(tblOrder[[#This Row],[Qty]]*tblOrder[[#This Row],[Unit Price]],\"\")","v":""},{"$f":"IFERROR(INDEX(tblItemHidden[], MATCH(B264&\"-\"&LEFT(C264,FIND(\" - \",C264,1)-1), ItemCodeLookup, 0), 10) * $D264,\"\")","v":""}]
[null,{"$f":"IF(ISNA(VLOOKUP(A265,tblStyle[],3,0)),\"\",VLOOKUP(A265,tblStyle[],3,0))","v":""},null,null,{"$f":"IF(AND(tblOrder[[#This Row],[Size - Description]]<>\"\",$E264<>\"\",E264<>\"Tag\"),E264,\"\")","v":""},{"$f":"_xlfn.IFNA(_xlfn.XLOOKUP(tblOrder[[#This Row],[Size - Description]],tblItemHidden[ITEM CODE DESC],tblItemHidden[UNIT PRICE],,0,1),\"\")","v":""},{"$f":"IFERROR(tblOrder[[#This Row],[Qty]]*tblOrder[[#This Row],[Unit Price]],\"\")","v":""},{"$f":"IFERROR(INDEX(tblItemHidden[], MATCH(B265&\"-\"&LEFT(C265,FIND(\" - \",C265,1)-1), ItemCodeLookup, 0), 10) * $D265,\"\")","v":""}]
[null,{"$f":"IF(ISNA(VLOOKUP(A266,tblStyle[],3,0)),\"\",VLOOKUP(A266,tblStyle[],3,0))","v":""},null,null,{"$f":"IF(AND(tblOrder[[#This Row],[Size - Description]]<>\"\",$E265<>\"\",E265<>\"Tag\"),E265,\"\")","v":""},{"$f":"_xlfn.IFNA(_xlfn.XLOOKUP(tblOrder[[#This Row],[Size - Description]],tblItemHidden[ITEM CODE DESC],tblItemHidden[UNIT PRICE],,0,1),\"\")","v":""},{"$f":"IFERROR(tblOrder[[#This Row],[Qty]]*tblOrder[[#This Row],[Unit Price]],\"\")","v":""},{"$f":"IFERROR(INDEX(tblItemHidden[], MATCH(B266&\"-\"&LEFT(C266,FIND(\" - \",C266,1)-1), ItemCodeLookup, 0), 10) * $D266,\"\")","v":""}]
[null,{"$f":"IF(ISNA(VLOOKUP(A267,tblStyle[],3,0)),\"\",VLOOKUP(A267,tblStyle[],3,0))","v":""},null,null,{"$f":"IF(AND(tblOrder[[#This Row],[Size - Description]]<>\"\",$E266<>\"\",E266<>\"Tag\"),E266,\"\")","v":""},{"$f":"_xlfn.IFNA(_xlfn.XLOOKUP(tblOrder[[#This Row],[Size - Description]],tblItemHidden[ITEM CODE DESC],tblItemHidden[UNIT PRICE],,0,1),\"\")","v":""},{"$f":"IFERROR(tblOrder[[#This Row],[Qty]]*tblOrder[[#This Row],[Unit Price]],\"\")","v":""},{"$f":"IFERROR(INDEX(tblItemHidden[], MATCH(B267&\"-\"&LEFT(C267,FIND(\" - \",C267,1)-1), ItemCodeLookup, 0), 10) * $D267,\"\")","v":""}]
[null,{"$f":"IF(ISNA(VLOOKUP(A268,tblStyle[],3,0)),\"\",VLOOKUP(A268,tblStyle[],3,0))","v":""},null,null,{"$f":"IF(AND(tblOrder[[#This Row],[Size - Description]]<>\"\",$E267<>\"\",E267<>\"Tag\"),E267,\"\")","v":""},{"$f":"_xlfn.IFNA(_xlfn.XLOOKUP(tblOrder[[#This Row],[Size - Description]],tblItemHidden[ITEM CODE DESC],tblItemHidden[UNIT PRICE],,0,1),\"\")","v":""},{"$f":"IFERROR(tblOrder[[#This Row],[Qty]]*tblOrder[[#This Row],[Unit Price]],\"\")","v":""},{"$f":"IFERROR(INDEX(tblItemHidden[], MATCH(B268&\"-\"&LEFT(C268,FIND(\" - \",C268,1)-1), ItemCodeLookup, 0), 10) * $D268,\"\")","v":""}]
[null,{"$f":"IF(ISNA(VLOOKUP(A269,tblStyle[],3,0)),\"\",VLOOKUP(A269,tblStyle[],3,0))","v":""},null,null,{"$f":"IF(AND(tblOrder[[#This Row],[Size - Description]]<>\"\",$E268<>\"\",E268<>\"Tag\"),E268,\"\")","v":""},{"$f":"_xlfn.IFNA(_xlfn.XLOOKUP(tblOrder[[#This Row],[Size - Description]],tblItemHidden[ITEM CODE DESC],tblItemHidden[UNIT PRICE],,0,1),\"\")","v":""},{"$f":"IFERROR(tblOrder[[#This Row],[Qty]]*tblOrder[[#This Row],[Unit Price]],\"\")","v":""},{"$f":"IFERROR(INDEX(tblItemHidden[], MATCH(B269&\"-\"&LEFT(C269,FIND(\" - \",C269,1)-1), ItemCodeLookup, 0), 10) * $D269,\"\")","v":""}]
[null,{"$f":"IF(ISNA(VLOOKUP(A270,tblStyle[],3,0)),\"\",VLOOKUP(A270,tblStyle[],3,0))","v":""},null,null,{"$f":"IF(AND(tblOrder[[#This Row],[Size - Description]]<>\"\",$E269<>\"\",E269<>\"Tag\"),E269,\"\")","v":""},{"$f":"_xlfn.IFNA(_xlfn.XLOOKUP(tblOrder[[#This Row],[Size - Description]],tblItemHidden[ITEM CODE DESC],tblItemHidden[UNIT PRICE],,0,1),\"\")","v":""},{"$f":"IFERROR(tblOrder[[#This Row],[Qty]]*tblOrder[[#This Row],[Unit Price]],\"\")","v":""},{"$f":"IFERROR(INDEX(tblItemHidden[], MATCH(B270&\"-\"&LEFT(C270,FIND(\" - \",C270,1)-1), ItemCodeLookup, 0), 10) * $D270,\"\")","v":""}]
[null,{"$f":"IF(ISNA(VLOOKUP(A271,tblStyle[],3,0)),\"\",VLOOKUP(A271,tblStyle[],3,0))","v":""},null,null,{"$f":"IF(AND(tblOrder[[#This Row],[Size - Description]]<>\"\",$E270<>\"\",E270<>\"Tag\"),E270,\"\")","v":""},{"$f":"_xlfn.IFNA(_xlfn.XLOOKUP(tblOrder[[#This Row],[Size - Description]],tblItemHidden[ITEM CODE DESC],tblItemHidden[UNIT PRICE],,0,1),\"\")","v":""},{"$f":"IFERROR(tblOrder[[#This Row],[Qty]]*tblOrder[[#This Row],[Unit Price]],\"\")","v":""},{"$f":"IFERROR(INDEX(tblItemHidden[], MATCH(B271&\"-\"&LEFT(C271,FIND(\" - \",C271,1)-1), ItemCodeLookup, 0), 10) * $D271,\"\")","v":""}]
[null,{"$f":"IF(ISNA(VLOOKUP(A272,tblStyle[],3,0)),\"\",VLOOKUP(A272,tblStyle[],3,0))","v":""},null,null,{"$f":"IF(AND(tblOrder[[#This Row],[Size - Description]]<>\"\",$E271<>\"\",E271<>\"Tag\"),E271,\"\")","v":""},{"$f":"_xlfn.IFNA(_xlfn.XLOOKUP(tblOrder[[#This Row],[Size - Description]],tblItemHidden[ITEM CODE DESC],tblItemHidden[UNIT PRICE],,0,1),\"\")","v":""},{"$f":"IFERROR(tblOrder[[#This Row],[Qty]]*tblOrder[[#This Row],[Unit Price]],\"\")","v":""},{"$f":"IFERROR(INDEX(tblItemHidden[], MATCH(B272&\"-\"&LEFT(C272,FIND(\" - \",C272,1)-1), ItemCodeLookup, 0), 10) * $D272,\"\")","v":""}]
[null,{"$f":"IF(ISNA(VLOOKUP(A273,tblStyle[],3,0)),\"\",VLOOKUP(A273,tblStyle[],3,0))","v":""},null,null,{"$f":"IF(AND(tblOrder[[#This Row],[Size - Description]]<>\"\",$E272<>\"\",E272<>\"Tag\"),E272,\"\")","v":""},{"$f":"_xlfn.IFNA(_xlfn.XLOOKUP(tblOrder[[#This Row],[Size - Description]],tblItemHidden[ITEM CODE DESC],tblItemHidden[UNIT PRICE],,0,1),\"\")","v":""},{"$f":"IFERROR(tblOrder[[#This Row],[Qty]]*tblOrder[[#This Row],[Unit Price]],\"\")","v":""},{"$f":"IFERROR(INDEX(tblItemHidden[], MATCH(B273&\"-\"&LEFT(C273,FIND(\" - \",C273,1)-1), ItemCodeLookup, 0), 10) * $D273,\"\")","v":""}]
[null,{"$f":"IF(ISNA(VLOOKUP(A274,tblStyle[],3,0)),\"\",VLOOKUP(A274,tblStyle[],3,0))","v":""},null,null,{"$f":"IF(AND(tblOrder[[#This Row],[Size - Description]]<>\"\",$E273<>\"\",E273<>\"Tag\"),E273,\"\")","v":""},{"$f":"_xlfn.IFNA(_xlfn.XLOOKUP(tblOrder[[#This Row],[Size - Description]],tblItemHidden[ITEM CODE DESC],tblItemHidden[UNIT PRICE],,0,1),\"\")","v":""},{"$f":"IFERROR(tblOrder[[#This Row],[Qty]]*tblOrder[[#This Row],[Unit Price]],\"\")","v":""},{"$f":"IFERROR(INDEX(tblItemHidden[], MATCH(B274&\"-\"&LEFT(C274,FIND(\" - \",C274,1)-1), ItemCodeLookup, 0), 10) * $D274,\"\")","v":""}]
[null,{"$f":"IF(ISNA(VLOOKUP(A275,tblStyle[],3,0)),\"\",VLOOKUP(A275,tblStyle[],3,0))","v":""},null,null,{"$f":"IF(AND(tblOrder[[#This Row],[Size - Description]]<>\"\",$E274<>\"\",E274<>\"Tag\"),E274,\"\")","v":""},{"$f":"_xlfn.IFNA(_xlfn.XLOOKUP(tblOrder[[#This Row],[Size - Description]],tblItemHidden[ITEM CODE DESC],tblItemHidden[UNIT PRICE],,0,1),\"\")","v":""},{"$f":"IFERROR(tblOrder[[#This Row],[Qty]]*tblOrder[[#This Row],[Unit Price]],\"\")","v":""},{"$f":"IFERROR(INDEX(tblItemHidden[], MATCH(B275&\"-\"&LEFT(C275,FIND(\" - \",C275,1)-1), ItemCodeLookup, 0), 10) * $D275,\"\")","v":""}]
[null,{"$f":"IF(ISNA(VLOOKUP(A276,tblStyle[],3,0)),\"\",VLOOKUP(A276,tblStyle[],3,0))","v":""},null,null,{"$f":"IF(AND(tblOrder[[#This Row],[Size - Description]]<>\"\",$E275<>\"\",E275<>\"Tag\"),E275,\"\")","v":""},{"$f":"_xlfn.IFNA(_xlfn.XLOOKUP(tblOrder[[#This Row],[Size - Description]],tblItemHidden[ITEM CODE DESC],tblItemHidden[UNIT PRICE],,0,1),\"\")","v":""},{"$f":"IFERROR(tblOrder[[#This Row],[Qty]]*tblOrder[[#This Row],[Unit Price]],\"\")","v":""},{"$f":"IFERROR(INDEX(tblItemHidden[], MATCH(B276&\"-\"&LEFT(C276,FIND(\" - \",C276,1)-1), ItemCodeLookup, 0), 10) * $D276,\"\")","v":""}]
[null,{"$f":"IF(ISNA(VLOOKUP(A277,tblStyle[],3,0)),\"\",VLOOKUP(A277,tblStyle[],3,0))","v":""},null,null,{"$f":"IF(AND(tblOrder[[#This Row],[Size - Description]]<>\"\",$E276<>\"\",E276<>\"Tag\"),E276,\"\")","v":""},{"$f":"_xlfn.IFNA(_xlfn.XLOOKUP(tblOrder[[#This Row],[Size - Description]],tblItemHidden[ITEM CODE DESC],tblItemHidden[UNIT PRICE],,0,1),\"\")","v":""},{"$f":"IFERROR(tblOrder[[#This Row],[Qty]]*tblOrder[[#This Row],[Unit Price]],\"\")","v":""},{"$f":"IFERROR(INDEX(tblItemHidden[], MATCH(B277&\"-\"&LEFT(C277,FIND(\" - \",C277,1)-1), ItemCodeLookup, 0), 10) * $D277,\"\")","v":""}]
[null,{"$f":"IF(ISNA(VLOOKUP(A278,tblStyle[],3,0)),\"\",VLOOKUP(A278,tblStyle[],3,0))","v":""},null,null,{"$f":"IF(AND(tblOrder[[#This Row],[Size - Description]]<>\"\",$E277<>\"\",E277<>\"Tag\"),E277,\"\")","v":""},{"$f":"_xlfn.IFNA(_xlfn.XLOOKUP(tblOrder[[#This Row],[Size - Description]],tblItemHidden[ITEM CODE DESC],tblItemHidden[UNIT PRICE],,0,1),\"\")","v":""},{"$f":"IFERROR(tblOrder[[#This Row],[Qty]]*tblOrder[[#This Row],[Unit Price]],\"\")","v":""},{"$f":"IFERROR(INDEX(tblItemHidden[], MATCH(B278&\"-\"&LEFT(C278,FIND(\" - \",C278,1)-1), ItemCodeLookup, 0), 10) * $D278,\"\")","v":""}]
[null,{"$f":"IF(ISNA(VLOOKUP(A279,tblStyle[],3,0)),\"\",VLOOKUP(A279,tblStyle[],3,0))","v":""},null,null,{"$f":"IF(AND(tblOrder[[#This Row],[Size - Description]]<>\"\",$E278<>\"\",E278<>\"Tag\"),E278,\"\")","v":""},{"$f":"_xlfn.IFNA(_xlfn.XLOOKUP(tblOrder[[#This Row],[Size - Description]],tblItemHidden[ITEM CODE DESC],tblItemHidden[UNIT PRICE],,0,1),\"\")","v":""},{"$f":"IFERROR(tblOrder[[#This Row],[Qty]]*tblOrder[[#This Row],[Unit Price]],\"\")","v":""},{"$f":"IFERROR(INDEX(tblItemHidden[], MATCH(B279&\"-\"&LEFT(C279,FIND(\" - \",C279,1)-1), ItemCodeLookup, 0), 10) * $D279,\"\")","v":""}]
[null,{"$f":"IF(ISNA(VLOOKUP(A280,tblStyle[],3,0)),\"\",VLOOKUP(A280,tblStyle[],3,0))","v":""},null,null,{"$f":"IF(AND(tblOrder[[#This Row],[Size - Description]]<>\"\",$E279<>\"\",E279<>\"Tag\"),E279,\"\")","v":""},{"$f":"_xlfn.IFNA(_xlfn.XLOOKUP(tblOrder[[#This Row],[Size - Description]],tblItemHidden[ITEM CODE DESC],tblItemHidden[UNIT PRICE],,0,1),\"\")","v":""},{"$f":"IFERROR(tblOrder[[#This Row],[Qty]]*tblOrder[[#This Row],[Unit Price]],\"\")","v":""},{"$f":"IFERROR(INDEX(tblItemHidden[], MATCH(B280&\"-\"&LEFT(C280,FIND(\" - \",C280,1)-1), ItemCodeLookup, 0), 10) * $D280,\"\")","v":""}]
[null,{"$f":"IF(ISNA(VLOOKUP(A281,tblStyle[],3,0)),\"\",VLOOKUP(A281,tblStyle[],3,0))","v":""},null,null,{"$f":"IF(AND(tblOrder[[#This Row],[Size - Description]]<>\"\",$E280<>\"\",E280<>\"Tag\"),E280,\"\")","v":""},{"$f":"_xlfn.IFNA(_xlfn.XLOOKUP(tblOrder[[#This Row],[Size - Description]],tblItemHidden[ITEM CODE DESC],tblItemHidden[UNIT PRICE],,0,1),\"\")","v":""},{"$f":"IFERROR(tblOrder[[#This Row],[Qty]]*tblOrder[[#This Row],[Unit Price]],\"\")","v":""},{"$f":"IFERROR(INDEX(tblItemHidden[], MATCH(B281&\"-\"&LEFT(C281,FIND(\" - \",C281,1)-1), ItemCodeLookup, 0), 10) * $D281,\"\")","v":""}]
[null,{"$f":"IF(ISNA(VLOOKUP(A282,tblStyle[],3,0)),\"\",VLOOKUP(A282,tblStyle[],3,0))","v":""},null,null,{"$f":"IF(AND(tblOrder[[#This Row],[Size - Description]]<>\"\",$E281<>\"\",E281<>\"Tag\"),E281,\"\")","v":""},{"$f":"_xlfn.IFNA(_xlfn.XLOOKUP(tblOrder[[#This Row],[Size - Description]],tblItemHidden[ITEM CODE DESC],tblItemHidden[UNIT PRICE],,0,1),\"\")","v":""},{"$f":"IFERROR(tblOrder[[#This Row],[Qty]]*tblOrder[[#This Row],[Unit Price]],\"\")","v":""},{"$f":"IFERROR(INDEX(tblItemHidden[], MATCH(B282&\"-\"&LEFT(C282,FIND(\" - \",C282,1)-1), ItemCodeLookup, 0), 10) * $D282,\"\")","v":""}]
[null,{"$f":"IF(ISNA(VLOOKUP(A283,tblStyle[],3,0)),\"\",VLOOKUP(A283,tblStyle[],3,0))","v":""},null,null,{"$f":"IF(AND(tblOrder[[#This Row],[Size - Description]]<>\"\",$E282<>\"\",E282<>\"Tag\"),E282,\"\")","v":""},{"$f":"_xlfn.IFNA(_xlfn.XLOOKUP(tblOrder[[#This Row],[Size - Description]],tblItemHidden[ITEM CODE DESC],tblItemHidden[UNIT PRICE],,0,1),\"\")","v":""},{"$f":"IFERROR(tblOrder[[#This Row],[Qty]]*tblOrder[[#This Row],[Unit Price]],\"\")","v":""},{"$f":"IFERROR(INDEX(tblItemHidden[], MATCH(B283&\"-\"&LEFT(C283,FIND(\" - \",C283,1)-1), ItemCodeLookup, 0), 10) * $D283,\"\")","v":""}]
[null,{"$f":"IF(ISNA(VLOOKUP(A284,tblStyle[],3,0)),\"\",VLOOKUP(A284,tblStyle[],3,0))","v":""},null,null,{"$f":"IF(AND(tblOrder[[#This Row],[Size - Description]]<>\"\",$E283<>\"\",E283<>\"Tag\"),E283,\"\")","v":""},{"$f":"_xlfn.IFNA(_xlfn.XLOOKUP(tblOrder[[#This Row],[Size - Description]],tblItemHidden[ITEM CODE DESC],tblItemHidden[UNIT PRICE],,0,1),\"\")","v":""},{"$f":"IFERROR(tblOrder[[#This Row],[Qty]]*tblOrder[[#This Row],[Unit Price]],\"\")","v":""},{"$f":"IFERROR(INDEX(tblItemHidden[], MATCH(B284&\"-\"&LEFT(C284,FIND(\" - \",C284,1)-1), ItemCodeLookup, 0), 10) * $D284,\"\")","v":""}]
[null,{"$f":"IF(ISNA(VLOOKUP(A285,tblStyle[],3,0)),\"\",VLOOKUP(A285,tblStyle[],3,0))","v":""},null,null,{"$f":"IF(AND(tblOrder[[#This Row],[Size - Description]]<>\"\",$E284<>\"\",E284<>\"Tag\"),E284,\"\")","v":""},{"$f":"_xlfn.IFNA(_xlfn.XLOOKUP(tblOrder[[#This Row],[Size - Description]],tblItemHidden[ITEM CODE DESC],tblItemHidden[UNIT PRICE],,0,1),\"\")","v":""},{"$f":"IFERROR(tblOrder[[#This Row],[Qty]]*tblOrder[[#This Row],[Unit Price]],\"\")","v":""},{"$f":"IFERROR(INDEX(tblItemHidden[], MATCH(B285&\"-\"&LEFT(C285,FIND(\" - \",C285,1)-1), ItemCodeLookup, 0), 10) * $D285,\"\")","v":""}]
[null,{"$f":"IF(ISNA(VLOOKUP(A286,tblStyle[],3,0)),\"\",VLOOKUP(A286,tblStyle[],3,0))","v":""},null,null,{"$f":"IF(AND(tblOrder[[#This Row],[Size - Description]]<>\"\",$E285<>\"\",E285<>\"Tag\"),E285,\"\")","v":""},{"$f":"_xlfn.IFNA(_xlfn.XLOOKUP(tblOrder[[#This Row],[Size - Description]],tblItemHidden[ITEM CODE DESC],tblItemHidden[UNIT PRICE],,0,1),\"\")","v":""},{"$f":"IFERROR(tblOrder[[#This Row],[Qty]]*tblOrder[[#This Row],[Unit Price]],\"\")","v":""},{"$f":"IFERROR(INDEX(tblItemHidden[], MATCH(B286&\"-\"&LEFT(C286,FIND(\" - \",C286,1)-1), ItemCodeLookup, 0), 10) * $D286,\"\")","v":""}]
[null,{"$f":"IF(ISNA(VLOOKUP(A287,tblStyle[],3,0)),\"\",VLOOKUP(A287,tblStyle[],3,0))","v":""},null,null,{"$f":"IF(AND(tblOrder[[#This Row],[Size - Description]]<>\"\",$E286<>\"\",E286<>\"Tag\"),E286,\"\")","v":""},{"$f":"_xlfn.IFNA(_xlfn.XLOOKUP(tblOrder[[#This Row],[Size - Description]],tblItemHidden[ITEM CODE DESC],tblItemHidden[UNIT PRICE],,0,1),\"\")","v":""},{"$f":"IFERROR(tblOrder[[#This Row],[Qty]]*tblOrder[[#This Row],[Unit Price]],\"\")","v":""},{"$f":"IFERROR(INDEX(tblItemHidden[], MATCH(B287&\"-\"&LEFT(C287,FIND(\" - \",C287,1)-1), ItemCodeLookup, 0), 10) * $D287,\"\")","v":""}]
[null,{"$f":"IF(ISNA(VLOOKUP(A288,tblStyle[],3,0)),\"\",VLOOKUP(A288,tblStyle[],3,0))","v":""},null,null,{"$f":"IF(AND(tblOrder[[#This Row],[Size - Description]]<>\"\",$E287<>\"\",E287<>\"Tag\"),E287,\"\")","v":""},{"$f":"_xlfn.IFNA(_xlfn.XLOOKUP(tblOrder[[#This Row],[Size - Description]],tblItemHidden[ITEM CODE DESC],tblItemHidden[UNIT PRICE],,0,1),\"\")","v":""},{"$f":"IFERROR(tblOrder[[#This Row],[Qty]]*tblOrder[[#This Row],[Unit Price]],\"\")","v":""},{"$f":"IFERROR(INDEX(tblItemHidden[], MATCH(B288&\"-\"&LEFT(C288,FIND(\" - \",C288,1)-1), ItemCodeLookup, 0), 10) * $D288,\"\")","v":""}]

{"sheet":"Item Lookup","index":1,"n_rows":2098,"n_cols":8,"rows_kept":2098,"cut":false,"hidden":false,"merged":[]}
["CNC Item Lookup"]
[null,null,null,null,null,null,null,"CNC Associates Inc."]
[null,null,null,null,null,null,null,"101 Kentile Road"]
[null,null,null,null,null,null,null,"S. Plainfield, NJ 07080"]
[null,null,null,null,null,null,null,"Tel 718.416.3853"]
[null,null,null,null,null,null,null," Fax 718.416.4077"]
["Style Code","Cabinet Size","Item Code","Type","Description","Hinge","Glide","Unit Price"]
["SAMPLE","SBF13.5","C4-SBF13.5","SAMPLE DOOR","COUNTRY OAK - SAMPLE BASE FRONT",0,0,25]
["SAMPLE","SD11X14","C4-SD11X14","SAMPLE DOOR","COUNTRY OAK - SAMPLE DOOR",0,0,18]
["SAMPLE","SBF13.5","D03-SBF13.5","SAMPLE DOOR","DOVER MISTY GREY - SAMPLE BASE FRONT",0,0,21]
["SAMPLE","SD11X14","D03-SD11X14","SAMPLE DOOR","DOVER MISTY GREY - SAMPLE DOOR",0,0,18]
["SAMPLE","SBF13.5","D10-SBF13.5","SAMPLE DOOR","DOVER WHITE - SAMPLE BASE FRONT",0,0,21]
["SAMPLE","SD11X14","D10-SD11X14","SAMPLE DOOR","DOVER WHITE - SAMPLE DOOR",0,0,18]
["SAMPLE","SBF13.5","EB02-SBF13.5","SAMPLE DOOR","ELEGANT SMOKY GREY - SAMPLE BASE FRONT",0,0,25]
["SAMPLE","SD11X14","EB02-SD11X14","SAMPLE DOOR","ELEGANT SMOKY GREY - SAMPLE DOOR",0,0,18]
["SAMPLE","SD5X7","EB02-SD5X7","SAMPLE DOOR","ELEGANT SMOKY GREY - SAMPLE DOOR 5X7",0,0,10]
["SAMPLE","SBF13.5","EB10-SBF13.5","SAMPLE DOOR","ELEGANT WHITE - SAMPLE BASE FRONT",0,0,25]
["SAMPLE","SD11X14","EB10-SD11X14","SAMPLE DOOR","ELEGANT WHITE - SAMPLE DOOR",0,0,18]
["SAMPLE","SD5X7","EB10-SD5X7","SAMPLE DOOR","ELEGANT WHITE - SAMPLE DOOR 5X7",0,0,10]
["SAMPLE","SBF13.5","EB22-SBF13.5","SAMPLE DOOR","ELEGANT DOVE - SAMPLE BASE FRONT",0,0,25]
["SAMPLE","SD11X14","EB22-SD11X14","SAMPLE DOOR","ELEGANT DOVE - SAMPLE DOOR",0,0,18]
["SAMPLE","SD5X7","EB22-SD5X7","SAMPLE DOOR","ELEGANT DOVE - SAMPLE DOOR 5X7",0,0,10]
["SAMPLE","SBF13.5","EB23-SBF13.5","SAMPLE DOOR","ELEGANT STONE - SAMPLE BASE FRONT",0,0,25]
["SAMPLE","SD11X14","EB23-SD11X14","SAMPLE DOOR","ELEGANT STONE - SAMPLE DOOR",0,0,18]
["SAMPLE","SD5X7","EB23-SD5X7","SAMPLE DOOR","ELEGANT STONE - SAMPLE DOOR 5X7",0,0,10]
["SAMPLE","SBF13.5","EB27-SBF13.5","SAMPLE DOOR","ELEGANT OCEAN - SAMPLE BASE FRONT",0,0,25]
["SAMPLE","SD11X14","EB27-SD11X14","SAMPLE DOOR","ELEGANT OCEAN - SAMPLE DOOR",0,0,18]
["SAMPLE","SD5X7","EB27-SD5X7","SAMPLE DOOR","ELEGANT OCEAN - SAMPLE DOOR 5X7",0,0,10]
["SAMPLE","SBF13.5","EBP-SBF13.5","SAMPLE DOOR","ELEGANT PLUS - SAMPLE BASE FRONT",0,0,30]
["SAMPLE","SD11X14","EBP-SD11X14","SAMPLE DOOR","ELEGANT PLUS - SAMPLE DOOR",0,0,22]
["SAMPLE","SD5X7","EBP-SD5X7","SAMPLE DOOR","ELEGANT PLUS - SAMPLE DOOR 5X7",0,0,12]
["SAMPLE","SD5X7","EBU27-SD5X7","SAMPLE DOOR","RTA - ELEGANT OCEAN - SAMPLE DOOR 5X7",0,0,8]
["SAMPLE","SBF13.5","FB10-SBF13.5","SAMPLE DOOR","FASHION WHITE  - SAMPLE BASE FRONT",0,0,25]
["SAMPLE","SD11X14","FB10-SD11X14","SAMPLE DOOR","FASHION WHITE  - SAMPLE DOOR",0,0,18]
["SAMPLE","SD5X7","FB10-SD5X7","SAMPLE DOOR","FASHION WHITE - SAMPLE DOOR 5X7",0,0,8]
["SAMPLE","SBF13.5","FB27-SBF13.5","SAMPLE DOOR","FASHION OCEAN - SAMPLE BASE FRONT",0,0,25]
["SAMPLE","SD11X14","FB27-SD11X14","SAMPLE DOOR","FASHION OCEAN - SAMPLE DOOR",0,0,18]
["SAMPLE","SD5X7","FB27-SD5X7","SAMPLE DOOR","FASHION OCEAN - SAMPLE DOOR 5X7",0,0,8]
["SAMPLE","SBF13.5","FBP-SBF13.5","SAMPLE DOOR","FASHION PLUS - SAMPLE BASE FRONT",0,0,30]
["SAMPLE","SD11X14","FBP-SD11X14","SAMPLE DOOR","FASHION PLUS - SAMPLE DOOR",0,0,22]
["SAMPLE","SD5X7","FBP-SD5X7","SAMPLE DOOR","FASHION PLUS - SAMPLE DOOR 5X7",0,0,12]
["SAMPLE","SD5X7","FBU27-SD5X7","SAMPLE DOOR","RTA - FASHION OCEAN - SAMPLE DOOR 5X7",0,0,8]
["SAMPLE","SBF13.5","HW10-SBF13.5","SAMPLE DOOR","HIGHLAND WHITE - SAMPLE BASE FRONT",0,0,25]
["SAMPLE","SD11X14","HW10-SD11X14","SAMPLE DOOR","HIGHLAND WHITE - SAMPLE DOOR",0,0,18]
["SAMPLE","SBF13.5","L02-SBF13.5","SAMPLE DOOR","LUXOR SMOKY GREY - SAMPLE BASE FRONT",0,0,25]
["SAMPLE","SD11X14","L02-SD11X14","SAMPLE DOOR","LUXOR SMOKY GREY - SAMPLE DOOR",0,0,18]
["SAMPLE","SD5X7","L02-SD5X7","SAMPLE DOOR","LUXOR SMOKY GREY - SAMPLE DOOR 5X7",0,0,10]
["SAMPLE","SDRB11X14","L02-SDRB11X14","SAMPLE DOOR","LUXOR SMOKY GREY - SAMPLE DOOR RELIABILT",0,0,110]
["SAMPLE","SBF13.5","L03-SBF13.5","SAMPLE DOOR","LUXOR MISTY GREY - SAMPLE BASE FRONT",0,0,25]
["SAMPLE","SD11X14","L03-SD11X14","SAMPLE DOOR","LUXOR MISTY GREY - SAMPLE DOOR",0,0,18]
["SAMPLE","SD5X7","L03-SD5X7","SAMPLE DOOR","LUXOR MISTY GREY - SAMPLE DOOR 5X7",0,0,10]
["SAMPLE","SDRB11X14","L03-SDRB11X14","SAMPLE DOOR","LUXOR MISTY GREY - SAMPLE DOOR RELIABILT",0,0,110]
["SAMPLE","SBF13.5","L05-SBF13.5","SAMPLE DOOR","LUXOR HARVEST - SAMPLE BASE FRONT",0,0,25]
["SAMPLE","SD11X14","L05-SD11X14","SAMPLE DOOR","LUXOR HARVEST - SAMPLE DOOR",0,0,18]
["SAMPLE","SD5X7","L05-SD5X7","SAMPLE DOOR","LUXOR HARVEST - SAMPLE DOOR 5X7",0,0,10]
["SAMPLE","SDRB11X14","L05-SDRB11X14","SAMPLE DOOR","LUXOR HARVEST - SAMPLE DOOR RELIABILT",0,0,110]
["SAMPLE","SBF13.5","L10-SBF13.5","SAMPLE DOOR","LUXOR WHITE - SAMPLE BASE FRONT",0,0,25]
["SAMPLE","SD11X14","L10-SD11X14","SAMPLE DOOR","LUXOR WHITE - SAMPLE DOOR",0,0,18]
["SAMPLE","SD5X7","L10-SD5X7","SAMPLE DOOR","LUXOR WHITE - SAMPLE DOOR 5X7",0,0,10]
["SAMPLE","SDRB11X14","L10-SDRB11X14","SAMPLE DOOR","LUXOR WHITE - SAMPLE DOOR RELIABILT",0,0,110]
["SAMPLE","SBF13.5","L11-SBF13.5","SAMPLE DOOR","LUXOR ESPRESSO - SAMPLE BASE FRONT",0,0,25]
["SAMPLE","SD11X14","L11-SD11X14","SAMPLE DOOR","LUXOR ESPRESSO - SAMPLE DOOR",0,0,18]
["SAMPLE","SD5X7","L11-SD5X7","SAMPLE DOOR","LUXOR ESPRESSO - SAMPLE DOOR 5X7",0,0,10]
["SAMPLE","SDRB11X14","L11-SDRB11X14","SAMPLE DOOR","LUXOR ESPRESSO - SAMPLE DOOR RELIABILT",0,0,110]
["SAMPLE","SBF13.5","MM18-SBF13.5","SAMPLE DOOR","MATRIX SILVER - SAMPLE BASE FRONT",0,0,25]
["SAMPLE","SD11X14","MM18-SD11X14","SAMPLE DOOR","MATRIX SILVER - SAMPLE DOOR",0,0,18]
["SAMPLE","SBF13.5","MM19-SBF13.5","SAMPLE DOOR","MATRIX GREYSTONE - SAMPLE BASE FRONT",0,0,25]
["SAMPLE","SD11X14","MM19-SD11X14","SAMPLE DOOR","MATRIX GREYSTONE - SAMPLE DOOR",0,0,18]
["SAMPLE","SBF13.5","MM40-SBF13.5","SAMPLE DOOR","MILANO POLAR WHITE - SAMPLE BASE FRONT",0,0,25]
["SAMPLE","SD11X14","MM40-SD11X14","SAMPLE DOOR","MILANO POLAR WHITE - SAMPLE DOOR",0,0,18]
["SAMPLE","SBF13.5","MM41-SBF13.5","SAMPLE DOOR","MILANO FOSSIL GREY - SAMPLE BASE FRONT",0,0,25]
["SAMPLE","SD11X14","MM41-SD11X14","SAMPLE DOOR","MILANO FOSSIL GREY - SAMPLE DOOR",0,0,18]
["SAMPLE","SBF13.5","MM42-SBF13.5","SAMPLE DOOR","MILANO SAND - SAMPLE BASE FRONT",0,0,25]
["SAMPLE","SD11X14","MM42-SD11X14","SAMPLE DOOR","MILANO SAND - SAMPLE DOOR",0,0,18]
["SAMPLE","SBF13.5","MM43-SBF13.5","SAMPLE DOOR","MILANO SEASIDE  - SAMPLE BASE FRONT",0,0,25]
["SAMPLE","SD11X14","MM43-SD11X14","SAMPLE DOOR","MILANO SEASIDE  - SAMPLE DOOR",0,0,18]
["SAMPLE","SBF13.5","MM44-SBF13.5","SAMPLE DOOR","MILANO PINE - SAMPLE BASE FRONT",0,0,25]
["SAMPLE","SD11X14","MM44-SD11X14","SAMPLE DOOR","MILANO PINE - SAMPLE DOOR",0,0,18]
["SAMPLE","SBF13.5","MM45-SBF13.5","SAMPLE DOOR","MILANO SNOW - SAMPLE BASE FRONT",0,0,25]
["SAMPLE","SD11X14","MM45-SD11X14","SAMPLE DOOR","MILANO SNOW - SAMPLE DOOR",0,0,18]
["SAMPLE","SBF13.5","MM60-SBF13.5","SAMPLE DOOR","MATRIX ALMOND - SAMPLE BASE FRONT",0,0,25]
["SAMPLE","SD11X14","MM60-SD11X14","SAMPLE DOOR","MATRIX ALMOND - SAMPLE DOOR",0,0,18]
["SAMPLE","SBF13.5","MM61-SBF13.5","SAMPLE DOOR","MATRIX CHESTNUT - SAMPLE BASE FRONT",0,0,25]
["SAMPLE","SD11X14","MM61-SD11X14","SAMPLE DOOR","MATRIX CHESTNUT - SAMPLE DOOR",0,0,18]
["SAMPLE","SBF13.5","MW18-SBF13.5","SAMPLE DOOR","MATRIX SILVER - SAMPLE BASE FRONT",0,0,25]
["SAMPLE","SD11X14","MW18-SD11X14","SAMPLE DOOR","MATRIX SILVER - SAMPLE DOOR",0,0,18]
["SAMPLE","SBF13.5","MW19-SBF13.5","SAMPLE DOOR","MATRIX GREYSTONE - SAMPLE BASE FRONT",0,0,25]
["SAMPLE","SD11X14","MW19-SD11X14","SAMPLE DOOR","MATRIX GREYSTONE - SAMPLE DOOR",0,0,18]
["SAMPLE","SBF13.5","MW40-SBF13.5","SAMPLE DOOR","MILANO POLAR WHITE - SAMPLE BASE FRONT",0,0,25]
["SAMPLE","SD11X14","MW40-SD11X14","SAMPLE DOOR","MILANO POLAR WHITE - SAMPLE DOOR",0,0,18]
["SAMPLE","SBF13.5","MW41-SBF13.5","SAMPLE DOOR","MILANO FOSSIL GREY - SAMPLE BASE FRONT",0,0,25]
["SAMPLE","SD11X14","MW41-SD11X14","SAMPLE DOOR","MILANO FOSSIL GREY - SAMPLE DOOR",0,0,18]
["SAMPLE","SBF13.5","MW42-SBF13.5","SAMPLE DOOR","MILANO SAND - SAMPLE BASE FRONT",0,0,25]
["SAMPLE","SD11X14","MW42-SD11X14","SAMPLE DOOR","MILANO SAND - SAMPLE DOOR",0,0,18]
["SAMPLE","SBF13.5","MW43-SBF13.5","SAMPLE DOOR","MILANO SEASIDE - SAMPLE BASE FRONT",0,0,25]
["SAMPLE","SD11X14","MW43-SD11X14","SAMPLE DOOR","MILANO SEASIDE - SAMPLE DOOR",0,0,18]
["SAMPLE","SBF13.5","MW44-SBF13.5","SAMPLE DOOR","MILANO PINE - SAMPLE BASE FRONT",0,0,25]
["SAMPLE","SD11X14","MW44-SD11X14","SAMPLE DOOR","MILANO PINE - SAMPLE DOOR",0,0,18]
["SAMPLE","SBF13.5","MW45-SBF13.5","SAMPLE DOOR","MILANO SNOW - SAMPLE BASE FRONT",0,0,25]
["SAMPLE","SD11X14","MW45-SD11X14","SAMPLE DOOR","MILANO SNOW - SAMPLE DOOR",0,0,18]
["SAMPLE","SBF13.5","MW60-SBF13.5","SAMPLE DOOR","MATRIX ALMOND - SAMPLE BASE FRONT",0,0,25]
["SAMPLE","SD11X14","MW60-SD11X14","SAMPLE DOOR","MATRIX ALMOND - SAMPLE DOOR",0,0,18]
["SAMPLE","SBF13.5","MW61-SBF13.5","SAMPLE DOOR","MATRIX CHESTNUT - SAMPLE BASE FRONT",0,0,25]
["SAMPLE","SD11X14","MW61-SD11X14","SAMPLE DOOR","MATRIX CHESTNUT - SAMPLE DOOR",0,0,18]
["SAMPLE","SBF13.5","NBP-SBF13.5","SAMPLE DOOR","NEWPORT PLUS - SAMPLE BASE FRONT",0,0,30]
["SAMPLE","SD11X14","NBP-SD11X14","SAMPLE DOOR","NEWPORT PLUS - SAMPLE DOOR",0,0,22]
["SAMPLE","SD5X7","NBP-SD5X7","SAMPLE DOOR","NEWPORT PLUS - SAMPLE DOOR 5X7",0,0,12]
["SAMPLE","SBF13.5","PB10-SBF13.5","SAMPLE DOOR","PARK AVENUE WHITE - SAMPLE BASE FRONT",0,0,25]
["SAMPLE","SD11X14","PB10-SD11X14","SAMPLE DOOR","PARK AVENUE WHITE - SAMPLE DOOR",0,0,18]
["SAMPLE","SD5X7","PB10-SD5X7","SAMPLE DOOR","PARK AVENUE WHITE - SAMPLE DOOR 5X7",0,0,10]
["SAMPLE","SBF13.5","PB27-SBF13.5","SAMPLE DOOR","PARK AVENUE OCEAN - SAMPLE BASE FRONT",0,0,25]
["SAMPLE","SD11X14","PB27-SD11X14","SAMPLE DOOR","PARK AVENUE OCEAN - SAMPLE DOOR",0,0,18]
["SAMPLE","SD5X7","PB27-SD5X7","SAMPLE DOOR","PARK AVENUE OCEAN - SAMPLE DOOR 5X7",0,0,10]
["SAMPLE","SD5X7","PBU27-SD5X7","SAMPLE DOOR","RTA - PARK AVENUE OCEAN - SAMPLE DOOR 5X7",0,0,8]
["SAMPLE","SBF13.5","RB10-SBF13.5","SAMPLE DOOR","RICHMOND WHITE - SAMPLE BASE FRONT",0,0,25]
["SAMPLE","SD11X14","RB10-SD11X14","SAMPLE DOOR","RICHMOND WHITE - SAMPLE DOOR",0,0,18]
["SAMPLE","SD5X7","RB10-SD5X7","SAMPLE DOOR","RICHMOND WHITE - SAMPLE DOOR 5X7",0,0,10]
["SAMPLE","SBF13.5","RB23-SBF13.5","SAMPLE DOOR","RICHMOND STONE - SAMPLE BASE FRONT",0,0,25]
["SAMPLE","SD11X14","RB23-SD11X14","SAMPLE DOOR","RICHMOND STONE - SAMPLE DOOR",0,0,18]
["SAMPLE","SD5X7","RB23-SD5X7","SAMPLE DOOR","RICHMOND STONE - SAMPLE DOOR 5X7",0,0,10]
["SAMPLE","SBF13.5","RBP-SBF13.5","SAMPLE DOOR","RICHMOND PLUS - SAMPLE BASE FRONT",0,0,30]
["SAMPLE","SD11X14","RBP-SD11X14","SAMPLE DOOR","RICHMOND PLUS - SAMPLE DOOR",0,0,22]
["SAMPLE","SD5X7","RBP-SD5X7","SAMPLE DOOR","RICHMOND PLUS - SAMPLE DOOR 5X7",0,0,12]
["SAMPLE","SBF13.5","SBP-SBF13.5","SAMPLE DOOR","SYDNEY PLUS - SAMPLE BASE FRONT",0,0,30]
["SAMPLE","SD11X14","SBP-SD11X14","SAMPLE DOOR","SYDNEY PLUS - SAMPLE DOOR",0,0,22]
["SAMPLE","SD5X7","SBP-SD5X7","SAMPLE DOOR","SYDNEY PLUS - SAMPLE DOOR 5X7",0,0,12]
["SAMPLE","SD6X6","SL30-SD6X6","SAMPLE DOOR","SAMPLE BLOCK BIANCA (WHITE GLOSS)",0,0,32]
["SAMPLE","SD6X6","SL31-SD6X6","SAMPLE DOOR","SAMPLE BLOCK GRIGIO (GREY GLOSS)",0,0,32]
["SAMPLE","SD6X6","SL32-SD6X6","SAMPLE DOOR","SAMPLE BLOCK CEMENTO (CONCRETE TEXTURE)",0,0,32]
["SAMPLE","SD6X6","SL33-SD6X6","SAMPLE DOOR","SAMPLE BLOCK NOCE (WALNUT)",0,0,32]
["SAMPLE","SBF13.5","VB10-SBF13.5","SAMPLE DOOR","CONCORD VERSAILLES WHITE - SAMPLE BASE FRONT",0,0,25]
["SAMPLE","SD11X14","VB10-SD11X14","SAMPLE DOOR","CONCORD VERSAILLES WHITE - SAMPLE DOOR",0,0,18]
["SAMPLE","SD5X7","VB10-SD5X7","SAMPLE DOOR","CONCORD VERSAILLES WHITE - SAMPLE DOOR 5X7",0,0,10]
["SAMPLE","SBF13.5","VBP-SBF13.5","SAMPLE DOOR","CONCORD VERSAILLES PLUS- SAMPLE BASE FRONT",0,0,25]
["SAMPLE","SD11X14","VBP-SD11X14","SAMPLE DOOR","CONCORD VERSAILLES PLUS - SAMPLE DOOR",0,0,18]
["SAMPLE","SD5X7","VBP-SD5X7","SAMPLE DOOR","CONCORD VERSAILLES PLUS - SAMPLE DOOR 5X7",0,0,10]
["SAMPLE","SBF13.5","VW10-SBF13.5","SAMPLE DOOR","VERSAILLES WHITE - SAMPLE BASE FRONT",0,0,25]
["SAMPLE","SD11X14","VW10-SD11X14","SAMPLE DOOR","VERSAILLES WHITE - SAMPLE DOOR",0,0,18]
["SAMPLE","BOARD-1","DISP-BOARD-1","SAMPLE","CNC SAMPLE BOARD 1",null,null,58]
["SAMPLE","BOARD-2-LPS","DISP-BOARD-2-LPS","SAMPLE","LPS SAMPLE BOARD 2",0,0,40]
["SAMPLE","CENTER","DISP-CENTER","SAMPLE","CNC DISPLAY CENTER",null,null,1400]
["SAMPLE","COLORBLOCKS","DISP-COLORBLOCKS","SAMPLE","CNC COLOR CHIPS",null,null,47]
["SAMPLE","DR-RACK","DISP-DR-RACK","SAMPLE","DOOR DISPLAY RACK",null,null,92]
["SAMPLE","GT6X6-SET","DISP-GT6X6-SET","SAMPLE","GRANITE COLOR BLOCK SAMPLE SET",0,0,13]
["SAMPLE","L05-BOX","DISP-L05-BOX","SAMPLE DOOR","Promotional mailer box for new Luxor L05 color; includes door sample, brochure and tote bag.",0,0,18]
["SAMPLE","MERCH","DISP-MERCH","SAMPLE","DISPLAY MERCH",0,3,330]
["SAMPLE","MLDG","DISP-MLDG","SAMPLE","CNC MOLDING CHAIN",null,null,47]
["SAMPLE","P-COLORBLOCKS","DISP-P-COLORBLOCKS","SAMPLE","CNC PLUS COLOR CHIPS",null,null,47]
["SAMPLE","PFCHIPS","DISP-PFCHIPS","SAMPLE","CNC POST FORM CHIPS",null,null,0]
["SAMPLE","STAND","DISP-STAND","SAMPLE","4 Door stand",0,0,222]
["SAMPLE","WKIT2","DISP-WKIT2","SAMPLE","CNC WELCOME KIT 2",null,null,92]
["SAMPLE","WKIT3","DISP-WKIT3","SAMPLE","CNC WELCOME KIT 3",null,null,92]
["SAMPLE","BOARD-2-LPS","DISPP-BOARD-2-LPS","SAMPLE","LPS SAMPLE BOARD 2",0,0,175]
["SAMPLE","DISP","DISP-BINDKIT","SAMPLE","CNC WELCOME KIT (BINDER + 1 PIECE OF EACH LITERATURE ITEM)",0,0,0]
[]
[]
[]
[]
[]
[]
[]
[]
[]
[]
[]
[]
[]
[]
[]
[]
[]
[]
[]
[]
[]
[]
[]
[]
[]
[]
[]
[]
[]
[]
[]
[]
[]
[]
[]
[]
[]
[]
[]
[]
[]
[]
[]
[]
[]
[]
[]
[]
[]
[]
[]
[]
[]
[]
[]
[]
[]
[]
[]
[]
[]
[]
[]
[]
[]
[]
[]
[]
[]
[]
[]
[]
[]
[]
[]
[]
[]
[]
[]
[]
[]
[]
[]
[]
[]
[]
[]
[]
[]
[]
[]
[]
[]
[]
[]
[]
[]
[]
[]
[]
[]
[]
[]
[]
[]
[]
[]
[]
[]
[]
[]
[]
[]
[]
[]
[]
[]
[]
[]
[]
[]
[]
[]
[]
[]
[]
[]
[]
[]
[]
[]
[]
[]
[]
[]
[]
[]
[]
[]
[]
[]
[]
[]
[]
[]
[]
[]
[]
[]
[]
[]
[]
[]
[]
[]
[]
[]
[]
[]
[]
[]
[]
[]
[]
[]
[]
[]
[]
[]
[]
[]
[]
[]
[]
[]
[]
[]
[]
[]
[]
[]
[]
[]
[]
[]
[]
[]
[]
[]
[]
[]
[]
[]
[]
[]
[]
[]
[]
[]
[]
[]
[]
[]
[]
[]
[]
[]
[]
[]
[]
[]
[]
[]
[]
[]
[]
[]
[]
[]
[]
[]
[]
[]
[]
[]
[]
[]
[]
[]
[]
[]
[]
[]
[]
[]
[]
[]
[]
[]
[]
[]
[]
[]
[]
[]
[]
[]
[]
[]
[]
[]
[]
[]
[]
[]
[]
[]
[]
[]
[]
[]
[]
[]
[]
[]
[]
[]
[]
[]
[]
[]
[]
[]
[]
[]
[]
[]
[]
[]
[]
[]
[]
[]
[]
[]
[]
[]
[]
[]
[]
[]
[]
[]
[]
[]
[]
[]
[]
[]
[]
[]
[]
[]
[]
[]
[]
[]
[]
[]
[]
[]
[]
[]
[]
[]
[]
[]
[]
[]
[]
[]
[]
[]
[]
[]
[]
[]
[]
[]
[]
[]
[]
[]
[]
[]
[]
[]
[]
[]
[]
[]
[]
[]
[]
[]
[]
[]
[]
[]
[]
[]
[]
[]
[]
[]
[]
[]
[]
[]
[]
[]
[]
[]
[]
[]
[]
[]
[]
[]
[]
[]
[]
[]
[]
[]
[]
[]
[]
[]
[]
[]
[]
[]
[]
[]
[]
[]
[]
[]
[]
[]
[]
[]
[]
[]
[]
[]
[]
[]
[]
[]
[]
[]
[]
[]
[]
[]
[]
[]
[]
[]
[]
[]
[]
[]
[]
[]
[]
[]
[]
[]
[]
[]
[]
[]
[]
[]
[]
[]
[]
[]
[]
[]
[]
[]
[]
[]
[]
[]
[]
[]
[]
[]
[]
[]
[]
[]
[]
[]
[]
[]
[]
[]
[]
[]
[]
[]
[]
[]
[]
[]
[]
[]
[]
[]
[]
[]
[]
[]
[]
[]
[]
[]
[]
[]
[]
[]
[]
[]
[]
[]
[]
[]
[]
[]
[]
[]
[]
[]
[]
[]
[]
[]
[]
[]
[]
[]
[]
[]
[]
[]
[]
[]
[]
[]
[]
[]
[]
[]
[]
[]
[]
[]
[]
[]
[]
[]
[]
[]
[]
[]
[]
[]
[]
[]
[]
[]
[]
[]
[]
[]
[]
[]
[]
[]
[]
[]
[]
[]
[]
[]
[]
[]
[]
[]
[]
[]
[]
[]
[]
[]
[]
[]
[]
[]
[]
[]
[]
[]
[]
[]
[]
[]
[]
[]
[]
[]
[]
[]
[]
[]
[]
[]
[]
[]
[]
[]
[]
[]
[]
[]
[]
[]
[]
[]
[]
[]
[]
[]
[]
[]
[]
[]
[]
[]
[]
[]
[]
[]
[]
[]
[]
[]
[]
[]
[]
[]
[]
[]
[]
[]
[]
[]
[]
[]
[]
[]
[]
[]
[]
[]
[]
[]
[]
[]
[]
[]
[]
[]
[]
[]
[]
[]
[]
[]
[]
[]
[]
[]
[]
[]
[]
[]
[]
[]
[]
[]
[]
[]
[]
[]
[]
[]
[]
[]
[]
[]
[]
[]
[]
[]
[]
[]
[]
[]
[]
[]
[]
[]
[]
[]
[]
[]
[]
[]
[]
[]
[]
[]
[]
[]
[]
[]
[]
[]
[]
[]
[]
[]
[]
[]
[]
[]
[]
[]
[]
[]
[]
[]
[]
[]
[]
[]
[]
[]
[]
[]
[]
[]
[]
[]
[]
[]
[]
[]
[]
[]
[]
[]
[]
[]
[]
[]
[]
[]
[]
[]
[]
[]
[]
[]
[]
[]
[]
[]
[]
[]
[]
[]
[]
[]
[]
[]
[]
[]
[]
[]
[]
[]
[]
[]
[]
[]
[]
[]
[]
[]
[]
[]
[]
[]
[]
[]
[]
[]
[]
[]
[]
[]
[]
[]
[]
[]
[]
[]
[]
[]
[]
[]
[]
[]
[]
[]
[]
[]
[]
[]
[]
[]
[]
[]
[]
[]
[]
[]
[]
[]
[]
[]
[]
[]
[]
[]
[]
[]
[]
[]
[]
[]
[]
[]
[]
[]
[]
[]
[]
[]
[]
[]
[]
[]
[]
[]
[]
[]
[]
[]
[]
[]
[]
[]
[]
[]
[]
[]
[]
[]
[]
[]
[]
[]
[]
[]
[]
[]
[]
[]
[]
[]
[]
[]
[]
[]
[]
[]
[]
[]
[]
[]
[]
[]
[]
[]
[]
[]
[]
[]
[]
[]
[]
[]
[]
[]
[]
[]
[]
[]
[]
[]
[]
[]
[]
[]
[]
[]
[]
[]
[]
[]
[]
[]
[]
[]
[]
[]
[]
[]
[]
[]
[]
[]
[]
[]
[]
[]
[]
[]
[]
[]
[]
[]
[]
[]
[]
[]
[]
[]
[]
[]
[]
[]
[]
[]
[]
[]
[]
[]
[]
[]
[]
[]
[]
[]
[]
[]
[]
[]
[]
[]
[]
[]
[]
[]
[]
[]
[]
[]
[]
[]
[]
[]
[]
[]
[]
[]
[]
[]
[]
[]
[]
[]
[]
[]
[]
[]
[]
[]
[]
[]
[]
[]
[]
[]
[]
[]
[]
[]
[]
[]
[]
[]
[]
[]
[]
[]
[]
[]
[]
[]
[]
[]
[]
[]
[]
[]
[]
[]
[]
[]
[]
[]
[]
[]
[]
[]
[]
[]
[]
[]
[]
[]
[]
[]
[]
[]
[]
[]
[]
[]
[]
[]
[]
[]
[]
[]
[]
[]
[]
[]
[]
[]
[]
[]
[]
[]
[]
[]
[]
[]
[]
[]
[]
[]
[]
[]
[]
[]
[]
[]
[]
[]
[]
[]
[]
[]
[]
[]
[]
[]
[]
[]
[]
[]
[]
[]
[]
[]
[]
[]
[]
[]
[]
[]
[]
[]
[]
[]
[]
[]
[]
[]
[]
[]
[]
[]
[]
[]
[]
[]
[]
[]
[]
[]
[]
[]
[]
[]
[]
[]
[]
[]
[]
[]
[]
[]
[]
[]
[]
[]
[]
[]
[]
[]
[]
[]
[]
[]
[]
[]
[]
[]
[]
[]
[]
[]
[]
[]
[]
[]
[]
[]
[]
[]
[]
[]
[]
[]
[]
[]
[]
[]
[]
[]
[]
[]
[]
[]
[]
[]
[]
[]
[]
[]
[]
[]
[]
[]
[]
[]
[]
[]
[]
[]
[]
[]
[]
[]
[]
[]
[]
[]
[]
[]
[]
[]
[]
[]
[]
[]
[]
[]
[]
[]
[]
[]
[]
[]
[]
[]
[]
[]
[]
[]
[]
[]
[]
[]
[]
[]
[]
[]
[]
[]
[]
[]
[]
[]
[]
[]
[]
[]
[]
[]
[]
[]
[]
[]
[]
[]
[]
[]
[]
[]
[]
[]
[]
[]
[]
[]
[]
[]
[]
[]
[]
[]
[]
[]
[]
[]
[]
[]
[]
[]
[]
[]
[]
[]
[]
[]
[]
[]
[]
[]
[]
[]
[]
[]
[]
[]
[]
[]
[]
[]
[]
[]
[]
[]
[]
[]
[]
[]
[]
[]
[]
[]
[]
[]
[]
[]
[]
[]
[]
[]
[]
[]
[]
[]
[]
[]
[]
[]
[]
[]
[]
[]
[]
[]
[]
[]
[]
[]
[]
[]
[]
[]
[]
[]
[]
[]
[]
[]
[]
[]
[]
[]
[]
[]
[]
[]
[]
[]
[]
[]
[]
[]
[]
[]
[]
[]
[]
[]
[]
[]
[]
[]
[]
[]
[]
[]
[]
[]
[]
[]
[]
[]
[]
[]
[]
[]
[]
[]
[]
[]
[]
[]
[]
[]
[]
[]
[]
[]
[]
[]
[]
[]
[]
[]
[]
[]
[]
[]
[]
[]
[]
[]
[]
[]
[]
[]
[]
[]
[]
[]
[]
[]
[]
[]
[]
[]
[]
[]
[]
[]
[]
[]
[]
[]
[]
[]
[]
[]
[]
[]
[]
[]
[]
[]
[]
[]
[]
[]
[]
[]
[]
[]
[]
[]
[]
[]
[]
[]
[]
[]
[]
[]
[]
[]
[]
[]
[]
[]
[]
[]
[]
[]
[]
[]
[]
[]
[]
[]
[]
[]
[]
[]
[]
[]
[]
[]
[]
[]
[]
[]
[]
[]
[]
[]
[]
[]
[]
[]
[]
[]
[]
[]
[]
[]
[]
[]
[]
[]
[]
[]
[]
[]
[]
[]
[]
[]
[]
[]
[]
[]
[]
[]
[]
[]
[]
[]
[]
[]
[]
[]
[]
[]
[]
[]
[]
[]
[]
[]
[]
[]
[]
[]
[]
[]
[]
[]
[]
[]
[]
[]
[]
[]
[]
[]
[]
[]
[]
[]
[]
[]
[]
[]
[]
[]
[]
[]
[]
[]
[]
[]
[]
[]
[]
[]
[]
[]
[]
[]
[]
[]
[]
[]
[]
[]
[]
[]
[]
[]
[]
[]
[]
[]
[]
[]
[]
[]
[]
[]
[]
[]
[]
[]
[]
[]
[]
[]
[]
[]
[]
[]
[]
[]
[]
[]
[]
[]
[]
[]
[]
[]
[]
[]
[]
[]
[]
[]
[]
[]
[]
[]
[]
[]
[]
[]
[]
[]
[]
[]
[]
[]
[]
[]
[]
[]
[]
[]
[]
[]
[]
[]
[]
[]
[]
[]
[]
[]
[]
[]
[]
[]
[]
[]
[]
[]
[]
[]
[]
[]
[]
[]
[]
[]
[]
[]
[]
[]
[]
[]
[]
[]
[]
[]
[]
[]
[]
[]
[]
[]
[]
[]
[]
[]
[]
[]
[]
[]
[]
[]
[]
[]
[]
[]
[]
[]
[]
[]
[]
[]
[]
[]
[]
[]
[]
[]
[]
[]
[]
[]
[]
[]
[]
[]
[]
[]
[]
[]
[]
[]
[]
[]
[]
[]
[]
[]
[]
[]
[]
[]
[]
[]
[]
[]
[]
[]
[]
[]
[]
[]
[]
[]
[]
[]
[]
[]
[]
[]
[]
[]
[]
[]
[]
[]
[]
[]
[]
[]
[]
[]
[]
[]
[]
[]
[]
[]
[]
[]
[]
[]
[]
[]
[]
[]
[]
[]
[]
[]
[]
[]
[]
[]
[]
[]
[]
[]
[]
[]
[]
[]
[]
[]
[]
[]
[]
[]
[]
[]
[]
[]
[]
[]
[]
[]
[]
[]
[]
[]
[]
[]
[]
[]
[]
[]
[]
[]
[]
[]
[]
[]
[]
[]
[]
[]
[]
[]
[]
[]
[]
[]
[]
[]
[]
[]
[]
[]
[]
[]
[]
[]
[]
[]
[]
[]
[]
[]
[]
[]
[]
[]
[]
[]
[]
[]
[]
[]
[]
[]
[]
[]
[]
[]
[]
[]
[]
[]
[]
[]
[]
[]
[]
[]
[]
[]
[]
[]
[]
[]
[]
[]
[]
[]
[]
[]
[]
[]
[]
[]
[]
[]
[]
[]
[]
[]
[]
[]
[]
[]
[]
[]
[]
[]
[]
[]
[]
[]
[]
[]
[]
[]
[]
[]
[]
[]
[]
[]
[]
[]
[]
[]
[]
[]
[]
[]
[]
[]
[]
[]
[]
[]
[]
[]
[]
[]
[]
["CT","BCHASE","CT-BCHASE","CHARGE","** CHARGE ** BASE CABINET CHASE CUT",0,0,920]
["CT","BCUT","CT-BCUT","CHARGE","** CHARGE ** BASE CABINET CUT DOWN",0,0,572]
["CT","DBCHASE","CT-DBCHASE","CHARGE","** CHARGE ** DRAWER BASE CHASE CUT",0,0,1142]
["CT","DBCUT","CT-DBCUT","CHARGE","** CHARGE ** DRAWER BASE CABINET CUT DOWN",0,0,806]
["CT","DCG","CT-DCG","CHARGE","** CHARGE ** CUT FOR GLASS PER DOOR",0,0,185]
["CT","DCG-GLI","CT-DCG-GLI","CHARGE","** CHARGE ** CUT AND INSERT CLEAR GLASS",0,0,381]
["CT","DCG-GLI-F","CT-DCG-GLI-F","CHARGE","** CHARGE ** CUT AND INSERT FROSTED GLASS",0,0,576]
["CT","FIN-DCG-1","CT-FIN-DCG-1","CHARGE","**CHARGE** FNISHED INTERIOR, WITH CUT-FOR-GLASS - 1 DOOR\nCabinet + 50% + DCG",0,0,185]
["CT","FIN-DCG-2","CT-FIN-DCG-2","CHARGE","**CHARGE** FNISHED INTERIOR, WITH CUT-FOR-GLASS - 2 DOOR\nCabinet + 50% + DCG",0,0,370]
["CT","FIN-DCG-GLI-1","CT-FIN-DCG-GLI-1","CHARGE","**CHARGE** FNISHED INTERIOR, WITH CLEAR GLASS - 1 DOOR\nCabinet + 50% + GLI",0,0,381]
["CT","FIN-DCG-GLI-2","CT-FIN-DCG-GLI-2","CHARGE","**CHARGE** FNISHED INTERIOR, WITH CLEAR GLASS - 2 DOOR\nCabinet + 50% + GLI",0,0,761]
["CT","FIN-DCG-GLI-F-1","CT-FIN-DCG-GLI-F-1","CHARGE","**CHARGE** FNISHED INTERIOR, WITH FROSTED GLASS - 1 DOOR\nCabinet + 50% + GLI-F",0,0,576]
["CT","FIN-DCG-GLI-F-2","CT-FIN-DCG-GLI-F-2","CHARGE","**CHARGE** FNISHED INTERIOR, WITH FROSTED GLASS - 2 DOOR\nCabinet + 50% + GLI-F",0,0,1151]
["CT","EXDW","CT-EXDW","CHARGE","** CHARGE ** EXTENDED DEPTH WALL",0,0,806]
["CT","FINISH","CT-FINISH","CHARGE","** CHARGE ** FINISHED INTERIOR",0,0,53]
["CT","GLI","CT-GLI","CHARGE","** CHARGE ** CLEAR GLASS INSERT",0,0,0]
["CT","GLI-F","CT-GLI-F","CHARGE","** CHARGE ** FROSTED GLASS INSERT",0,0,392]
["CT","HANDICUT","CT-HANDICUT","CHARGE","** CHARGE ** BASE CABINET CUT DOWN BOTTOM",0,0,116]
["CT","SINK-BASE","CT-SINK-BASE","CHARGE","** CHARGE ** CONVERT TO SINK BASE",0,0,210]
["CT","TCHASE","CT-TCHASE","CHARGE","** CHARGE ** TALL CABINET CHASE CUT",0,0,1266]
["CT","TCUT","CT-TCUT","CHARGE","** CHARGE ** TALL CABINET CUT DOWN",0,0,806]
["CT","WCHASE","CT-WCHASE","CHARGE","** CHARGE ** WALL CABINET CHASE CUT",0,0,806]
["CT","WCUT","CT-WCUT","CHARGE","** CHARGE ** WALL CABINET CUT DOWN",0,0,460]
["DISP","CAL","DISP-CAL","SAMPLE","DISPLAY - CNC CALENDAR",0,0,0]
["DISP","CAT","DISP-CAT","SAMPLE","DISPLAY - CNC CATALOGS",0,0,0]
["DISP","CATALOG-ALV","DISP-CATALOG-ALV","SAMPLE","DISPLAY - CNC ALVIC CATALOG",0,0,0]
["DISP","CNTP","DISP-CNTP","SAMPLE","DISPLAY - COUNTER TOP-CUSTOM SELF EDGE",0,0,0]
["DISP","COLORBLOCKS","DISP-COLORBLOCKS","SAMPLE","DISPLAY - CNC COLOR CHIPS",0,0,47]
["DISP","DART","DISP-DART","SAMPLE","DISPLAY - CNC DART CATALOG",0,0,0]
["DISP","GT6X6-SET","DISP-GT6X6-SET","SAMPLE","DISPLAY - COLOR BLOCK",0,0,100]
["DISP","SPEC","DISP-SPEC","SAMPLE","DISPLAY - CNC SPEC BOOK",0,0,0]
["DISP","TRIFOLD","DISP-TRIFOLD","SAMPLE","DISPLAY - CNC  TRIFOLD",0,0,0]
["DISP","VAN","DISP-VAN","SAMPLE","DISPLAY - CNC VANITY BROCHURE",0,0,0]
["DISP","CS8X8","ALL-CS8X8","SAMPLE","ALVIC LUXE - COLOR SAMPLE 8X8\t",0,0,16]
["DISP","CS8X8","ALS-CS8X8","SAMPLE","ALVIC SYNCRON - COLOR SAMPLE 8X8\t",0,0,16]
["DISP","SET","AL-SET","SAMPLE","ALVIC - SAMPLES FULL SET",0,0,460]
["DISP","SET-19","AL-SET-19","SAMPLE","ALVIC - SAMPLES TOP 19",0,0,144]
["DISP","CS8X8","ALZ-CS8X8","SAMPLE","ALVIC ZENIT - COLOR SAMPLE 8X8\t",0,0,16]

{"sheet":"Upload Form","index":2,"n_rows":347,"n_cols":11,"rows_kept":347,"cut":false,"hidden":false,"merged":[]}
["Warehouse","Customer","PO","Item","Qty","Tag","Requested Ship Date","Ship Address","Ship ZIP","Contact","Site Number"]
[{"$f":"IF(D2<>\"\",IF('Order Form'!$B$2=\"\",\"\",\"New Jersey\"),\"\")","v":""},{"$f":"IF(D2<>\"\",IF('Order Form'!$B$2=\"\",\"\",'Order Form'!$B$2),\"\")","v":""},{"$f":"IF(D2<>\"\",IF('Order Form'!$B$2=\"\",\"\",'Order Form'!$B$3),\"\")","v":""},{"$f":"IF(_xlfn.XLOOKUP(INDEX('Order Form'!$C:$C,ROW(D2)+9),lists!I:I,lists!C:C,\"\",0,1)=0,\"\",_xlfn.XLOOKUP(INDEX('Order Form'!$C:$C,ROW(D2)+9),lists!I:I,lists!C:C,\"\",0,1))","v":""},{"$f":"IF(INDEX('Order Form'!$D:$D,ROW(D2)+9)>0,INDEX('Order Form'!$D:$D,ROW(D2)+9),\"\")","v":""},{"$f":"IF(INDEX('Order Form'!$E:$E,ROW(E2)+9)>0,INDEX('Order Form'!$E:$E,ROW(E2)+9),\"\")","v":""},{"$f":"IF(D2>\"\",IF('Order Form'!$B$7<>0,'Order Form'!$B$7,\"\"),\"\")","v":""},{"$f":"IF(D2<>\"\",IF('Order Form'!$B$4=\"\",\"\",'Order Form'!$B$4),\"\")","v":""},{"$f":"IF(D2<>\"\",IF('Order Form'!$B$5=\"\",\"\",'Order Form'!$B$5),\"\")","v":""},{"$f":"IF(D2<>\"\",IF('Order Form'!$B$6=\"\",\"\",'Order Form'!$B$6),\"\")","v":""}]
[{"$f":"IF(D3<>\"\",IF('Order Form'!$B$2=\"\",\"\",\"New Jersey\"),\"\")","v":""},{"$f":"IF(D3<>\"\",IF('Order Form'!$B$2=\"\",\"\",'Order Form'!$B$2),\"\")","v":""},{"$f":"IF(D3<>\"\",IF('Order Form'!$B$2=\"\",\"\",'Order Form'!$B$3),\"\")","v":""},{"$f":"IF(_xlfn.XLOOKUP(INDEX('Order Form'!$C:$C,ROW(D3)+9),lists!I:I,lists!C:C,\"\",0,1)=0,\"\",_xlfn.XLOOKUP(INDEX('Order Form'!$C:$C,ROW(D3)+9),lists!I:I,lists!C:C,\"\",0,1))","v":""},{"$f":"IF(INDEX('Order Form'!$D:$D,ROW(D3)+9)>0,INDEX('Order Form'!$D:$D,ROW(D3)+9),\"\")","v":""},{"$f":"IF(INDEX('Order Form'!$E:$E,ROW(E3)+9)>0,INDEX('Order Form'!$E:$E,ROW(E3)+9),\"\")","v":""},{"$f":"IF(D3>\"\",IF('Order Form'!$B$7<>0,'Order Form'!$B$7,\"\"),\"\")","v":""},{"$f":"IF(D3<>\"\",IF('Order Form'!$B$4=\"\",\"\",'Order Form'!$B$4),\"\")","v":""},{"$f":"IF(D3<>\"\",IF('Order Form'!$B$5=\"\",\"\",'Order Form'!$B$5),\"\")","v":""},{"$f":"IF(D3<>\"\",IF('Order Form'!$B$6=\"\",\"\",'Order Form'!$B$6),\"\")","v":""}]
[{"$f":"IF(D4<>\"\",IF('Order Form'!$B$2=\"\",\"\",\"New Jersey\"),\"\")","v":""},{"$f":"IF(D4<>\"\",IF('Order Form'!$B$2=\"\",\"\",'Order Form'!$B$2),\"\")","v":""},{"$f":"IF(D4<>\"\",IF('Order Form'!$B$2=\"\",\"\",'Order Form'!$B$3),\"\")","v":""},{"$f":"IF(_xlfn.XLOOKUP(INDEX('Order Form'!$C:$C,ROW(D4)+9),lists!I:I,lists!C:C,\"\",0,1)=0,\"\",_xlfn.XLOOKUP(INDEX('Order Form'!$C:$C,ROW(D4)+9),lists!I:I,lists!C:C,\"\",0,1))","v":""},{"$f":"IF(INDEX('Order Form'!$D:$D,ROW(D4)+9)>0,INDEX('Order Form'!$D:$D,ROW(D4)+9),\"\")","v":""},{"$f":"IF(INDEX('Order Form'!$E:$E,ROW(E4)+9)>0,INDEX('Order Form'!$E:$E,ROW(E4)+9),\"\")","v":""},{"$f":"IF(D4>\"\",IF('Order Form'!$B$7<>0,'Order Form'!$B$7,\"\"),\"\")","v":""},{"$f":"IF(D4<>\"\",IF('Order Form'!$B$4=\"\",\"\",'Order Form'!$B$4),\"\")","v":""},{"$f":"IF(D4<>\"\",IF('Order Form'!$B$5=\"\",\"\",'Order Form'!$B$5),\"\")","v":""},{"$f":"IF(D4<>\"\",IF('Order Form'!$B$6=\"\",\"\",'Order Form'!$B$6),\"\")","v":""}]
[{"$f":"IF(D5<>\"\",IF('Order Form'!$B$2=\"\",\"\",\"New Jersey\"),\"\")","v":""},{"$f":"IF(D5<>\"\",IF('Order Form'!$B$2=\"\",\"\",'Order Form'!$B$2),\"\")","v":""},{"$f":"IF(D5<>\"\",IF('Order Form'!$B$2=\"\",\"\",'Order Form'!$B$3),\"\")","v":""},{"$f":"IF(_xlfn.XLOOKUP(INDEX('Order Form'!$C:$C,ROW(D5)+9),lists!I:I,lists!C:C,\"\",0,1)=0,\"\",_xlfn.XLOOKUP(INDEX('Order Form'!$C:$C,ROW(D5)+9),lists!I:I,lists!C:C,\"\",0,1))","v":""},{"$f":"IF(INDEX('Order Form'!$D:$D,ROW(D5)+9)>0,INDEX('Order Form'!$D:$D,ROW(D5)+9),\"\")","v":""},{"$f":"IF(INDEX('Order Form'!$E:$E,ROW(E5)+9)>0,INDEX('Order Form'!$E:$E,ROW(E5)+9),\"\")","v":""},{"$f":"IF(D5>\"\",IF('Order Form'!$B$7<>0,'Order Form'!$B$7,\"\"),\"\")","v":""},{"$f":"IF(D5<>\"\",IF('Order Form'!$B$4=\"\",\"\",'Order Form'!$B$4),\"\")","v":""},{"$f":"IF(D5<>\"\",IF('Order Form'!$B$5=\"\",\"\",'Order Form'!$B$5),\"\")","v":""},{"$f":"IF(D5<>\"\",IF('Order Form'!$B$6=\"\",\"\",'Order Form'!$B$6),\"\")","v":""}]
[{"$f":"IF(D6<>\"\",IF('Order Form'!$B$2=\"\",\"\",\"New Jersey\"),\"\")","v":""},{"$f":"IF(D6<>\"\",IF('Order Form'!$B$2=\"\",\"\",'Order Form'!$B$2),\"\")","v":""},{"$f":"IF(D6<>\"\",IF('Order Form'!$B$2=\"\",\"\",'Order Form'!$B$3),\"\")","v":""},{"$f":"IF(_xlfn.XLOOKUP(INDEX('Order Form'!$C:$C,ROW(D6)+9),lists!I:I,lists!C:C,\"\",0,1)=0,\"\",_xlfn.XLOOKUP(INDEX('Order Form'!$C:$C,ROW(D6)+9),lists!I:I,lists!C:C,\"\",0,1))","v":""},{"$f":"IF(INDEX('Order Form'!$D:$D,ROW(D6)+9)>0,INDEX('Order Form'!$D:$D,ROW(D6)+9),\"\")","v":""},{"$f":"IF(INDEX('Order Form'!$E:$E,ROW(E6)+9)>0,INDEX('Order Form'!$E:$E,ROW(E6)+9),\"\")","v":""},{"$f":"IF(D6>\"\",IF('Order Form'!$B$7<>0,'Order Form'!$B$7,\"\"),\"\")","v":""},{"$f":"IF(D6<>\"\",IF('Order Form'!$B$4=\"\",\"\",'Order Form'!$B$4),\"\")","v":""},{"$f":"IF(D6<>\"\",IF('Order Form'!$B$5=\"\",\"\",'Order Form'!$B$5),\"\")","v":""},{"$f":"IF(D6<>\"\",IF('Order Form'!$B$6=\"\",\"\",'Order Form'!$B$6),\"\")","v":""}]
[{"$f":"IF(D7<>\"\",IF('Order Form'!$B$2=\"\",\"\",\"New Jersey\"),\"\")","v":""},{"$f":"IF(D7<>\"\",IF('Order Form'!$B$2=\"\",\"\",'Order Form'!$B$2),\"\")","v":""},{"$f":"IF(D7<>\"\",IF('Order Form'!$B$2=\"\",\"\",'Order Form'!$B$3),\"\")","v":""},{"$f":"IF(_xlfn.XLOOKUP(INDEX('Order Form'!$C:$C,ROW(D7)+9),lists!I:I,lists!C:C,\"\",0,1)=0,\"\",_xlfn.XLOOKUP(INDEX('Order Form'!$C:$C,ROW(D7)+9),lists!I:I,lists!C:C,\"\",0,1))","v":""},{"$f":"IF(INDEX('Order Form'!$D:$D,ROW(D7)+9)>0,INDEX('Order Form'!$D:$D,ROW(D7)+9),\"\")","v":""},{"$f":"IF(INDEX('Order Form'!$E:$E,ROW(E7)+9)>0,INDEX('Order Form'!$E:$E,ROW(E7)+9),\"\")","v":""},{"$f":"IF(D7>\"\",IF('Order Form'!$B$7<>0,'Order Form'!$B$7,\"\"),\"\")","v":""},{"$f":"IF(D7<>\"\",IF('Order Form'!$B$4=\"\",\"\",'Order Form'!$B$4),\"\")","v":""},{"$f":"IF(D7<>\"\",IF('Order Form'!$B$5=\"\",\"\",'Order Form'!$B$5),\"\")","v":""},{"$f":"IF(D7<>\"\",IF('Order Form'!$B$6=\"\",\"\",'Order Form'!$B$6),\"\")","v":""}]
[{"$f":"IF(D8<>\"\",IF('Order Form'!$B$2=\"\",\"\",\"New Jersey\"),\"\")","v":""},{"$f":"IF(D8<>\"\",IF('Order Form'!$B$2=\"\",\"\",'Order Form'!$B$2),\"\")","v":""},{"$f":"IF(D8<>\"\",IF('Order Form'!$B$2=\"\",\"\",'Order Form'!$B$3),\"\")","v":""},{"$f":"IF(_xlfn.XLOOKUP(INDEX('Order Form'!$C:$C,ROW(D8)+9),lists!I:I,lists!C:C,\"\",0,1)=0,\"\",_xlfn.XLOOKUP(INDEX('Order Form'!$C:$C,ROW(D8)+9),lists!I:I,lists!C:C,\"\",0,1))","v":""},{"$f":"IF(INDEX('Order Form'!$D:$D,ROW(D8)+9)>0,INDEX('Order Form'!$D:$D,ROW(D8)+9),\"\")","v":""},{"$f":"IF(INDEX('Order Form'!$E:$E,ROW(E8)+9)>0,INDEX('Order Form'!$E:$E,ROW(E8)+9),\"\")","v":""},{"$f":"IF(D8>\"\",IF('Order Form'!$B$7<>0,'Order Form'!$B$7,\"\"),\"\")","v":""},{"$f":"IF(D8<>\"\",IF('Order Form'!$B$4=\"\",\"\",'Order Form'!$B$4),\"\")","v":""},{"$f":"IF(D8<>\"\",IF('Order Form'!$B$5=\"\",\"\",'Order Form'!$B$5),\"\")","v":""},{"$f":"IF(D8<>\"\",IF('Order Form'!$B$6=\"\",\"\",'Order Form'!$B$6),\"\")","v":""}]
[{"$f":"IF(D9<>\"\",IF('Order Form'!$B$2=\"\",\"\",\"New Jersey\"),\"\")","v":""},{"$f":"IF(D9<>\"\",IF('Order Form'!$B$2=\"\",\"\",'Order Form'!$B$2),\"\")","v":""},{"$f":"IF(D9<>\"\",IF('Order Form'!$B$2=\"\",\"\",'Order Form'!$B$3),\"\")","v":""},{"$f":"IF(_xlfn.XLOOKUP(INDEX('Order Form'!$C:$C,ROW(D9)+9),lists!I:I,lists!C:C,\"\",0,1)=0,\"\",_xlfn.XLOOKUP(INDEX('Order Form'!$C:$C,ROW(D9)+9),lists!I:I,lists!C:C,\"\",0,1))","v":""},{"$f":"IF(INDEX('Order Form'!$D:$D,ROW(D9)+9)>0,INDEX('Order Form'!$D:$D,ROW(D9)+9),\"\")","v":""},{"$f":"IF(INDEX('Order Form'!$E:$E,ROW(E9)+9)>0,INDEX('Order Form'!$E:$E,ROW(E9)+9),\"\")","v":""},{"$f":"IF(D9>\"\",IF('Order Form'!$B$7<>0,'Order Form'!$B$7,\"\"),\"\")","v":""},{"$f":"IF(D9<>\"\",IF('Order Form'!$B$4=\"\",\"\",'Order Form'!$B$4),\"\")","v":""},{"$f":"IF(D9<>\"\",IF('Order Form'!$B$5=\"\",\"\",'Order Form'!$B$5),\"\")","v":""},{"$f":"IF(D9<>\"\",IF('Order Form'!$B$6=\"\",\"\",'Order Form'!$B$6),\"\")","v":""}]
[{"$f":"IF(D10<>\"\",IF('Order Form'!$B$2=\"\",\"\",\"New Jersey\"),\"\")","v":""},{"$f":"IF(D10<>\"\",IF('Order Form'!$B$2=\"\",\"\",'Order Form'!$B$2),\"\")","v":""},{"$f":"IF(D10<>\"\",IF('Order Form'!$B$2=\"\",\"\",'Order Form'!$B$3),\"\")","v":""},{"$f":"IF(_xlfn.XLOOKUP(INDEX('Order Form'!$C:$C,ROW(D10)+9),lists!I:I,lists!C:C,\"\",0,1)=0,\"\",_xlfn.XLOOKUP(INDEX('Order Form'!$C:$C,ROW(D10)+9),lists!I:I,lists!C:C,\"\",0,1))","v":""},{"$f":"IF(INDEX('Order Form'!$D:$D,ROW(D10)+9)>0,INDEX('Order Form'!$D:$D,ROW(D10)+9),\"\")","v":""},{"$f":"IF(INDEX('Order Form'!$E:$E,ROW(E10)+9)>0,INDEX('Order Form'!$E:$E,ROW(E10)+9),\"\")","v":""},{"$f":"IF(D10>\"\",IF('Order Form'!$B$7<>0,'Order Form'!$B$7,\"\"),\"\")","v":""},{"$f":"IF(D10<>\"\",IF('Order Form'!$B$4=\"\",\"\",'Order Form'!$B$4),\"\")","v":""},{"$f":"IF(D10<>\"\",IF('Order Form'!$B$5=\"\",\"\",'Order Form'!$B$5),\"\")","v":""},{"$f":"IF(D10<>\"\",IF('Order Form'!$B$6=\"\",\"\",'Order Form'!$B$6),\"\")","v":""}]
[{"$f":"IF(D11<>\"\",IF('Order Form'!$B$2=\"\",\"\",\"New Jersey\"),\"\")","v":""},{"$f":"IF(D11<>\"\",IF('Order Form'!$B$2=\"\",\"\",'Order Form'!$B$2),\"\")","v":""},{"$f":"IF(D11<>\"\",IF('Order Form'!$B$2=\"\",\"\",'Order Form'!$B$3),\"\")","v":""},{"$f":"IF(_xlfn.XLOOKUP(INDEX('Order Form'!$C:$C,ROW(D11)+9),lists!I:I,lists!C:C,\"\",0,1)=0,\"\",_xlfn.XLOOKUP(INDEX('Order Form'!$C:$C,ROW(D11)+9),lists!I:I,lists!C:C,\"\",0,1))","v":""},{"$f":"IF(INDEX('Order Form'!$D:$D,ROW(D11)+9)>0,INDEX('Order Form'!$D:$D,ROW(D11)+9),\"\")","v":""},{"$f":"IF(INDEX('Order Form'!$E:$E,ROW(E11)+9)>0,INDEX('Order Form'!$E:$E,ROW(E11)+9),\"\")","v":""},{"$f":"IF(D11>\"\",IF('Order Form'!$B$7<>0,'Order Form'!$B$7,\"\"),\"\")","v":""},{"$f":"IF(D11<>\"\",IF('Order Form'!$B$4=\"\",\"\",'Order Form'!$B$4),\"\")","v":""},{"$f":"IF(D11<>\"\",IF('Order Form'!$B$5=\"\",\"\",'Order Form'!$B$5),\"\")","v":""},{"$f":"IF(D11<>\"\",IF('Order Form'!$B$6=\"\",\"\",'Order Form'!$B$6),\"\")","v":""}]
[{"$f":"IF(D12<>\"\",IF('Order Form'!$B$2=\"\",\"\",\"New Jersey\"),\"\")","v":""},{"$f":"IF(D12<>\"\",IF('Order Form'!$B$2=\"\",\"\",'Order Form'!$B$2),\"\")","v":""},{"$f":"IF(D12<>\"\",IF('Order Form'!$B$2=\"\",\"\",'Order Form'!$B$3),\"\")","v":""},{"$f":"IF(_xlfn.XLOOKUP(INDEX('Order Form'!$C:$C,ROW(D12)+9),lists!I:I,lists!C:C,\"\",0,1)=0,\"\",_xlfn.XLOOKUP(INDEX('Order Form'!$C:$C,ROW(D12)+9),lists!I:I,lists!C:C,\"\",0,1))","v":""},{"$f":"IF(INDEX('Order Form'!$D:$D,ROW(D12)+9)>0,INDEX('Order Form'!$D:$D,ROW(D12)+9),\"\")","v":""},{"$f":"IF(INDEX('Order Form'!$E:$E,ROW(E12)+9)>0,INDEX('Order Form'!$E:$E,ROW(E12)+9),\"\")","v":""},{"$f":"IF(D12>\"\",IF('Order Form'!$B$7<>0,'Order Form'!$B$7,\"\"),\"\")","v":""},{"$f":"IF(D12<>\"\",IF('Order Form'!$B$4=\"\",\"\",'Order Form'!$B$4),\"\")","v":""},{"$f":"IF(D12<>\"\",IF('Order Form'!$B$5=\"\",\"\",'Order Form'!$B$5),\"\")","v":""},{"$f":"IF(D12<>\"\",IF('Order Form'!$B$6=\"\",\"\",'Order Form'!$B$6),\"\")","v":""}]
[{"$f":"IF(D13<>\"\",IF('Order Form'!$B$2=\"\",\"\",\"New Jersey\"),\"\")","v":""},{"$f":"IF(D13<>\"\",IF('Order Form'!$B$2=\"\",\"\",'Order Form'!$B$2),\"\")","v":""},{"$f":"IF(D13<>\"\",IF('Order Form'!$B$2=\"\",\"\",'Order Form'!$B$3),\"\")","v":""},{"$f":"IF(_xlfn.XLOOKUP(INDEX('Order Form'!$C:$C,ROW(D13)+9),lists!I:I,lists!C:C,\"\",0,1)=0,\"\",_xlfn.XLOOKUP(INDEX('Order Form'!$C:$C,ROW(D13)+9),lists!I:I,lists!C:C,\"\",0,1))","v":""},{"$f":"IF(INDEX('Order Form'!$D:$D,ROW(D13)+9)>0,INDEX('Order Form'!$D:$D,ROW(D13)+9),\"\")","v":""},{"$f":"IF(INDEX('Order Form'!$E:$E,ROW(E13)+9)>0,INDEX('Order Form'!$E:$E,ROW(E13)+9),\"\")","v":""},{"$f":"IF(D13>\"\",IF('Order Form'!$B$7<>0,'Order Form'!$B$7,\"\"),\"\")","v":""},{"$f":"IF(D13<>\"\",IF('Order Form'!$B$4=\"\",\"\",'Order Form'!$B$4),\"\")","v":""},{"$f":"IF(D13<>\"\",IF('Order Form'!$B$5=\"\",\"\",'Order Form'!$B$5),\"\")","v":""},{"$f":"IF(D13<>\"\",IF('Order Form'!$B$6=\"\",\"\",'Order Form'!$B$6),\"\")","v":""}]
[{"$f":"IF(D14<>\"\",IF('Order Form'!$B$2=\"\",\"\",\"New Jersey\"),\"\")","v":""},{"$f":"IF(D14<>\"\",IF('Order Form'!$B$2=\"\",\"\",'Order Form'!$B$2),\"\")","v":""},{"$f":"IF(D14<>\"\",IF('Order Form'!$B$2=\"\",\"\",'Order Form'!$B$3),\"\")","v":""},{"$f":"IF(_xlfn.XLOOKUP(INDEX('Order Form'!$C:$C,ROW(D14)+9),lists!I:I,lists!C:C,\"\",0,1)=0,\"\",_xlfn.XLOOKUP(INDEX('Order Form'!$C:$C,ROW(D14)+9),lists!I:I,lists!C:C,\"\",0,1))","v":""},{"$f":"IF(INDEX('Order Form'!$D:$D,ROW(D14)+9)>0,INDEX('Order Form'!$D:$D,ROW(D14)+9),\"\")","v":""},{"$f":"IF(INDEX('Order Form'!$E:$E,ROW(E14)+9)>0,INDEX('Order Form'!$E:$E,ROW(E14)+9),\"\")","v":""},{"$f":"IF(D14>\"\",IF('Order Form'!$B$7<>0,'Order Form'!$B$7,\"\"),\"\")","v":""},{"$f":"IF(D14<>\"\",IF('Order Form'!$B$4=\"\",\"\",'Order Form'!$B$4),\"\")","v":""},{"$f":"IF(D14<>\"\",IF('Order Form'!$B$5=\"\",\"\",'Order Form'!$B$5),\"\")","v":""},{"$f":"IF(D14<>\"\",IF('Order Form'!$B$6=\"\",\"\",'Order Form'!$B$6),\"\")","v":""}]
[{"$f":"IF(D15<>\"\",IF('Order Form'!$B$2=\"\",\"\",\"New Jersey\"),\"\")","v":""},{"$f":"IF(D15<>\"\",IF('Order Form'!$B$2=\"\",\"\",'Order Form'!$B$2),\"\")","v":""},{"$f":"IF(D15<>\"\",IF('Order Form'!$B$2=\"\",\"\",'Order Form'!$B$3),\"\")","v":""},{"$f":"IF(_xlfn.XLOOKUP(INDEX('Order Form'!$C:$C,ROW(D15)+9),lists!I:I,lists!C:C,\"\",0,1)=0,\"\",_xlfn.XLOOKUP(INDEX('Order Form'!$C:$C,ROW(D15)+9),lists!I:I,lists!C:C,\"\",0,1))","v":""},{"$f":"IF(INDEX('Order Form'!$D:$D,ROW(D15)+9)>0,INDEX('Order Form'!$D:$D,ROW(D15)+9),\"\")","v":""},{"$f":"IF(INDEX('Order Form'!$E:$E,ROW(E15)+9)>0,INDEX('Order Form'!$E:$E,ROW(E15)+9),\"\")","v":""},{"$f":"IF(D15>\"\",IF('Order Form'!$B$7<>0,'Order Form'!$B$7,\"\"),\"\")","v":""},{"$f":"IF(D15<>\"\",IF('Order Form'!$B$4=\"\",\"\",'Order Form'!$B$4),\"\")","v":""},{"$f":"IF(D15<>\"\",IF('Order Form'!$B$5=\"\",\"\",'Order Form'!$B$5),\"\")","v":""},{"$f":"IF(D15<>\"\",IF('Order Form'!$B$6=\"\",\"\",'Order Form'!$B$6),\"\")","v":""}]
[{"$f":"IF(D16<>\"\",IF('Order Form'!$B$2=\"\",\"\",\"New Jersey\"),\"\")","v":""},{"$f":"IF(D16<>\"\",IF('Order Form'!$B$2=\"\",\"\",'Order Form'!$B$2),\"\")","v":""},{"$f":"IF(D16<>\"\",IF('Order Form'!$B$2=\"\",\"\",'Order Form'!$B$3),\"\")","v":""},{"$f":"IF(_xlfn.XLOOKUP(INDEX('Order Form'!$C:$C,ROW(D16)+9),lists!I:I,lists!C:C,\"\",0,1)=0,\"\",_xlfn.XLOOKUP(INDEX('Order Form'!$C:$C,ROW(D16)+9),lists!I:I,lists!C:C,\"\",0,1))","v":""},{"$f":"IF(INDEX('Order Form'!$D:$D,ROW(D16)+9)>0,INDEX('Order Form'!$D:$D,ROW(D16)+9),\"\")","v":""},{"$f":"IF(INDEX('Order Form'!$E:$E,ROW(E16)+9)>0,INDEX('Order Form'!$E:$E,ROW(E16)+9),\"\")","v":""},{"$f":"IF(D16>\"\",IF('Order Form'!$B$7<>0,'Order Form'!$B$7,\"\"),\"\")","v":""},{"$f":"IF(D16<>\"\",IF('Order Form'!$B$4=\"\",\"\",'Order Form'!$B$4),\"\")","v":""},{"$f":"IF(D16<>\"\",IF('Order Form'!$B$5=\"\",\"\",'Order Form'!$B$5),\"\")","v":""},{"$f":"IF(D16<>\"\",IF('Order Form'!$B$6=\"\",\"\",'Order Form'!$B$6),\"\")","v":""}]
[{"$f":"IF(D17<>\"\",IF('Order Form'!$B$2=\"\",\"\",\"New Jersey\"),\"\")","v":""},{"$f":"IF(D17<>\"\",IF('Order Form'!$B$2=\"\",\"\",'Order Form'!$B$2),\"\")","v":""},{"$f":"IF(D17<>\"\",IF('Order Form'!$B$2=\"\",\"\",'Order Form'!$B$3),\"\")","v":""},{"$f":"IF(_xlfn.XLOOKUP(INDEX('Order Form'!$C:$C,ROW(D17)+9),lists!I:I,lists!C:C,\"\",0,1)=0,\"\",_xlfn.XLOOKUP(INDEX('Order Form'!$C:$C,ROW(D17)+9),lists!I:I,lists!C:C,\"\",0,1))","v":""},{"$f":"IF(INDEX('Order Form'!$D:$D,ROW(D17)+9)>0,INDEX('Order Form'!$D:$D,ROW(D17)+9),\"\")","v":""},{"$f":"IF(INDEX('Order Form'!$E:$E,ROW(E17)+9)>0,INDEX('Order Form'!$E:$E,ROW(E17)+9),\"\")","v":""},{"$f":"IF(D17>\"\",IF('Order Form'!$B$7<>0,'Order Form'!$B$7,\"\"),\"\")","v":""},{"$f":"IF(D17<>\"\",IF('Order Form'!$B$4=\"\",\"\",'Order Form'!$B$4),\"\")","v":""},{"$f":"IF(D17<>\"\",IF('Order Form'!$B$5=\"\",\"\",'Order Form'!$B$5),\"\")","v":""},{"$f":"IF(D17<>\"\",IF('Order Form'!$B$6=\"\",\"\",'Order Form'!$B$6),\"\")","v":""}]
[{"$f":"IF(D18<>\"\",IF('Order Form'!$B$2=\"\",\"\",\"New Jersey\"),\"\")","v":""},{"$f":"IF(D18<>\"\",IF('Order Form'!$B$2=\"\",\"\",'Order Form'!$B$2),\"\")","v":""},{"$f":"IF(D18<>\"\",IF('Order Form'!$B$2=\"\",\"\",'Order Form'!$B$3),\"\")","v":""},{"$f":"IF(_xlfn.XLOOKUP(INDEX('Order Form'!$C:$C,ROW(D18)+9),lists!I:I,lists!C:C,\"\",0,1)=0,\"\",_xlfn.XLOOKUP(INDEX('Order Form'!$C:$C,ROW(D18)+9),lists!I:I,lists!C:C,\"\",0,1))","v":""},{"$f":"IF(INDEX('Order Form'!$D:$D,ROW(D18)+9)>0,INDEX('Order Form'!$D:$D,ROW(D18)+9),\"\")","v":""},{"$f":"IF(INDEX('Order Form'!$E:$E,ROW(E18)+9)>0,INDEX('Order Form'!$E:$E,ROW(E18)+9),\"\")","v":""},{"$f":"IF(D18>\"\",IF('Order Form'!$B$7<>0,'Order Form'!$B$7,\"\"),\"\")","v":""},{"$f":"IF(D18<>\"\",IF('Order Form'!$B$4=\"\",\"\",'Order Form'!$B$4),\"\")","v":""},{"$f":"IF(D18<>\"\",IF('Order Form'!$B$5=\"\",\"\",'Order Form'!$B$5),\"\")","v":""},{"$f":"IF(D18<>\"\",IF('Order Form'!$B$6=\"\",\"\",'Order Form'!$B$6),\"\")","v":""}]
[{"$f":"IF(D19<>\"\",IF('Order Form'!$B$2=\"\",\"\",\"New Jersey\"),\"\")","v":""},{"$f":"IF(D19<>\"\",IF('Order Form'!$B$2=\"\",\"\",'Order Form'!$B$2),\"\")","v":""},{"$f":"IF(D19<>\"\",IF('Order Form'!$B$2=\"\",\"\",'Order Form'!$B$3),\"\")","v":""},{"$f":"IF(_xlfn.XLOOKUP(INDEX('Order Form'!$C:$C,ROW(D19)+9),lists!I:I,lists!C:C,\"\",0,1)=0,\"\",_xlfn.XLOOKUP(INDEX('Order Form'!$C:$C,ROW(D19)+9),lists!I:I,lists!C:C,\"\",0,1))","v":""},{"$f":"IF(INDEX('Order Form'!$D:$D,ROW(D19)+9)>0,INDEX('Order Form'!$D:$D,ROW(D19)+9),\"\")","v":""},{"$f":"IF(INDEX('Order Form'!$E:$E,ROW(E19)+9)>0,INDEX('Order Form'!$E:$E,ROW(E19)+9),\"\")","v":""},{"$f":"IF(D19>\"\",IF('Order Form'!$B$7<>0,'Order Form'!$B$7,\"\"),\"\")","v":""},{"$f":"IF(D19<>\"\",IF('Order Form'!$B$4=\"\",\"\",'Order Form'!$B$4),\"\")","v":""},{"$f":"IF(D19<>\"\",IF('Order Form'!$B$5=\"\",\"\",'Order Form'!$B$5),\"\")","v":""},{"$f":"IF(D19<>\"\",IF('Order Form'!$B$6=\"\",\"\",'Order Form'!$B$6),\"\")","v":""}]
[{"$f":"IF(D20<>\"\",IF('Order Form'!$B$2=\"\",\"\",\"New Jersey\"),\"\")","v":""},{"$f":"IF(D20<>\"\",IF('Order Form'!$B$2=\"\",\"\",'Order Form'!$B$2),\"\")","v":""},{"$f":"IF(D20<>\"\",IF('Order Form'!$B$2=\"\",\"\",'Order Form'!$B$3),\"\")","v":""},{"$f":"IF(_xlfn.XLOOKUP(INDEX('Order Form'!$C:$C,ROW(D20)+9),lists!I:I,lists!C:C,\"\",0,1)=0,\"\",_xlfn.XLOOKUP(INDEX('Order Form'!$C:$C,ROW(D20)+9),lists!I:I,lists!C:C,\"\",0,1))","v":""},{"$f":"IF(INDEX('Order Form'!$D:$D,ROW(D20)+9)>0,INDEX('Order Form'!$D:$D,ROW(D20)+9),\"\")","v":""},{"$f":"IF(INDEX('Order Form'!$E:$E,ROW(E20)+9)>0,INDEX('Order Form'!$E:$E,ROW(E20)+9),\"\")","v":""},{"$f":"IF(D20>\"\",IF('Order Form'!$B$7<>0,'Order Form'!$B$7,\"\"),\"\")","v":""},{"$f":"IF(D20<>\"\",IF('Order Form'!$B$4=\"\",\"\",'Order Form'!$B$4),\"\")","v":""},{"$f":"IF(D20<>\"\",IF('Order Form'!$B$5=\"\",\"\",'Order Form'!$B$5),\"\")","v":""},{"$f":"IF(D20<>\"\",IF('Order Form'!$B$6=\"\",\"\",'Order Form'!$B$6),\"\")","v":""}]
[{"$f":"IF(D21<>\"\",IF('Order Form'!$B$2=\"\",\"\",\"New Jersey\"),\"\")","v":""},{"$f":"IF(D21<>\"\",IF('Order Form'!$B$2=\"\",\"\",'Order Form'!$B$2),\"\")","v":""},{"$f":"IF(D21<>\"\",IF('Order Form'!$B$2=\"\",\"\",'Order Form'!$B$3),\"\")","v":""},{"$f":"IF(_xlfn.XLOOKUP(INDEX('Order Form'!$C:$C,ROW(D21)+9),lists!I:I,lists!C:C,\"\",0,1)=0,\"\",_xlfn.XLOOKUP(INDEX('Order Form'!$C:$C,ROW(D21)+9),lists!I:I,lists!C:C,\"\",0,1))","v":""},{"$f":"IF(INDEX('Order Form'!$D:$D,ROW(D21)+9)>0,INDEX('Order Form'!$D:$D,ROW(D21)+9),\"\")","v":""},{"$f":"IF(INDEX('Order Form'!$E:$E,ROW(E21)+9)>0,INDEX('Order Form'!$E:$E,ROW(E21)+9),\"\")","v":""},{"$f":"IF(D21>\"\",IF('Order Form'!$B$7<>0,'Order Form'!$B$7,\"\"),\"\")","v":""},{"$f":"IF(D21<>\"\",IF('Order Form'!$B$4=\"\",\"\",'Order Form'!$B$4),\"\")","v":""},{"$f":"IF(D21<>\"\",IF('Order Form'!$B$5=\"\",\"\",'Order Form'!$B$5),\"\")","v":""},{"$f":"IF(D21<>\"\",IF('Order Form'!$B$6=\"\",\"\",'Order Form'!$B$6),\"\")","v":""}]
[{"$f":"IF(D22<>\"\",IF('Order Form'!$B$2=\"\",\"\",\"New Jersey\"),\"\")","v":""},{"$f":"IF(D22<>\"\",IF('Order Form'!$B$2=\"\",\"\",'Order Form'!$B$2),\"\")","v":""},{"$f":"IF(D22<>\"\",IF('Order Form'!$B$2=\"\",\"\",'Order Form'!$B$3),\"\")","v":""},{"$f":"IF(_xlfn.XLOOKUP(INDEX('Order Form'!$C:$C,ROW(D22)+9),lists!I:I,lists!C:C,\"\",0,1)=0,\"\",_xlfn.XLOOKUP(INDEX('Order Form'!$C:$C,ROW(D22)+9),lists!I:I,lists!C:C,\"\",0,1))","v":""},{"$f":"IF(INDEX('Order Form'!$D:$D,ROW(D22)+9)>0,INDEX('Order Form'!$D:$D,ROW(D22)+9),\"\")","v":""},{"$f":"IF(INDEX('Order Form'!$E:$E,ROW(E22)+9)>0,INDEX('Order Form'!$E:$E,ROW(E22)+9),\"\")","v":""},{"$f":"IF(D22>\"\",IF('Order Form'!$B$7<>0,'Order Form'!$B$7,\"\"),\"\")","v":""},{"$f":"IF(D22<>\"\",IF('Order Form'!$B$4=\"\",\"\",'Order Form'!$B$4),\"\")","v":""},{"$f":"IF(D22<>\"\",IF('Order Form'!$B$5=\"\",\"\",'Order Form'!$B$5),\"\")","v":""},{"$f":"IF(D22<>\"\",IF('Order Form'!$B$6=\"\",\"\",'Order Form'!$B$6),\"\")","v":""}]
[{"$f":"IF(D23<>\"\",IF('Order Form'!$B$2=\"\",\"\",\"New Jersey\"),\"\")","v":""},{"$f":"IF(D23<>\"\",IF('Order Form'!$B$2=\"\",\"\",'Order Form'!$B$2),\"\")","v":""},{"$f":"IF(D23<>\"\",IF('Order Form'!$B$2=\"\",\"\",'Order Form'!$B$3),\"\")","v":""},{"$f":"IF(_xlfn.XLOOKUP(INDEX('Order Form'!$C:$C,ROW(D23)+9),lists!I:I,lists!C:C,\"\",0,1)=0,\"\",_xlfn.XLOOKUP(INDEX('Order Form'!$C:$C,ROW(D23)+9),lists!I:I,lists!C:C,\"\",0,1))","v":""},{"$f":"IF(INDEX('Order Form'!$D:$D,ROW(D23)+9)>0,INDEX('Order Form'!$D:$D,ROW(D23)+9),\"\")","v":""},{"$f":"IF(INDEX('Order Form'!$E:$E,ROW(E23)+9)>0,INDEX('Order Form'!$E:$E,ROW(E23)+9),\"\")","v":""},{"$f":"IF(D23>\"\",IF('Order Form'!$B$7<>0,'Order Form'!$B$7,\"\"),\"\")","v":""},{"$f":"IF(D23<>\"\",IF('Order Form'!$B$4=\"\",\"\",'Order Form'!$B$4),\"\")","v":""},{"$f":"IF(D23<>\"\",IF('Order Form'!$B$5=\"\",\"\",'Order Form'!$B$5),\"\")","v":""},{"$f":"IF(D23<>\"\",IF('Order Form'!$B$6=\"\",\"\",'Order Form'!$B$6),\"\")","v":""}]
[{"$f":"IF(D24<>\"\",IF('Order Form'!$B$2=\"\",\"\",\"New Jersey\"),\"\")","v":""},{"$f":"IF(D24<>\"\",IF('Order Form'!$B$2=\"\",\"\",'Order Form'!$B$2),\"\")","v":""},{"$f":"IF(D24<>\"\",IF('Order Form'!$B$2=\"\",\"\",'Order Form'!$B$3),\"\")","v":""},{"$f":"IF(_xlfn.XLOOKUP(INDEX('Order Form'!$C:$C,ROW(D24)+9),lists!I:I,lists!C:C,\"\",0,1)=0,\"\",_xlfn.XLOOKUP(INDEX('Order Form'!$C:$C,ROW(D24)+9),lists!I:I,lists!C:C,\"\",0,1))","v":""},{"$f":"IF(INDEX('Order Form'!$D:$D,ROW(D24)+9)>0,INDEX('Order Form'!$D:$D,ROW(D24)+9),\"\")","v":""},{"$f":"IF(INDEX('Order Form'!$E:$E,ROW(E24)+9)>0,INDEX('Order Form'!$E:$E,ROW(E24)+9),\"\")","v":""},{"$f":"IF(D24>\"\",IF('Order Form'!$B$7<>0,'Order Form'!$B$7,\"\"),\"\")","v":""},{"$f":"IF(D24<>\"\",IF('Order Form'!$B$4=\"\",\"\",'Order Form'!$B$4),\"\")","v":""},{"$f":"IF(D24<>\"\",IF('Order Form'!$B$5=\"\",\"\",'Order Form'!$B$5),\"\")","v":""},{"$f":"IF(D24<>\"\",IF('Order Form'!$B$6=\"\",\"\",'Order Form'!$B$6),\"\")","v":""}]
[{"$f":"IF(D25<>\"\",IF('Order Form'!$B$2=\"\",\"\",\"New Jersey\"),\"\")","v":""},{"$f":"IF(D25<>\"\",IF('Order Form'!$B$2=\"\",\"\",'Order Form'!$B$2),\"\")","v":""},{"$f":"IF(D25<>\"\",IF('Order Form'!$B$2=\"\",\"\",'Order Form'!$B$3),\"\")","v":""},{"$f":"IF(_xlfn.XLOOKUP(INDEX('Order Form'!$C:$C,ROW(D25)+9),lists!I:I,lists!C:C,\"\",0,1)=0,\"\",_xlfn.XLOOKUP(INDEX('Order Form'!$C:$C,ROW(D25)+9),lists!I:I,lists!C:C,\"\",0,1))","v":""},{"$f":"IF(INDEX('Order Form'!$D:$D,ROW(D25)+9)>0,INDEX('Order Form'!$D:$D,ROW(D25)+9),\"\")","v":""},{"$f":"IF(INDEX('Order Form'!$E:$E,ROW(E25)+9)>0,INDEX('Order Form'!$E:$E,ROW(E25)+9),\"\")","v":""},{"$f":"IF(D25>\"\",IF('Order Form'!$B$7<>0,'Order Form'!$B$7,\"\"),\"\")","v":""},{"$f":"IF(D25<>\"\",IF('Order Form'!$B$4=\"\",\"\",'Order Form'!$B$4),\"\")","v":""},{"$f":"IF(D25<>\"\",IF('Order Form'!$B$5=\"\",\"\",'Order Form'!$B$5),\"\")","v":""},{"$f":"IF(D25<>\"\",IF('Order Form'!$B$6=\"\",\"\",'Order Form'!$B$6),\"\")","v":""}]
[{"$f":"IF(D26<>\"\",IF('Order Form'!$B$2=\"\",\"\",\"New Jersey\"),\"\")","v":""},{"$f":"IF(D26<>\"\",IF('Order Form'!$B$2=\"\",\"\",'Order Form'!$B$2),\"\")","v":""},{"$f":"IF(D26<>\"\",IF('Order Form'!$B$2=\"\",\"\",'Order Form'!$B$3),\"\")","v":""},{"$f":"IF(_xlfn.XLOOKUP(INDEX('Order Form'!$C:$C,ROW(D26)+9),lists!I:I,lists!C:C,\"\",0,1)=0,\"\",_xlfn.XLOOKUP(INDEX('Order Form'!$C:$C,ROW(D26)+9),lists!I:I,lists!C:C,\"\",0,1))","v":""},{"$f":"IF(INDEX('Order Form'!$D:$D,ROW(D26)+9)>0,INDEX('Order Form'!$D:$D,ROW(D26)+9),\"\")","v":""},{"$f":"IF(INDEX('Order Form'!$E:$E,ROW(E26)+9)>0,INDEX('Order Form'!$E:$E,ROW(E26)+9),\"\")","v":""},{"$f":"IF(D26>\"\",IF('Order Form'!$B$7<>0,'Order Form'!$B$7,\"\"),\"\")","v":""},{"$f":"IF(D26<>\"\",IF('Order Form'!$B$4=\"\",\"\",'Order Form'!$B$4),\"\")","v":""},{"$f":"IF(D26<>\"\",IF('Order Form'!$B$5=\"\",\"\",'Order Form'!$B$5),\"\")","v":""},{"$f":"IF(D26<>\"\",IF('Order Form'!$B$6=\"\",\"\",'Order Form'!$B$6),\"\")","v":""}]
[{"$f":"IF(D27<>\"\",IF('Order Form'!$B$2=\"\",\"\",\"New Jersey\"),\"\")","v":""},{"$f":"IF(D27<>\"\",IF('Order Form'!$B$2=\"\",\"\",'Order Form'!$B$2),\"\")","v":""},{"$f":"IF(D27<>\"\",IF('Order Form'!$B$2=\"\",\"\",'Order Form'!$B$3),\"\")","v":""},{"$f":"IF(_xlfn.XLOOKUP(INDEX('Order Form'!$C:$C,ROW(D27)+9),lists!I:I,lists!C:C,\"\",0,1)=0,\"\",_xlfn.XLOOKUP(INDEX('Order Form'!$C:$C,ROW(D27)+9),lists!I:I,lists!C:C,\"\",0,1))","v":""},{"$f":"IF(INDEX('Order Form'!$D:$D,ROW(D27)+9)>0,INDEX('Order Form'!$D:$D,ROW(D27)+9),\"\")","v":""},{"$f":"IF(INDEX('Order Form'!$E:$E,ROW(E27)+9)>0,INDEX('Order Form'!$E:$E,ROW(E27)+9),\"\")","v":""},{"$f":"IF(D27>\"\",IF('Order Form'!$B$7<>0,'Order Form'!$B$7,\"\"),\"\")","v":""},{"$f":"IF(D27<>\"\",IF('Order Form'!$B$4=\"\",\"\",'Order Form'!$B$4),\"\")","v":""},{"$f":"IF(D27<>\"\",IF('Order Form'!$B$5=\"\",\"\",'Order Form'!$B$5),\"\")","v":""},{"$f":"IF(D27<>\"\",IF('Order Form'!$B$6=\"\",\"\",'Order Form'!$B$6),\"\")","v":""}]
[{"$f":"IF(D28<>\"\",IF('Order Form'!$B$2=\"\",\"\",\"New Jersey\"),\"\")","v":""},{"$f":"IF(D28<>\"\",IF('Order Form'!$B$2=\"\",\"\",'Order Form'!$B$2),\"\")","v":""},{"$f":"IF(D28<>\"\",IF('Order Form'!$B$2=\"\",\"\",'Order Form'!$B$3),\"\")","v":""},{"$f":"IF(_xlfn.XLOOKUP(INDEX('Order Form'!$C:$C,ROW(D28)+9),lists!I:I,lists!C:C,\"\",0,1)=0,\"\",_xlfn.XLOOKUP(INDEX('Order Form'!$C:$C,ROW(D28)+9),lists!I:I,lists!C:C,\"\",0,1))","v":""},{"$f":"IF(INDEX('Order Form'!$D:$D,ROW(D28)+9)>0,INDEX('Order Form'!$D:$D,ROW(D28)+9),\"\")","v":""},{"$f":"IF(INDEX('Order Form'!$E:$E,ROW(E28)+9)>0,INDEX('Order Form'!$E:$E,ROW(E28)+9),\"\")","v":""},{"$f":"IF(D28>\"\",IF('Order Form'!$B$7<>0,'Order Form'!$B$7,\"\"),\"\")","v":""},{"$f":"IF(D28<>\"\",IF('Order Form'!$B$4=\"\",\"\",'Order Form'!$B$4),\"\")","v":""},{"$f":"IF(D28<>\"\",IF('Order Form'!$B$5=\"\",\"\",'Order Form'!$B$5),\"\")","v":""},{"$f":"IF(D28<>\"\",IF('Order Form'!$B$6=\"\",\"\",'Order Form'!$B$6),\"\")","v":""}]
[{"$f":"IF(D29<>\"\",IF('Order Form'!$B$2=\"\",\"\",\"New Jersey\"),\"\")","v":""},{"$f":"IF(D29<>\"\",IF('Order Form'!$B$2=\"\",\"\",'Order Form'!$B$2),\"\")","v":""},{"$f":"IF(D29<>\"\",IF('Order Form'!$B$2=\"\",\"\",'Order Form'!$B$3),\"\")","v":""},{"$f":"IF(_xlfn.XLOOKUP(INDEX('Order Form'!$C:$C,ROW(D29)+9),lists!I:I,lists!C:C,\"\",0,1)=0,\"\",_xlfn.XLOOKUP(INDEX('Order Form'!$C:$C,ROW(D29)+9),lists!I:I,lists!C:C,\"\",0,1))","v":""},{"$f":"IF(INDEX('Order Form'!$D:$D,ROW(D29)+9)>0,INDEX('Order Form'!$D:$D,ROW(D29)+9),\"\")","v":""},{"$f":"IF(INDEX('Order Form'!$E:$E,ROW(E29)+9)>0,INDEX('Order Form'!$E:$E,ROW(E29)+9),\"\")","v":""},{"$f":"IF(D29>\"\",IF('Order Form'!$B$7<>0,'Order Form'!$B$7,\"\"),\"\")","v":""},{"$f":"IF(D29<>\"\",IF('Order Form'!$B$4=\"\",\"\",'Order Form'!$B$4),\"\")","v":""},{"$f":"IF(D29<>\"\",IF('Order Form'!$B$5=\"\",\"\",'Order Form'!$B$5),\"\")","v":""},{"$f":"IF(D29<>\"\",IF('Order Form'!$B$6=\"\",\"\",'Order Form'!$B$6),\"\")","v":""}]
[{"$f":"IF(D30<>\"\",IF('Order Form'!$B$2=\"\",\"\",\"New Jersey\"),\"\")","v":""},{"$f":"IF(D30<>\"\",IF('Order Form'!$B$2=\"\",\"\",'Order Form'!$B$2),\"\")","v":""},{"$f":"IF(D30<>\"\",IF('Order Form'!$B$2=\"\",\"\",'Order Form'!$B$3),\"\")","v":""},{"$f":"IF(_xlfn.XLOOKUP(INDEX('Order Form'!$C:$C,ROW(D30)+9),lists!I:I,lists!C:C,\"\",0,1)=0,\"\",_xlfn.XLOOKUP(INDEX('Order Form'!$C:$C,ROW(D30)+9),lists!I:I,lists!C:C,\"\",0,1))","v":""},{"$f":"IF(INDEX('Order Form'!$D:$D,ROW(D30)+9)>0,INDEX('Order Form'!$D:$D,ROW(D30)+9),\"\")","v":""},{"$f":"IF(INDEX('Order Form'!$E:$E,ROW(E30)+9)>0,INDEX('Order Form'!$E:$E,ROW(E30)+9),\"\")","v":""},{"$f":"IF(D30>\"\",IF('Order Form'!$B$7<>0,'Order Form'!$B$7,\"\"),\"\")","v":""},{"$f":"IF(D30<>\"\",IF('Order Form'!$B$4=\"\",\"\",'Order Form'!$B$4),\"\")","v":""},{"$f":"IF(D30<>\"\",IF('Order Form'!$B$5=\"\",\"\",'Order Form'!$B$5),\"\")","v":""},{"$f":"IF(D30<>\"\",IF('Order Form'!$B$6=\"\",\"\",'Order Form'!$B$6),\"\")","v":""}]
[{"$f":"IF(D31<>\"\",IF('Order Form'!$B$2=\"\",\"\",\"New Jersey\"),\"\")","v":""},{"$f":"IF(D31<>\"\",IF('Order Form'!$B$2=\"\",\"\",'Order Form'!$B$2),\"\")","v":""},{"$f":"IF(D31<>\"\",IF('Order Form'!$B$2=\"\",\"\",'Order Form'!$B$3),\"\")","v":""},{"$f":"IF(_xlfn.XLOOKUP(INDEX('Order Form'!$C:$C,ROW(D31)+9),lists!I:I,lists!C:C,\"\",0,1)=0,\"\",_xlfn.XLOOKUP(INDEX('Order Form'!$C:$C,ROW(D31)+9),lists!I:I,lists!C:C,\"\",0,1))","v":""},{"$f":"IF(INDEX('Order Form'!$D:$D,ROW(D31)+9)>0,INDEX('Order Form'!$D:$D,ROW(D31)+9),\"\")","v":""},{"$f":"IF(INDEX('Order Form'!$E:$E,ROW(E31)+9)>0,INDEX('Order Form'!$E:$E,ROW(E31)+9),\"\")","v":""},{"$f":"IF(D31>\"\",IF('Order Form'!$B$7<>0,'Order Form'!$B$7,\"\"),\"\")","v":""},{"$f":"IF(D31<>\"\",IF('Order Form'!$B$4=\"\",\"\",'Order Form'!$B$4),\"\")","v":""},{"$f":"IF(D31<>\"\",IF('Order Form'!$B$5=\"\",\"\",'Order Form'!$B$5),\"\")","v":""},{"$f":"IF(D31<>\"\",IF('Order Form'!$B$6=\"\",\"\",'Order Form'!$B$6),\"\")","v":""}]
[{"$f":"IF(D32<>\"\",IF('Order Form'!$B$2=\"\",\"\",\"New Jersey\"),\"\")","v":""},{"$f":"IF(D32<>\"\",IF('Order Form'!$B$2=\"\",\"\",'Order Form'!$B$2),\"\")","v":""},{"$f":"IF(D32<>\"\",IF('Order Form'!$B$2=\"\",\"\",'Order Form'!$B$3),\"\")","v":""},{"$f":"IF(_xlfn.XLOOKUP(INDEX('Order Form'!$C:$C,ROW(D32)+9),lists!I:I,lists!C:C,\"\",0,1)=0,\"\",_xlfn.XLOOKUP(INDEX('Order Form'!$C:$C,ROW(D32)+9),lists!I:I,lists!C:C,\"\",0,1))","v":""},{"$f":"IF(INDEX('Order Form'!$D:$D,ROW(D32)+9)>0,INDEX('Order Form'!$D:$D,ROW(D32)+9),\"\")","v":""},{"$f":"IF(INDEX('Order Form'!$E:$E,ROW(E32)+9)>0,INDEX('Order Form'!$E:$E,ROW(E32)+9),\"\")","v":""},{"$f":"IF(D32>\"\",IF('Order Form'!$B$7<>0,'Order Form'!$B$7,\"\"),\"\")","v":""},{"$f":"IF(D32<>\"\",IF('Order Form'!$B$4=\"\",\"\",'Order Form'!$B$4),\"\")","v":""},{"$f":"IF(D32<>\"\",IF('Order Form'!$B$5=\"\",\"\",'Order Form'!$B$5),\"\")","v":""},{"$f":"IF(D32<>\"\",IF('Order Form'!$B$6=\"\",\"\",'Order Form'!$B$6),\"\")","v":""}]
[{"$f":"IF(D33<>\"\",IF('Order Form'!$B$2=\"\",\"\",\"New Jersey\"),\"\")","v":""},{"$f":"IF(D33<>\"\",IF('Order Form'!$B$2=\"\",\"\",'Order Form'!$B$2),\"\")","v":""},{"$f":"IF(D33<>\"\",IF('Order Form'!$B$2=\"\",\"\",'Order Form'!$B$3),\"\")","v":""},{"$f":"IF(_xlfn.XLOOKUP(INDEX('Order Form'!$C:$C,ROW(D33)+9),lists!I:I,lists!C:C,\"\",0,1)=0,\"\",_xlfn.XLOOKUP(INDEX('Order Form'!$C:$C,ROW(D33)+9),lists!I:I,lists!C:C,\"\",0,1))","v":""},{"$f":"IF(INDEX('Order Form'!$D:$D,ROW(D33)+9)>0,INDEX('Order Form'!$D:$D,ROW(D33)+9),\"\")","v":""},{"$f":"IF(INDEX('Order Form'!$E:$E,ROW(E33)+9)>0,INDEX('Order Form'!$E:$E,ROW(E33)+9),\"\")","v":""},{"$f":"IF(D33>\"\",IF('Order Form'!$B$7<>0,'Order Form'!$B$7,\"\"),\"\")","v":""},{"$f":"IF(D33<>\"\",IF('Order Form'!$B$4=\"\",\"\",'Order Form'!$B$4),\"\")","v":""},{"$f":"IF(D33<>\"\",IF('Order Form'!$B$5=\"\",\"\",'Order Form'!$B$5),\"\")","v":""},{"$f":"IF(D33<>\"\",IF('Order Form'!$B$6=\"\",\"\",'Order Form'!$B$6),\"\")","v":""}]
[{"$f":"IF(D34<>\"\",IF('Order Form'!$B$2=\"\",\"\",\"New Jersey\"),\"\")","v":""},{"$f":"IF(D34<>\"\",IF('Order Form'!$B$2=\"\",\"\",'Order Form'!$B$2),\"\")","v":""},{"$f":"IF(D34<>\"\",IF('Order Form'!$B$2=\"\",\"\",'Order Form'!$B$3),\"\")","v":""},{"$f":"IF(_xlfn.XLOOKUP(INDEX('Order Form'!$C:$C,ROW(D34)+9),lists!I:I,lists!C:C,\"\",0,1)=0,\"\",_xlfn.XLOOKUP(INDEX('Order Form'!$C:$C,ROW(D34)+9),lists!I:I,lists!C:C,\"\",0,1))","v":""},{"$f":"IF(INDEX('Order Form'!$D:$D,ROW(D34)+9)>0,INDEX('Order Form'!$D:$D,ROW(D34)+9),\"\")","v":""},{"$f":"IF(INDEX('Order Form'!$E:$E,ROW(E34)+9)>0,INDEX('Order Form'!$E:$E,ROW(E34)+9),\"\")","v":""},{"$f":"IF(D34>\"\",IF('Order Form'!$B$7<>0,'Order Form'!$B$7,\"\"),\"\")","v":""},{"$f":"IF(D34<>\"\",IF('Order Form'!$B$4=\"\",\"\",'Order Form'!$B$4),\"\")","v":""},{"$f":"IF(D34<>\"\",IF('Order Form'!$B$5=\"\",\"\",'Order Form'!$B$5),\"\")","v":""},{"$f":"IF(D34<>\"\",IF('Order Form'!$B$6=\"\",\"\",'Order Form'!$B$6),\"\")","v":""}]
[{"$f":"IF(D35<>\"\",IF('Order Form'!$B$2=\"\",\"\",\"New Jersey\"),\"\")","v":""},{"$f":"IF(D35<>\"\",IF('Order Form'!$B$2=\"\",\"\",'Order Form'!$B$2),\"\")","v":""},{"$f":"IF(D35<>\"\",IF('Order Form'!$B$2=\"\",\"\",'Order Form'!$B$3),\"\")","v":""},{"$f":"IF(_xlfn.XLOOKUP(INDEX('Order Form'!$C:$C,ROW(D35)+9),lists!I:I,lists!C:C,\"\",0,1)=0,\"\",_xlfn.XLOOKUP(INDEX('Order Form'!$C:$C,ROW(D35)+9),lists!I:I,lists!C:C,\"\",0,1))","v":""},{"$f":"IF(INDEX('Order Form'!$D:$D,ROW(D35)+9)>0,INDEX('Order Form'!$D:$D,ROW(D35)+9),\"\")","v":""},{"$f":"IF(INDEX('Order Form'!$E:$E,ROW(E35)+9)>0,INDEX('Order Form'!$E:$E,ROW(E35)+9),\"\")","v":""},{"$f":"IF(D35>\"\",IF('Order Form'!$B$7<>0,'Order Form'!$B$7,\"\"),\"\")","v":""},{"$f":"IF(D35<>\"\",IF('Order Form'!$B$4=\"\",\"\",'Order Form'!$B$4),\"\")","v":""},{"$f":"IF(D35<>\"\",IF('Order Form'!$B$5=\"\",\"\",'Order Form'!$B$5),\"\")","v":""},{"$f":"IF(D35<>\"\",IF('Order Form'!$B$6=\"\",\"\",'Order Form'!$B$6),\"\")","v":""}]
[{"$f":"IF(D36<>\"\",IF('Order Form'!$B$2=\"\",\"\",\"New Jersey\"),\"\")","v":""},{"$f":"IF(D36<>\"\",IF('Order Form'!$B$2=\"\",\"\",'Order Form'!$B$2),\"\")","v":""},{"$f":"IF(D36<>\"\",IF('Order Form'!$B$2=\"\",\"\",'Order Form'!$B$3),\"\")","v":""},{"$f":"IF(_xlfn.XLOOKUP(INDEX('Order Form'!$C:$C,ROW(D36)+9),lists!I:I,lists!C:C,\"\",0,1)=0,\"\",_xlfn.XLOOKUP(INDEX('Order Form'!$C:$C,ROW(D36)+9),lists!I:I,lists!C:C,\"\",0,1))","v":""},{"$f":"IF(INDEX('Order Form'!$D:$D,ROW(D36)+9)>0,INDEX('Order Form'!$D:$D,ROW(D36)+9),\"\")","v":""},{"$f":"IF(INDEX('Order Form'!$E:$E,ROW(E36)+9)>0,INDEX('Order Form'!$E:$E,ROW(E36)+9),\"\")","v":""},{"$f":"IF(D36>\"\",IF('Order Form'!$B$7<>0,'Order Form'!$B$7,\"\"),\"\")","v":""},{"$f":"IF(D36<>\"\",IF('Order Form'!$B$4=\"\",\"\",'Order Form'!$B$4),\"\")","v":""},{"$f":"IF(D36<>\"\",IF('Order Form'!$B$5=\"\",\"\",'Order Form'!$B$5),\"\")","v":""},{"$f":"IF(D36<>\"\",IF('Order Form'!$B$6=\"\",\"\",'Order Form'!$B$6),\"\")","v":""}]
[{"$f":"IF(D37<>\"\",IF('Order Form'!$B$2=\"\",\"\",\"New Jersey\"),\"\")","v":""},{"$f":"IF(D37<>\"\",IF('Order Form'!$B$2=\"\",\"\",'Order Form'!$B$2),\"\")","v":""},{"$f":"IF(D37<>\"\",IF('Order Form'!$B$2=\"\",\"\",'Order Form'!$B$3),\"\")","v":""},{"$f":"IF(_xlfn.XLOOKUP(INDEX('Order Form'!$C:$C,ROW(D37)+9),lists!I:I,lists!C:C,\"\",0,1)=0,\"\",_xlfn.XLOOKUP(INDEX('Order Form'!$C:$C,ROW(D37)+9),lists!I:I,lists!C:C,\"\",0,1))","v":""},{"$f":"IF(INDEX('Order Form'!$D:$D,ROW(D37)+9)>0,INDEX('Order Form'!$D:$D,ROW(D37)+9),\"\")","v":""},{"$f":"IF(INDEX('Order Form'!$E:$E,ROW(E37)+9)>0,INDEX('Order Form'!$E:$E,ROW(E37)+9),\"\")","v":""},{"$f":"IF(D37>\"\",IF('Order Form'!$B$7<>0,'Order Form'!$B$7,\"\"),\"\")","v":""},{"$f":"IF(D37<>\"\",IF('Order Form'!$B$4=\"\",\"\",'Order Form'!$B$4),\"\")","v":""},{"$f":"IF(D37<>\"\",IF('Order Form'!$B$5=\"\",\"\",'Order Form'!$B$5),\"\")","v":""},{"$f":"IF(D37<>\"\",IF('Order Form'!$B$6=\"\",\"\",'Order Form'!$B$6),\"\")","v":""}]
[{"$f":"IF(D38<>\"\",IF('Order Form'!$B$2=\"\",\"\",\"New Jersey\"),\"\")","v":""},{"$f":"IF(D38<>\"\",IF('Order Form'!$B$2=\"\",\"\",'Order Form'!$B$2),\"\")","v":""},{"$f":"IF(D38<>\"\",IF('Order Form'!$B$2=\"\",\"\",'Order Form'!$B$3),\"\")","v":""},{"$f":"IF(_xlfn.XLOOKUP(INDEX('Order Form'!$C:$C,ROW(D38)+9),lists!I:I,lists!C:C,\"\",0,1)=0,\"\",_xlfn.XLOOKUP(INDEX('Order Form'!$C:$C,ROW(D38)+9),lists!I:I,lists!C:C,\"\",0,1))","v":""},{"$f":"IF(INDEX('Order Form'!$D:$D,ROW(D38)+9)>0,INDEX('Order Form'!$D:$D,ROW(D38)+9),\"\")","v":""},{"$f":"IF(INDEX('Order Form'!$E:$E,ROW(E38)+9)>0,INDEX('Order Form'!$E:$E,ROW(E38)+9),\"\")","v":""},{"$f":"IF(D38>\"\",IF('Order Form'!$B$7<>0,'Order Form'!$B$7,\"\"),\"\")","v":""},{"$f":"IF(D38<>\"\",IF('Order Form'!$B$4=\"\",\"\",'Order Form'!$B$4),\"\")","v":""},{"$f":"IF(D38<>\"\",IF('Order Form'!$B$5=\"\",\"\",'Order Form'!$B$5),\"\")","v":""},{"$f":"IF(D38<>\"\",IF('Order Form'!$B$6=\"\",\"\",'Order Form'!$B$6),\"\")","v":""}]
[{"$f":"IF(D39<>\"\",IF('Order Form'!$B$2=\"\",\"\",\"New Jersey\"),\"\")","v":""},{"$f":"IF(D39<>\"\",IF('Order Form'!$B$2=\"\",\"\",'Order Form'!$B$2),\"\")","v":""},{"$f":"IF(D39<>\"\",IF('Order Form'!$B$2=\"\",\"\",'Order Form'!$B$3),\"\")","v":""},{"$f":"IF(_xlfn.XLOOKUP(INDEX('Order Form'!$C:$C,ROW(D39)+9),lists!I:I,lists!C:C,\"\",0,1)=0,\"\",_xlfn.XLOOKUP(INDEX('Order Form'!$C:$C,ROW(D39)+9),lists!I:I,lists!C:C,\"\",0,1))","v":""},{"$f":"IF(INDEX('Order Form'!$D:$D,ROW(D39)+9)>0,INDEX('Order Form'!$D:$D,ROW(D39)+9),\"\")","v":""},{"$f":"IF(INDEX('Order Form'!$E:$E,ROW(E39)+9)>0,INDEX('Order Form'!$E:$E,ROW(E39)+9),\"\")","v":""},{"$f":"IF(D39>\"\",IF('Order Form'!$B$7<>0,'Order Form'!$B$7,\"\"),\"\")","v":""},{"$f":"IF(D39<>\"\",IF('Order Form'!$B$4=\"\",\"\",'Order Form'!$B$4),\"\")","v":""},{"$f":"IF(D39<>\"\",IF('Order Form'!$B$5=\"\",\"\",'Order Form'!$B$5),\"\")","v":""},{"$f":"IF(D39<>\"\",IF('Order Form'!$B$6=\"\",\"\",'Order Form'!$B$6),\"\")","v":""}]
[{"$f":"IF(D40<>\"\",IF('Order Form'!$B$2=\"\",\"\",\"New Jersey\"),\"\")","v":""},{"$f":"IF(D40<>\"\",IF('Order Form'!$B$2=\"\",\"\",'Order Form'!$B$2),\"\")","v":""},{"$f":"IF(D40<>\"\",IF('Order Form'!$B$2=\"\",\"\",'Order Form'!$B$3),\"\")","v":""},{"$f":"IF(_xlfn.XLOOKUP(INDEX('Order Form'!$C:$C,ROW(D40)+9),lists!I:I,lists!C:C,\"\",0,1)=0,\"\",_xlfn.XLOOKUP(INDEX('Order Form'!$C:$C,ROW(D40)+9),lists!I:I,lists!C:C,\"\",0,1))","v":""},{"$f":"IF(INDEX('Order Form'!$D:$D,ROW(D40)+9)>0,INDEX('Order Form'!$D:$D,ROW(D40)+9),\"\")","v":""},{"$f":"IF(INDEX('Order Form'!$E:$E,ROW(E40)+9)>0,INDEX('Order Form'!$E:$E,ROW(E40)+9),\"\")","v":""},{"$f":"IF(D40>\"\",IF('Order Form'!$B$7<>0,'Order Form'!$B$7,\"\"),\"\")","v":""},{"$f":"IF(D40<>\"\",IF('Order Form'!$B$4=\"\",\"\",'Order Form'!$B$4),\"\")","v":""},{"$f":"IF(D40<>\"\",IF('Order Form'!$B$5=\"\",\"\",'Order Form'!$B$5),\"\")","v":""},{"$f":"IF(D40<>\"\",IF('Order Form'!$B$6=\"\",\"\",'Order Form'!$B$6),\"\")","v":""}]
[{"$f":"IF(D41<>\"\",IF('Order Form'!$B$2=\"\",\"\",\"New Jersey\"),\"\")","v":""},{"$f":"IF(D41<>\"\",IF('Order Form'!$B$2=\"\",\"\",'Order Form'!$B$2),\"\")","v":""},{"$f":"IF(D41<>\"\",IF('Order Form'!$B$2=\"\",\"\",'Order Form'!$B$3),\"\")","v":""},{"$f":"IF(_xlfn.XLOOKUP(INDEX('Order Form'!$C:$C,ROW(D41)+9),lists!I:I,lists!C:C,\"\",0,1)=0,\"\",_xlfn.XLOOKUP(INDEX('Order Form'!$C:$C,ROW(D41)+9),lists!I:I,lists!C:C,\"\",0,1))","v":""},{"$f":"IF(INDEX('Order Form'!$D:$D,ROW(D41)+9)>0,INDEX('Order Form'!$D:$D,ROW(D41)+9),\"\")","v":""},{"$f":"IF(INDEX('Order Form'!$E:$E,ROW(E41)+9)>0,INDEX('Order Form'!$E:$E,ROW(E41)+9),\"\")","v":""},{"$f":"IF(D41>\"\",IF('Order Form'!$B$7<>0,'Order Form'!$B$7,\"\"),\"\")","v":""},{"$f":"IF(D41<>\"\",IF('Order Form'!$B$4=\"\",\"\",'Order Form'!$B$4),\"\")","v":""},{"$f":"IF(D41<>\"\",IF('Order Form'!$B$5=\"\",\"\",'Order Form'!$B$5),\"\")","v":""},{"$f":"IF(D41<>\"\",IF('Order Form'!$B$6=\"\",\"\",'Order Form'!$B$6),\"\")","v":""}]
[{"$f":"IF(D42<>\"\",IF('Order Form'!$B$2=\"\",\"\",\"New Jersey\"),\"\")","v":""},{"$f":"IF(D42<>\"\",IF('Order Form'!$B$2=\"\",\"\",'Order Form'!$B$2),\"\")","v":""},{"$f":"IF(D42<>\"\",IF('Order Form'!$B$2=\"\",\"\",'Order Form'!$B$3),\"\")","v":""},{"$f":"IF(_xlfn.XLOOKUP(INDEX('Order Form'!$C:$C,ROW(D42)+9),lists!I:I,lists!C:C,\"\",0,1)=0,\"\",_xlfn.XLOOKUP(INDEX('Order Form'!$C:$C,ROW(D42)+9),lists!I:I,lists!C:C,\"\",0,1))","v":""},{"$f":"IF(INDEX('Order Form'!$D:$D,ROW(D42)+9)>0,INDEX('Order Form'!$D:$D,ROW(D42)+9),\"\")","v":""},{"$f":"IF(INDEX('Order Form'!$E:$E,ROW(E42)+9)>0,INDEX('Order Form'!$E:$E,ROW(E42)+9),\"\")","v":""},{"$f":"IF(D42>\"\",IF('Order Form'!$B$7<>0,'Order Form'!$B$7,\"\"),\"\")","v":""},{"$f":"IF(D42<>\"\",IF('Order Form'!$B$4=\"\",\"\",'Order Form'!$B$4),\"\")","v":""},{"$f":"IF(D42<>\"\",IF('Order Form'!$B$5=\"\",\"\",'Order Form'!$B$5),\"\")","v":""},{"$f":"IF(D42<>\"\",IF('Order Form'!$B$6=\"\",\"\",'Order Form'!$B$6),\"\")","v":""}]
[{"$f":"IF(D43<>\"\",IF('Order Form'!$B$2=\"\",\"\",\"New Jersey\"),\"\")","v":""},{"$f":"IF(D43<>\"\",IF('Order Form'!$B$2=\"\",\"\",'Order Form'!$B$2),\"\")","v":""},{"$f":"IF(D43<>\"\",IF('Order Form'!$B$2=\"\",\"\",'Order Form'!$B$3),\"\")","v":""},{"$f":"IF(_xlfn.XLOOKUP(INDEX('Order Form'!$C:$C,ROW(D43)+9),lists!I:I,lists!C:C,\"\",0,1)=0,\"\",_xlfn.XLOOKUP(INDEX('Order Form'!$C:$C,ROW(D43)+9),lists!I:I,lists!C:C,\"\",0,1))","v":""},{"$f":"IF(INDEX('Order Form'!$D:$D,ROW(D43)+9)>0,INDEX('Order Form'!$D:$D,ROW(D43)+9),\"\")","v":""},{"$f":"IF(INDEX('Order Form'!$E:$E,ROW(E43)+9)>0,INDEX('Order Form'!$E:$E,ROW(E43)+9),\"\")","v":""},{"$f":"IF(D43>\"\",IF('Order Form'!$B$7<>0,'Order Form'!$B$7,\"\"),\"\")","v":""},{"$f":"IF(D43<>\"\",IF('Order Form'!$B$4=\"\",\"\",'Order Form'!$B$4),\"\")","v":""},{"$f":"IF(D43<>\"\",IF('Order Form'!$B$5=\"\",\"\",'Order Form'!$B$5),\"\")","v":""},{"$f":"IF(D43<>\"\",IF('Order Form'!$B$6=\"\",\"\",'Order Form'!$B$6),\"\")","v":""}]
[{"$f":"IF(D44<>\"\",IF('Order Form'!$B$2=\"\",\"\",\"New Jersey\"),\"\")","v":""},{"$f":"IF(D44<>\"\",IF('Order Form'!$B$2=\"\",\"\",'Order Form'!$B$2),\"\")","v":""},{"$f":"IF(D44<>\"\",IF('Order Form'!$B$2=\"\",\"\",'Order Form'!$B$3),\"\")","v":""},{"$f":"IF(_xlfn.XLOOKUP(INDEX('Order Form'!$C:$C,ROW(D44)+9),lists!I:I,lists!C:C,\"\",0,1)=0,\"\",_xlfn.XLOOKUP(INDEX('Order Form'!$C:$C,ROW(D44)+9),lists!I:I,lists!C:C,\"\",0,1))","v":""},{"$f":"IF(INDEX('Order Form'!$D:$D,ROW(D44)+9)>0,INDEX('Order Form'!$D:$D,ROW(D44)+9),\"\")","v":""},{"$f":"IF(INDEX('Order Form'!$E:$E,ROW(E44)+9)>0,INDEX('Order Form'!$E:$E,ROW(E44)+9),\"\")","v":""},{"$f":"IF(D44>\"\",IF('Order Form'!$B$7<>0,'Order Form'!$B$7,\"\"),\"\")","v":""},{"$f":"IF(D44<>\"\",IF('Order Form'!$B$4=\"\",\"\",'Order Form'!$B$4),\"\")","v":""},{"$f":"IF(D44<>\"\",IF('Order Form'!$B$5=\"\",\"\",'Order Form'!$B$5),\"\")","v":""},{"$f":"IF(D44<>\"\",IF('Order Form'!$B$6=\"\",\"\",'Order Form'!$B$6),\"\")","v":""}]
[{"$f":"IF(D45<>\"\",IF('Order Form'!$B$2=\"\",\"\",\"New Jersey\"),\"\")","v":""},{"$f":"IF(D45<>\"\",IF('Order Form'!$B$2=\"\",\"\",'Order Form'!$B$2),\"\")","v":""},{"$f":"IF(D45<>\"\",IF('Order Form'!$B$2=\"\",\"\",'Order Form'!$B$3),\"\")","v":""},{"$f":"IF(_xlfn.XLOOKUP(INDEX('Order Form'!$C:$C,ROW(D45)+9),lists!I:I,lists!C:C,\"\",0,1)=0,\"\",_xlfn.XLOOKUP(INDEX('Order Form'!$C:$C,ROW(D45)+9),lists!I:I,lists!C:C,\"\",0,1))","v":""},{"$f":"IF(INDEX('Order Form'!$D:$D,ROW(D45)+9)>0,INDEX('Order Form'!$D:$D,ROW(D45)+9),\"\")","v":""},{"$f":"IF(INDEX('Order Form'!$E:$E,ROW(E45)+9)>0,INDEX('Order Form'!$E:$E,ROW(E45)+9),\"\")","v":""},{"$f":"IF(D45>\"\",IF('Order Form'!$B$7<>0,'Order Form'!$B$7,\"\"),\"\")","v":""},{"$f":"IF(D45<>\"\",IF('Order Form'!$B$4=\"\",\"\",'Order Form'!$B$4),\"\")","v":""},{"$f":"IF(D45<>\"\",IF('Order Form'!$B$5=\"\",\"\",'Order Form'!$B$5),\"\")","v":""},{"$f":"IF(D45<>\"\",IF('Order Form'!$B$6=\"\",\"\",'Order Form'!$B$6),\"\")","v":""}]
[{"$f":"IF(D46<>\"\",IF('Order Form'!$B$2=\"\",\"\",\"New Jersey\"),\"\")","v":""},{"$f":"IF(D46<>\"\",IF('Order Form'!$B$2=\"\",\"\",'Order Form'!$B$2),\"\")","v":""},{"$f":"IF(D46<>\"\",IF('Order Form'!$B$2=\"\",\"\",'Order Form'!$B$3),\"\")","v":""},{"$f":"IF(_xlfn.XLOOKUP(INDEX('Order Form'!$C:$C,ROW(D46)+9),lists!I:I,lists!C:C,\"\",0,1)=0,\"\",_xlfn.XLOOKUP(INDEX('Order Form'!$C:$C,ROW(D46)+9),lists!I:I,lists!C:C,\"\",0,1))","v":""},{"$f":"IF(INDEX('Order Form'!$D:$D,ROW(D46)+9)>0,INDEX('Order Form'!$D:$D,ROW(D46)+9),\"\")","v":""},{"$f":"IF(INDEX('Order Form'!$E:$E,ROW(E46)+9)>0,INDEX('Order Form'!$E:$E,ROW(E46)+9),\"\")","v":""},{"$f":"IF(D46>\"\",IF('Order Form'!$B$7<>0,'Order Form'!$B$7,\"\"),\"\")","v":""},{"$f":"IF(D46<>\"\",IF('Order Form'!$B$4=\"\",\"\",'Order Form'!$B$4),\"\")","v":""},{"$f":"IF(D46<>\"\",IF('Order Form'!$B$5=\"\",\"\",'Order Form'!$B$5),\"\")","v":""},{"$f":"IF(D46<>\"\",IF('Order Form'!$B$6=\"\",\"\",'Order Form'!$B$6),\"\")","v":""}]
[{"$f":"IF(D47<>\"\",IF('Order Form'!$B$2=\"\",\"\",\"New Jersey\"),\"\")","v":""},{"$f":"IF(D47<>\"\",IF('Order Form'!$B$2=\"\",\"\",'Order Form'!$B$2),\"\")","v":""},{"$f":"IF(D47<>\"\",IF('Order Form'!$B$2=\"\",\"\",'Order Form'!$B$3),\"\")","v":""},{"$f":"IF(_xlfn.XLOOKUP(INDEX('Order Form'!$C:$C,ROW(D47)+9),lists!I:I,lists!C:C,\"\",0,1)=0,\"\",_xlfn.XLOOKUP(INDEX('Order Form'!$C:$C,ROW(D47)+9),lists!I:I,lists!C:C,\"\",0,1))","v":""},{"$f":"IF(INDEX('Order Form'!$D:$D,ROW(D47)+9)>0,INDEX('Order Form'!$D:$D,ROW(D47)+9),\"\")","v":""},{"$f":"IF(INDEX('Order Form'!$E:$E,ROW(E47)+9)>0,INDEX('Order Form'!$E:$E,ROW(E47)+9),\"\")","v":""},{"$f":"IF(D47>\"\",IF('Order Form'!$B$7<>0,'Order Form'!$B$7,\"\"),\"\")","v":""},{"$f":"IF(D47<>\"\",IF('Order Form'!$B$4=\"\",\"\",'Order Form'!$B$4),\"\")","v":""},{"$f":"IF(D47<>\"\",IF('Order Form'!$B$5=\"\",\"\",'Order Form'!$B$5),\"\")","v":""},{"$f":"IF(D47<>\"\",IF('Order Form'!$B$6=\"\",\"\",'Order Form'!$B$6),\"\")","v":""}]
[{"$f":"IF(D48<>\"\",IF('Order Form'!$B$2=\"\",\"\",\"New Jersey\"),\"\")","v":""},{"$f":"IF(D48<>\"\",IF('Order Form'!$B$2=\"\",\"\",'Order Form'!$B$2),\"\")","v":""},{"$f":"IF(D48<>\"\",IF('Order Form'!$B$2=\"\",\"\",'Order Form'!$B$3),\"\")","v":""},{"$f":"IF(_xlfn.XLOOKUP(INDEX('Order Form'!$C:$C,ROW(D48)+9),lists!I:I,lists!C:C,\"\",0,1)=0,\"\",_xlfn.XLOOKUP(INDEX('Order Form'!$C:$C,ROW(D48)+9),lists!I:I,lists!C:C,\"\",0,1))","v":""},{"$f":"IF(INDEX('Order Form'!$D:$D,ROW(D48)+9)>0,INDEX('Order Form'!$D:$D,ROW(D48)+9),\"\")","v":""},{"$f":"IF(INDEX('Order Form'!$E:$E,ROW(E48)+9)>0,INDEX('Order Form'!$E:$E,ROW(E48)+9),\"\")","v":""},{"$f":"IF(D48>\"\",IF('Order Form'!$B$7<>0,'Order Form'!$B$7,\"\"),\"\")","v":""},{"$f":"IF(D48<>\"\",IF('Order Form'!$B$4=\"\",\"\",'Order Form'!$B$4),\"\")","v":""},{"$f":"IF(D48<>\"\",IF('Order Form'!$B$5=\"\",\"\",'Order Form'!$B$5),\"\")","v":""},{"$f":"IF(D48<>\"\",IF('Order Form'!$B$6=\"\",\"\",'Order Form'!$B$6),\"\")","v":""}]
[{"$f":"IF(D49<>\"\",IF('Order Form'!$B$2=\"\",\"\",\"New Jersey\"),\"\")","v":""},{"$f":"IF(D49<>\"\",IF('Order Form'!$B$2=\"\",\"\",'Order Form'!$B$2),\"\")","v":""},{"$f":"IF(D49<>\"\",IF('Order Form'!$B$2=\"\",\"\",'Order Form'!$B$3),\"\")","v":""},{"$f":"IF(_xlfn.XLOOKUP(INDEX('Order Form'!$C:$C,ROW(D49)+9),lists!I:I,lists!C:C,\"\",0,1)=0,\"\",_xlfn.XLOOKUP(INDEX('Order Form'!$C:$C,ROW(D49)+9),lists!I:I,lists!C:C,\"\",0,1))","v":""},{"$f":"IF(INDEX('Order Form'!$D:$D,ROW(D49)+9)>0,INDEX('Order Form'!$D:$D,ROW(D49)+9),\"\")","v":""},{"$f":"IF(INDEX('Order Form'!$E:$E,ROW(E49)+9)>0,INDEX('Order Form'!$E:$E,ROW(E49)+9),\"\")","v":""},{"$f":"IF(D49>\"\",IF('Order Form'!$B$7<>0,'Order Form'!$B$7,\"\"),\"\")","v":""},{"$f":"IF(D49<>\"\",IF('Order Form'!$B$4=\"\",\"\",'Order Form'!$B$4),\"\")","v":""},{"$f":"IF(D49<>\"\",IF('Order Form'!$B$5=\"\",\"\",'Order Form'!$B$5),\"\")","v":""},{"$f":"IF(D49<>\"\",IF('Order Form'!$B$6=\"\",\"\",'Order Form'!$B$6),\"\")","v":""}]
[{"$f":"IF(D50<>\"\",IF('Order Form'!$B$2=\"\",\"\",\"New Jersey\"),\"\")","v":""},{"$f":"IF(D50<>\"\",IF('Order Form'!$B$2=\"\",\"\",'Order Form'!$B$2),\"\")","v":""},{"$f":"IF(D50<>\"\",IF('Order Form'!$B$2=\"\",\"\",'Order Form'!$B$3),\"\")","v":""},{"$f":"IF(_xlfn.XLOOKUP(INDEX('Order Form'!$C:$C,ROW(D50)+9),lists!I:I,lists!C:C,\"\",0,1)=0,\"\",_xlfn.XLOOKUP(INDEX('Order Form'!$C:$C,ROW(D50)+9),lists!I:I,lists!C:C,\"\",0,1))","v":""},{"$f":"IF(INDEX('Order Form'!$D:$D,ROW(D50)+9)>0,INDEX('Order Form'!$D:$D,ROW(D50)+9),\"\")","v":""},{"$f":"IF(INDEX('Order Form'!$E:$E,ROW(E50)+9)>0,INDEX('Order Form'!$E:$E,ROW(E50)+9),\"\")","v":""},{"$f":"IF(D50>\"\",IF('Order Form'!$B$7<>0,'Order Form'!$B$7,\"\"),\"\")","v":""},{"$f":"IF(D50<>\"\",IF('Order Form'!$B$4=\"\",\"\",'Order Form'!$B$4),\"\")","v":""},{"$f":"IF(D50<>\"\",IF('Order Form'!$B$5=\"\",\"\",'Order Form'!$B$5),\"\")","v":""},{"$f":"IF(D50<>\"\",IF('Order Form'!$B$6=\"\",\"\",'Order Form'!$B$6),\"\")","v":""}]
[{"$f":"IF(D51<>\"\",IF('Order Form'!$B$2=\"\",\"\",\"New Jersey\"),\"\")","v":""},{"$f":"IF(D51<>\"\",IF('Order Form'!$B$2=\"\",\"\",'Order Form'!$B$2),\"\")","v":""},{"$f":"IF(D51<>\"\",IF('Order Form'!$B$2=\"\",\"\",'Order Form'!$B$3),\"\")","v":""},{"$f":"IF(_xlfn.XLOOKUP(INDEX('Order Form'!$C:$C,ROW(D51)+9),lists!I:I,lists!C:C,\"\",0,1)=0,\"\",_xlfn.XLOOKUP(INDEX('Order Form'!$C:$C,ROW(D51)+9),lists!I:I,lists!C:C,\"\",0,1))","v":""},{"$f":"IF(INDEX('Order Form'!$D:$D,ROW(D51)+9)>0,INDEX('Order Form'!$D:$D,ROW(D51)+9),\"\")","v":""},{"$f":"IF(INDEX('Order Form'!$E:$E,ROW(E51)+9)>0,INDEX('Order Form'!$E:$E,ROW(E51)+9),\"\")","v":""},{"$f":"IF(D51>\"\",IF('Order Form'!$B$7<>0,'Order Form'!$B$7,\"\"),\"\")","v":""},{"$f":"IF(D51<>\"\",IF('Order Form'!$B$4=\"\",\"\",'Order Form'!$B$4),\"\")","v":""},{"$f":"IF(D51<>\"\",IF('Order Form'!$B$5=\"\",\"\",'Order Form'!$B$5),\"\")","v":""},{"$f":"IF(D51<>\"\",IF('Order Form'!$B$6=\"\",\"\",'Order Form'!$B$6),\"\")","v":""}]
[{"$f":"IF(D52<>\"\",IF('Order Form'!$B$2=\"\",\"\",\"New Jersey\"),\"\")","v":""},{"$f":"IF(D52<>\"\",IF('Order Form'!$B$2=\"\",\"\",'Order Form'!$B$2),\"\")","v":""},{"$f":"IF(D52<>\"\",IF('Order Form'!$B$2=\"\",\"\",'Order Form'!$B$3),\"\")","v":""},{"$f":"IF(_xlfn.XLOOKUP(INDEX('Order Form'!$C:$C,ROW(D52)+9),lists!I:I,lists!C:C,\"\",0,1)=0,\"\",_xlfn.XLOOKUP(INDEX('Order Form'!$C:$C,ROW(D52)+9),lists!I:I,lists!C:C,\"\",0,1))","v":""},{"$f":"IF(INDEX('Order Form'!$D:$D,ROW(D52)+9)>0,INDEX('Order Form'!$D:$D,ROW(D52)+9),\"\")","v":""},{"$f":"IF(INDEX('Order Form'!$E:$E,ROW(E52)+9)>0,INDEX('Order Form'!$E:$E,ROW(E52)+9),\"\")","v":""},{"$f":"IF(D52>\"\",IF('Order Form'!$B$7<>0,'Order Form'!$B$7,\"\"),\"\")","v":""},{"$f":"IF(D52<>\"\",IF('Order Form'!$B$4=\"\",\"\",'Order Form'!$B$4),\"\")","v":""},{"$f":"IF(D52<>\"\",IF('Order Form'!$B$5=\"\",\"\",'Order Form'!$B$5),\"\")","v":""},{"$f":"IF(D52<>\"\",IF('Order Form'!$B$6=\"\",\"\",'Order Form'!$B$6),\"\")","v":""}]
[{"$f":"IF(D53<>\"\",IF('Order Form'!$B$2=\"\",\"\",\"New Jersey\"),\"\")","v":""},{"$f":"IF(D53<>\"\",IF('Order Form'!$B$2=\"\",\"\",'Order Form'!$B$2),\"\")","v":""},{"$f":"IF(D53<>\"\",IF('Order Form'!$B$2=\"\",\"\",'Order Form'!$B$3),\"\")","v":""},{"$f":"IF(_xlfn.XLOOKUP(INDEX('Order Form'!$C:$C,ROW(D53)+9),lists!I:I,lists!C:C,\"\",0,1)=0,\"\",_xlfn.XLOOKUP(INDEX('Order Form'!$C:$C,ROW(D53)+9),lists!I:I,lists!C:C,\"\",0,1))","v":""},{"$f":"IF(INDEX('Order Form'!$D:$D,ROW(D53)+9)>0,INDEX('Order Form'!$D:$D,ROW(D53)+9),\"\")","v":""},{"$f":"IF(INDEX('Order Form'!$E:$E,ROW(E53)+9)>0,INDEX('Order Form'!$E:$E,ROW(E53)+9),\"\")","v":""},{"$f":"IF(D53>\"\",IF('Order Form'!$B$7<>0,'Order Form'!$B$7,\"\"),\"\")","v":""},{"$f":"IF(D53<>\"\",IF('Order Form'!$B$4=\"\",\"\",'Order Form'!$B$4),\"\")","v":""},{"$f":"IF(D53<>\"\",IF('Order Form'!$B$5=\"\",\"\",'Order Form'!$B$5),\"\")","v":""},{"$f":"IF(D53<>\"\",IF('Order Form'!$B$6=\"\",\"\",'Order Form'!$B$6),\"\")","v":""}]
[{"$f":"IF(D54<>\"\",IF('Order Form'!$B$2=\"\",\"\",\"New Jersey\"),\"\")","v":""},{"$f":"IF(D54<>\"\",IF('Order Form'!$B$2=\"\",\"\",'Order Form'!$B$2),\"\")","v":""},{"$f":"IF(D54<>\"\",IF('Order Form'!$B$2=\"\",\"\",'Order Form'!$B$3),\"\")","v":""},{"$f":"IF(_xlfn.XLOOKUP(INDEX('Order Form'!$C:$C,ROW(D54)+9),lists!I:I,lists!C:C,\"\",0,1)=0,\"\",_xlfn.XLOOKUP(INDEX('Order Form'!$C:$C,ROW(D54)+9),lists!I:I,lists!C:C,\"\",0,1))","v":""},{"$f":"IF(INDEX('Order Form'!$D:$D,ROW(D54)+9)>0,INDEX('Order Form'!$D:$D,ROW(D54)+9),\"\")","v":""},{"$f":"IF(INDEX('Order Form'!$E:$E,ROW(E54)+9)>0,INDEX('Order Form'!$E:$E,ROW(E54)+9),\"\")","v":""},{"$f":"IF(D54>\"\",IF('Order Form'!$B$7<>0,'Order Form'!$B$7,\"\"),\"\")","v":""},{"$f":"IF(D54<>\"\",IF('Order Form'!$B$4=\"\",\"\",'Order Form'!$B$4),\"\")","v":""},{"$f":"IF(D54<>\"\",IF('Order Form'!$B$5=\"\",\"\",'Order Form'!$B$5),\"\")","v":""},{"$f":"IF(D54<>\"\",IF('Order Form'!$B$6=\"\",\"\",'Order Form'!$B$6),\"\")","v":""}]
[{"$f":"IF(D55<>\"\",IF('Order Form'!$B$2=\"\",\"\",\"New Jersey\"),\"\")","v":""},{"$f":"IF(D55<>\"\",IF('Order Form'!$B$2=\"\",\"\",'Order Form'!$B$2),\"\")","v":""},{"$f":"IF(D55<>\"\",IF('Order Form'!$B$2=\"\",\"\",'Order Form'!$B$3),\"\")","v":""},{"$f":"IF(_xlfn.XLOOKUP(INDEX('Order Form'!$C:$C,ROW(D55)+9),lists!I:I,lists!C:C,\"\",0,1)=0,\"\",_xlfn.XLOOKUP(INDEX('Order Form'!$C:$C,ROW(D55)+9),lists!I:I,lists!C:C,\"\",0,1))","v":""},{"$f":"IF(INDEX('Order Form'!$D:$D,ROW(D55)+9)>0,INDEX('Order Form'!$D:$D,ROW(D55)+9),\"\")","v":""},{"$f":"IF(INDEX('Order Form'!$E:$E,ROW(E55)+9)>0,INDEX('Order Form'!$E:$E,ROW(E55)+9),\"\")","v":""},{"$f":"IF(D55>\"\",IF('Order Form'!$B$7<>0,'Order Form'!$B$7,\"\"),\"\")","v":""},{"$f":"IF(D55<>\"\",IF('Order Form'!$B$4=\"\",\"\",'Order Form'!$B$4),\"\")","v":""},{"$f":"IF(D55<>\"\",IF('Order Form'!$B$5=\"\",\"\",'Order Form'!$B$5),\"\")","v":""},{"$f":"IF(D55<>\"\",IF('Order Form'!$B$6=\"\",\"\",'Order Form'!$B$6),\"\")","v":""}]
[{"$f":"IF(D56<>\"\",IF('Order Form'!$B$2=\"\",\"\",\"New Jersey\"),\"\")","v":""},{"$f":"IF(D56<>\"\",IF('Order Form'!$B$2=\"\",\"\",'Order Form'!$B$2),\"\")","v":""},{"$f":"IF(D56<>\"\",IF('Order Form'!$B$2=\"\",\"\",'Order Form'!$B$3),\"\")","v":""},{"$f":"IF(_xlfn.XLOOKUP(INDEX('Order Form'!$C:$C,ROW(D56)+9),lists!I:I,lists!C:C,\"\",0,1)=0,\"\",_xlfn.XLOOKUP(INDEX('Order Form'!$C:$C,ROW(D56)+9),lists!I:I,lists!C:C,\"\",0,1))","v":""},{"$f":"IF(INDEX('Order Form'!$D:$D,ROW(D56)+9)>0,INDEX('Order Form'!$D:$D,ROW(D56)+9),\"\")","v":""},{"$f":"IF(INDEX('Order Form'!$E:$E,ROW(E56)+9)>0,INDEX('Order Form'!$E:$E,ROW(E56)+9),\"\")","v":""},{"$f":"IF(D56>\"\",IF('Order Form'!$B$7<>0,'Order Form'!$B$7,\"\"),\"\")","v":""},{"$f":"IF(D56<>\"\",IF('Order Form'!$B$4=\"\",\"\",'Order Form'!$B$4),\"\")","v":""},{"$f":"IF(D56<>\"\",IF('Order Form'!$B$5=\"\",\"\",'Order Form'!$B$5),\"\")","v":""},{"$f":"IF(D56<>\"\",IF('Order Form'!$B$6=\"\",\"\",'Order Form'!$B$6),\"\")","v":""}]
[{"$f":"IF(D57<>\"\",IF('Order Form'!$B$2=\"\",\"\",\"New Jersey\"),\"\")","v":""},{"$f":"IF(D57<>\"\",IF('Order Form'!$B$2=\"\",\"\",'Order Form'!$B$2),\"\")","v":""},{"$f":"IF(D57<>\"\",IF('Order Form'!$B$2=\"\",\"\",'Order Form'!$B$3),\"\")","v":""},{"$f":"IF(_xlfn.XLOOKUP(INDEX('Order Form'!$C:$C,ROW(D57)+9),lists!I:I,lists!C:C,\"\",0,1)=0,\"\",_xlfn.XLOOKUP(INDEX('Order Form'!$C:$C,ROW(D57)+9),lists!I:I,lists!C:C,\"\",0,1))","v":""},{"$f":"IF(INDEX('Order Form'!$D:$D,ROW(D57)+9)>0,INDEX('Order Form'!$D:$D,ROW(D57)+9),\"\")","v":""},{"$f":"IF(INDEX('Order Form'!$E:$E,ROW(E57)+9)>0,INDEX('Order Form'!$E:$E,ROW(E57)+9),\"\")","v":""},{"$f":"IF(D57>\"\",IF('Order Form'!$B$7<>0,'Order Form'!$B$7,\"\"),\"\")","v":""},{"$f":"IF(D57<>\"\",IF('Order Form'!$B$4=\"\",\"\",'Order Form'!$B$4),\"\")","v":""},{"$f":"IF(D57<>\"\",IF('Order Form'!$B$5=\"\",\"\",'Order Form'!$B$5),\"\")","v":""},{"$f":"IF(D57<>\"\",IF('Order Form'!$B$6=\"\",\"\",'Order Form'!$B$6),\"\")","v":""}]
[{"$f":"IF(D58<>\"\",IF('Order Form'!$B$2=\"\",\"\",\"New Jersey\"),\"\")","v":""},{"$f":"IF(D58<>\"\",IF('Order Form'!$B$2=\"\",\"\",'Order Form'!$B$2),\"\")","v":""},{"$f":"IF(D58<>\"\",IF('Order Form'!$B$2=\"\",\"\",'Order Form'!$B$3),\"\")","v":""},{"$f":"IF(_xlfn.XLOOKUP(INDEX('Order Form'!$C:$C,ROW(D58)+9),lists!I:I,lists!C:C,\"\",0,1)=0,\"\",_xlfn.XLOOKUP(INDEX('Order Form'!$C:$C,ROW(D58)+9),lists!I:I,lists!C:C,\"\",0,1))","v":""},{"$f":"IF(INDEX('Order Form'!$D:$D,ROW(D58)+9)>0,INDEX('Order Form'!$D:$D,ROW(D58)+9),\"\")","v":""},{"$f":"IF(INDEX('Order Form'!$E:$E,ROW(E58)+9)>0,INDEX('Order Form'!$E:$E,ROW(E58)+9),\"\")","v":""},{"$f":"IF(D58>\"\",IF('Order Form'!$B$7<>0,'Order Form'!$B$7,\"\"),\"\")","v":""},{"$f":"IF(D58<>\"\",IF('Order Form'!$B$4=\"\",\"\",'Order Form'!$B$4),\"\")","v":""},{"$f":"IF(D58<>\"\",IF('Order Form'!$B$5=\"\",\"\",'Order Form'!$B$5),\"\")","v":""},{"$f":"IF(D58<>\"\",IF('Order Form'!$B$6=\"\",\"\",'Order Form'!$B$6),\"\")","v":""}]
[{"$f":"IF(D59<>\"\",IF('Order Form'!$B$2=\"\",\"\",\"New Jersey\"),\"\")","v":""},{"$f":"IF(D59<>\"\",IF('Order Form'!$B$2=\"\",\"\",'Order Form'!$B$2),\"\")","v":""},{"$f":"IF(D59<>\"\",IF('Order Form'!$B$2=\"\",\"\",'Order Form'!$B$3),\"\")","v":""},{"$f":"IF(_xlfn.XLOOKUP(INDEX('Order Form'!$C:$C,ROW(D59)+9),lists!I:I,lists!C:C,\"\",0,1)=0,\"\",_xlfn.XLOOKUP(INDEX('Order Form'!$C:$C,ROW(D59)+9),lists!I:I,lists!C:C,\"\",0,1))","v":""},{"$f":"IF(INDEX('Order Form'!$D:$D,ROW(D59)+9)>0,INDEX('Order Form'!$D:$D,ROW(D59)+9),\"\")","v":""},{"$f":"IF(INDEX('Order Form'!$E:$E,ROW(E59)+9)>0,INDEX('Order Form'!$E:$E,ROW(E59)+9),\"\")","v":""},{"$f":"IF(D59>\"\",IF('Order Form'!$B$7<>0,'Order Form'!$B$7,\"\"),\"\")","v":""},{"$f":"IF(D59<>\"\",IF('Order Form'!$B$4=\"\",\"\",'Order Form'!$B$4),\"\")","v":""},{"$f":"IF(D59<>\"\",IF('Order Form'!$B$5=\"\",\"\",'Order Form'!$B$5),\"\")","v":""},{"$f":"IF(D59<>\"\",IF('Order Form'!$B$6=\"\",\"\",'Order Form'!$B$6),\"\")","v":""}]
[{"$f":"IF(D60<>\"\",IF('Order Form'!$B$2=\"\",\"\",\"New Jersey\"),\"\")","v":""},{"$f":"IF(D60<>\"\",IF('Order Form'!$B$2=\"\",\"\",'Order Form'!$B$2),\"\")","v":""},{"$f":"IF(D60<>\"\",IF('Order Form'!$B$2=\"\",\"\",'Order Form'!$B$3),\"\")","v":""},{"$f":"IF(_xlfn.XLOOKUP(INDEX('Order Form'!$C:$C,ROW(D60)+9),lists!I:I,lists!C:C,\"\",0,1)=0,\"\",_xlfn.XLOOKUP(INDEX('Order Form'!$C:$C,ROW(D60)+9),lists!I:I,lists!C:C,\"\",0,1))","v":""},{"$f":"IF(INDEX('Order Form'!$D:$D,ROW(D60)+9)>0,INDEX('Order Form'!$D:$D,ROW(D60)+9),\"\")","v":""},{"$f":"IF(INDEX('Order Form'!$E:$E,ROW(E60)+9)>0,INDEX('Order Form'!$E:$E,ROW(E60)+9),\"\")","v":""},{"$f":"IF(D60>\"\",IF('Order Form'!$B$7<>0,'Order Form'!$B$7,\"\"),\"\")","v":""},{"$f":"IF(D60<>\"\",IF('Order Form'!$B$4=\"\",\"\",'Order Form'!$B$4),\"\")","v":""},{"$f":"IF(D60<>\"\",IF('Order Form'!$B$5=\"\",\"\",'Order Form'!$B$5),\"\")","v":""},{"$f":"IF(D60<>\"\",IF('Order Form'!$B$6=\"\",\"\",'Order Form'!$B$6),\"\")","v":""}]
[{"$f":"IF(D61<>\"\",IF('Order Form'!$B$2=\"\",\"\",\"New Jersey\"),\"\")","v":""},{"$f":"IF(D61<>\"\",IF('Order Form'!$B$2=\"\",\"\",'Order Form'!$B$2),\"\")","v":""},{"$f":"IF(D61<>\"\",IF('Order Form'!$B$2=\"\",\"\",'Order Form'!$B$3),\"\")","v":""},{"$f":"IF(_xlfn.XLOOKUP(INDEX('Order Form'!$C:$C,ROW(D61)+9),lists!I:I,lists!C:C,\"\",0,1)=0,\"\",_xlfn.XLOOKUP(INDEX('Order Form'!$C:$C,ROW(D61)+9),lists!I:I,lists!C:C,\"\",0,1))","v":""},{"$f":"IF(INDEX('Order Form'!$D:$D,ROW(D61)+9)>0,INDEX('Order Form'!$D:$D,ROW(D61)+9),\"\")","v":""},{"$f":"IF(INDEX('Order Form'!$E:$E,ROW(E61)+9)>0,INDEX('Order Form'!$E:$E,ROW(E61)+9),\"\")","v":""},{"$f":"IF(D61>\"\",IF('Order Form'!$B$7<>0,'Order Form'!$B$7,\"\"),\"\")","v":""},{"$f":"IF(D61<>\"\",IF('Order Form'!$B$4=\"\",\"\",'Order Form'!$B$4),\"\")","v":""},{"$f":"IF(D61<>\"\",IF('Order Form'!$B$5=\"\",\"\",'Order Form'!$B$5),\"\")","v":""},{"$f":"IF(D61<>\"\",IF('Order Form'!$B$6=\"\",\"\",'Order Form'!$B$6),\"\")","v":""}]
[{"$f":"IF(D62<>\"\",IF('Order Form'!$B$2=\"\",\"\",\"New Jersey\"),\"\")","v":""},{"$f":"IF(D62<>\"\",IF('Order Form'!$B$2=\"\",\"\",'Order Form'!$B$2),\"\")","v":""},{"$f":"IF(D62<>\"\",IF('Order Form'!$B$2=\"\",\"\",'Order Form'!$B$3),\"\")","v":""},{"$f":"IF(_xlfn.XLOOKUP(INDEX('Order Form'!$C:$C,ROW(D62)+9),lists!I:I,lists!C:C,\"\",0,1)=0,\"\",_xlfn.XLOOKUP(INDEX('Order Form'!$C:$C,ROW(D62)+9),lists!I:I,lists!C:C,\"\",0,1))","v":""},{"$f":"IF(INDEX('Order Form'!$D:$D,ROW(D62)+9)>0,INDEX('Order Form'!$D:$D,ROW(D62)+9),\"\")","v":""},{"$f":"IF(INDEX('Order Form'!$E:$E,ROW(E62)+9)>0,INDEX('Order Form'!$E:$E,ROW(E62)+9),\"\")","v":""},{"$f":"IF(D62>\"\",IF('Order Form'!$B$7<>0,'Order Form'!$B$7,\"\"),\"\")","v":""},{"$f":"IF(D62<>\"\",IF('Order Form'!$B$4=\"\",\"\",'Order Form'!$B$4),\"\")","v":""},{"$f":"IF(D62<>\"\",IF('Order Form'!$B$5=\"\",\"\",'Order Form'!$B$5),\"\")","v":""},{"$f":"IF(D62<>\"\",IF('Order Form'!$B$6=\"\",\"\",'Order Form'!$B$6),\"\")","v":""}]
[{"$f":"IF(D63<>\"\",IF('Order Form'!$B$2=\"\",\"\",\"New Jersey\"),\"\")","v":""},{"$f":"IF(D63<>\"\",IF('Order Form'!$B$2=\"\",\"\",'Order Form'!$B$2),\"\")","v":""},{"$f":"IF(D63<>\"\",IF('Order Form'!$B$2=\"\",\"\",'Order Form'!$B$3),\"\")","v":""},{"$f":"IF(_xlfn.XLOOKUP(INDEX('Order Form'!$C:$C,ROW(D63)+9),lists!I:I,lists!C:C,\"\",0,1)=0,\"\",_xlfn.XLOOKUP(INDEX('Order Form'!$C:$C,ROW(D63)+9),lists!I:I,lists!C:C,\"\",0,1))","v":""},{"$f":"IF(INDEX('Order Form'!$D:$D,ROW(D63)+9)>0,INDEX('Order Form'!$D:$D,ROW(D63)+9),\"\")","v":""},{"$f":"IF(INDEX('Order Form'!$E:$E,ROW(E63)+9)>0,INDEX('Order Form'!$E:$E,ROW(E63)+9),\"\")","v":""},{"$f":"IF(D63>\"\",IF('Order Form'!$B$7<>0,'Order Form'!$B$7,\"\"),\"\")","v":""},{"$f":"IF(D63<>\"\",IF('Order Form'!$B$4=\"\",\"\",'Order Form'!$B$4),\"\")","v":""},{"$f":"IF(D63<>\"\",IF('Order Form'!$B$5=\"\",\"\",'Order Form'!$B$5),\"\")","v":""},{"$f":"IF(D63<>\"\",IF('Order Form'!$B$6=\"\",\"\",'Order Form'!$B$6),\"\")","v":""}]
[{"$f":"IF(D64<>\"\",IF('Order Form'!$B$2=\"\",\"\",\"New Jersey\"),\"\")","v":""},{"$f":"IF(D64<>\"\",IF('Order Form'!$B$2=\"\",\"\",'Order Form'!$B$2),\"\")","v":""},{"$f":"IF(D64<>\"\",IF('Order Form'!$B$2=\"\",\"\",'Order Form'!$B$3),\"\")","v":""},{"$f":"IF(_xlfn.XLOOKUP(INDEX('Order Form'!$C:$C,ROW(D64)+9),lists!I:I,lists!C:C,\"\",0,1)=0,\"\",_xlfn.XLOOKUP(INDEX('Order Form'!$C:$C,ROW(D64)+9),lists!I:I,lists!C:C,\"\",0,1))","v":""},{"$f":"IF(INDEX('Order Form'!$D:$D,ROW(D64)+9)>0,INDEX('Order Form'!$D:$D,ROW(D64)+9),\"\")","v":""},{"$f":"IF(INDEX('Order Form'!$E:$E,ROW(E64)+9)>0,INDEX('Order Form'!$E:$E,ROW(E64)+9),\"\")","v":""},{"$f":"IF(D64>\"\",IF('Order Form'!$B$7<>0,'Order Form'!$B$7,\"\"),\"\")","v":""},{"$f":"IF(D64<>\"\",IF('Order Form'!$B$4=\"\",\"\",'Order Form'!$B$4),\"\")","v":""},{"$f":"IF(D64<>\"\",IF('Order Form'!$B$5=\"\",\"\",'Order Form'!$B$5),\"\")","v":""},{"$f":"IF(D64<>\"\",IF('Order Form'!$B$6=\"\",\"\",'Order Form'!$B$6),\"\")","v":""}]
[{"$f":"IF(D65<>\"\",IF('Order Form'!$B$2=\"\",\"\",\"New Jersey\"),\"\")","v":""},{"$f":"IF(D65<>\"\",IF('Order Form'!$B$2=\"\",\"\",'Order Form'!$B$2),\"\")","v":""},{"$f":"IF(D65<>\"\",IF('Order Form'!$B$2=\"\",\"\",'Order Form'!$B$3),\"\")","v":""},{"$f":"IF(_xlfn.XLOOKUP(INDEX('Order Form'!$C:$C,ROW(D65)+9),lists!I:I,lists!C:C,\"\",0,1)=0,\"\",_xlfn.XLOOKUP(INDEX('Order Form'!$C:$C,ROW(D65)+9),lists!I:I,lists!C:C,\"\",0,1))","v":""},{"$f":"IF(INDEX('Order Form'!$D:$D,ROW(D65)+9)>0,INDEX('Order Form'!$D:$D,ROW(D65)+9),\"\")","v":""},{"$f":"IF(INDEX('Order Form'!$E:$E,ROW(E65)+9)>0,INDEX('Order Form'!$E:$E,ROW(E65)+9),\"\")","v":""},{"$f":"IF(D65>\"\",IF('Order Form'!$B$7<>0,'Order Form'!$B$7,\"\"),\"\")","v":""},{"$f":"IF(D65<>\"\",IF('Order Form'!$B$4=\"\",\"\",'Order Form'!$B$4),\"\")","v":""},{"$f":"IF(D65<>\"\",IF('Order Form'!$B$5=\"\",\"\",'Order Form'!$B$5),\"\")","v":""},{"$f":"IF(D65<>\"\",IF('Order Form'!$B$6=\"\",\"\",'Order Form'!$B$6),\"\")","v":""}]
[{"$f":"IF(D66<>\"\",IF('Order Form'!$B$2=\"\",\"\",\"New Jersey\"),\"\")","v":""},{"$f":"IF(D66<>\"\",IF('Order Form'!$B$2=\"\",\"\",'Order Form'!$B$2),\"\")","v":""},{"$f":"IF(D66<>\"\",IF('Order Form'!$B$2=\"\",\"\",'Order Form'!$B$3),\"\")","v":""},{"$f":"IF(_xlfn.XLOOKUP(INDEX('Order Form'!$C:$C,ROW(D66)+9),lists!I:I,lists!C:C,\"\",0,1)=0,\"\",_xlfn.XLOOKUP(INDEX('Order Form'!$C:$C,ROW(D66)+9),lists!I:I,lists!C:C,\"\",0,1))","v":""},{"$f":"IF(INDEX('Order Form'!$D:$D,ROW(D66)+9)>0,INDEX('Order Form'!$D:$D,ROW(D66)+9),\"\")","v":""},{"$f":"IF(INDEX('Order Form'!$E:$E,ROW(E66)+9)>0,INDEX('Order Form'!$E:$E,ROW(E66)+9),\"\")","v":""},{"$f":"IF(D66>\"\",IF('Order Form'!$B$7<>0,'Order Form'!$B$7,\"\"),\"\")","v":""},{"$f":"IF(D66<>\"\",IF('Order Form'!$B$4=\"\",\"\",'Order Form'!$B$4),\"\")","v":""},{"$f":"IF(D66<>\"\",IF('Order Form'!$B$5=\"\",\"\",'Order Form'!$B$5),\"\")","v":""},{"$f":"IF(D66<>\"\",IF('Order Form'!$B$6=\"\",\"\",'Order Form'!$B$6),\"\")","v":""}]
[{"$f":"IF(D67<>\"\",IF('Order Form'!$B$2=\"\",\"\",\"New Jersey\"),\"\")","v":""},{"$f":"IF(D67<>\"\",IF('Order Form'!$B$2=\"\",\"\",'Order Form'!$B$2),\"\")","v":""},{"$f":"IF(D67<>\"\",IF('Order Form'!$B$2=\"\",\"\",'Order Form'!$B$3),\"\")","v":""},{"$f":"IF(_xlfn.XLOOKUP(INDEX('Order Form'!$C:$C,ROW(D67)+9),lists!I:I,lists!C:C,\"\",0,1)=0,\"\",_xlfn.XLOOKUP(INDEX('Order Form'!$C:$C,ROW(D67)+9),lists!I:I,lists!C:C,\"\",0,1))","v":""},{"$f":"IF(INDEX('Order Form'!$D:$D,ROW(D67)+9)>0,INDEX('Order Form'!$D:$D,ROW(D67)+9),\"\")","v":""},{"$f":"IF(INDEX('Order Form'!$E:$E,ROW(E67)+9)>0,INDEX('Order Form'!$E:$E,ROW(E67)+9),\"\")","v":""},{"$f":"IF(D67>\"\",IF('Order Form'!$B$7<>0,'Order Form'!$B$7,\"\"),\"\")","v":""},{"$f":"IF(D67<>\"\",IF('Order Form'!$B$4=\"\",\"\",'Order Form'!$B$4),\"\")","v":""},{"$f":"IF(D67<>\"\",IF('Order Form'!$B$5=\"\",\"\",'Order Form'!$B$5),\"\")","v":""},{"$f":"IF(D67<>\"\",IF('Order Form'!$B$6=\"\",\"\",'Order Form'!$B$6),\"\")","v":""}]
[{"$f":"IF(D68<>\"\",IF('Order Form'!$B$2=\"\",\"\",\"New Jersey\"),\"\")","v":""},{"$f":"IF(D68<>\"\",IF('Order Form'!$B$2=\"\",\"\",'Order Form'!$B$2),\"\")","v":""},{"$f":"IF(D68<>\"\",IF('Order Form'!$B$2=\"\",\"\",'Order Form'!$B$3),\"\")","v":""},{"$f":"IF(_xlfn.XLOOKUP(INDEX('Order Form'!$C:$C,ROW(D68)+9),lists!I:I,lists!C:C,\"\",0,1)=0,\"\",_xlfn.XLOOKUP(INDEX('Order Form'!$C:$C,ROW(D68)+9),lists!I:I,lists!C:C,\"\",0,1))","v":""},{"$f":"IF(INDEX('Order Form'!$D:$D,ROW(D68)+9)>0,INDEX('Order Form'!$D:$D,ROW(D68)+9),\"\")","v":""},{"$f":"IF(INDEX('Order Form'!$E:$E,ROW(E68)+9)>0,INDEX('Order Form'!$E:$E,ROW(E68)+9),\"\")","v":""},{"$f":"IF(D68>\"\",IF('Order Form'!$B$7<>0,'Order Form'!$B$7,\"\"),\"\")","v":""},{"$f":"IF(D68<>\"\",IF('Order Form'!$B$4=\"\",\"\",'Order Form'!$B$4),\"\")","v":""},{"$f":"IF(D68<>\"\",IF('Order Form'!$B$5=\"\",\"\",'Order Form'!$B$5),\"\")","v":""},{"$f":"IF(D68<>\"\",IF('Order Form'!$B$6=\"\",\"\",'Order Form'!$B$6),\"\")","v":""}]
[{"$f":"IF(D69<>\"\",IF('Order Form'!$B$2=\"\",\"\",\"New Jersey\"),\"\")","v":""},{"$f":"IF(D69<>\"\",IF('Order Form'!$B$2=\"\",\"\",'Order Form'!$B$2),\"\")","v":""},{"$f":"IF(D69<>\"\",IF('Order Form'!$B$2=\"\",\"\",'Order Form'!$B$3),\"\")","v":""},{"$f":"IF(_xlfn.XLOOKUP(INDEX('Order Form'!$C:$C,ROW(D69)+9),lists!I:I,lists!C:C,\"\",0,1)=0,\"\",_xlfn.XLOOKUP(INDEX('Order Form'!$C:$C,ROW(D69)+9),lists!I:I,lists!C:C,\"\",0,1))","v":""},{"$f":"IF(INDEX('Order Form'!$D:$D,ROW(D69)+9)>0,INDEX('Order Form'!$D:$D,ROW(D69)+9),\"\")","v":""},{"$f":"IF(INDEX('Order Form'!$E:$E,ROW(E69)+9)>0,INDEX('Order Form'!$E:$E,ROW(E69)+9),\"\")","v":""},{"$f":"IF(D69>\"\",IF('Order Form'!$B$7<>0,'Order Form'!$B$7,\"\"),\"\")","v":""},{"$f":"IF(D69<>\"\",IF('Order Form'!$B$4=\"\",\"\",'Order Form'!$B$4),\"\")","v":""},{"$f":"IF(D69<>\"\",IF('Order Form'!$B$5=\"\",\"\",'Order Form'!$B$5),\"\")","v":""},{"$f":"IF(D69<>\"\",IF('Order Form'!$B$6=\"\",\"\",'Order Form'!$B$6),\"\")","v":""}]
[{"$f":"IF(D70<>\"\",IF('Order Form'!$B$2=\"\",\"\",\"New Jersey\"),\"\")","v":""},{"$f":"IF(D70<>\"\",IF('Order Form'!$B$2=\"\",\"\",'Order Form'!$B$2),\"\")","v":""},{"$f":"IF(D70<>\"\",IF('Order Form'!$B$2=\"\",\"\",'Order Form'!$B$3),\"\")","v":""},{"$f":"IF(_xlfn.XLOOKUP(INDEX('Order Form'!$C:$C,ROW(D70)+9),lists!I:I,lists!C:C,\"\",0,1)=0,\"\",_xlfn.XLOOKUP(INDEX('Order Form'!$C:$C,ROW(D70)+9),lists!I:I,lists!C:C,\"\",0,1))","v":""},{"$f":"IF(INDEX('Order Form'!$D:$D,ROW(D70)+9)>0,INDEX('Order Form'!$D:$D,ROW(D70)+9),\"\")","v":""},{"$f":"IF(INDEX('Order Form'!$E:$E,ROW(E70)+9)>0,INDEX('Order Form'!$E:$E,ROW(E70)+9),\"\")","v":""},{"$f":"IF(D70>\"\",IF('Order Form'!$B$7<>0,'Order Form'!$B$7,\"\"),\"\")","v":""},{"$f":"IF(D70<>\"\",IF('Order Form'!$B$4=\"\",\"\",'Order Form'!$B$4),\"\")","v":""},{"$f":"IF(D70<>\"\",IF('Order Form'!$B$5=\"\",\"\",'Order Form'!$B$5),\"\")","v":""},{"$f":"IF(D70<>\"\",IF('Order Form'!$B$6=\"\",\"\",'Order Form'!$B$6),\"\")","v":""}]
[{"$f":"IF(D71<>\"\",IF('Order Form'!$B$2=\"\",\"\",\"New Jersey\"),\"\")","v":""},{"$f":"IF(D71<>\"\",IF('Order Form'!$B$2=\"\",\"\",'Order Form'!$B$2),\"\")","v":""},{"$f":"IF(D71<>\"\",IF('Order Form'!$B$2=\"\",\"\",'Order Form'!$B$3),\"\")","v":""},{"$f":"IF(_xlfn.XLOOKUP(INDEX('Order Form'!$C:$C,ROW(D71)+9),lists!I:I,lists!C:C,\"\",0,1)=0,\"\",_xlfn.XLOOKUP(INDEX('Order Form'!$C:$C,ROW(D71)+9),lists!I:I,lists!C:C,\"\",0,1))","v":""},{"$f":"IF(INDEX('Order Form'!$D:$D,ROW(D71)+9)>0,INDEX('Order Form'!$D:$D,ROW(D71)+9),\"\")","v":""},{"$f":"IF(INDEX('Order Form'!$E:$E,ROW(E71)+9)>0,INDEX('Order Form'!$E:$E,ROW(E71)+9),\"\")","v":""},{"$f":"IF(D71>\"\",IF('Order Form'!$B$7<>0,'Order Form'!$B$7,\"\"),\"\")","v":""},{"$f":"IF(D71<>\"\",IF('Order Form'!$B$4=\"\",\"\",'Order Form'!$B$4),\"\")","v":""},{"$f":"IF(D71<>\"\",IF('Order Form'!$B$5=\"\",\"\",'Order Form'!$B$5),\"\")","v":""},{"$f":"IF(D71<>\"\",IF('Order Form'!$B$6=\"\",\"\",'Order Form'!$B$6),\"\")","v":""}]
[{"$f":"IF(D72<>\"\",IF('Order Form'!$B$2=\"\",\"\",\"New Jersey\"),\"\")","v":""},{"$f":"IF(D72<>\"\",IF('Order Form'!$B$2=\"\",\"\",'Order Form'!$B$2),\"\")","v":""},{"$f":"IF(D72<>\"\",IF('Order Form'!$B$2=\"\",\"\",'Order Form'!$B$3),\"\")","v":""},{"$f":"IF(_xlfn.XLOOKUP(INDEX('Order Form'!$C:$C,ROW(D72)+9),lists!I:I,lists!C:C,\"\",0,1)=0,\"\",_xlfn.XLOOKUP(INDEX('Order Form'!$C:$C,ROW(D72)+9),lists!I:I,lists!C:C,\"\",0,1))","v":""},{"$f":"IF(INDEX('Order Form'!$D:$D,ROW(D72)+9)>0,INDEX('Order Form'!$D:$D,ROW(D72)+9),\"\")","v":""},{"$f":"IF(INDEX('Order Form'!$E:$E,ROW(E72)+9)>0,INDEX('Order Form'!$E:$E,ROW(E72)+9),\"\")","v":""},{"$f":"IF(D72>\"\",IF('Order Form'!$B$7<>0,'Order Form'!$B$7,\"\"),\"\")","v":""},{"$f":"IF(D72<>\"\",IF('Order Form'!$B$4=\"\",\"\",'Order Form'!$B$4),\"\")","v":""},{"$f":"IF(D72<>\"\",IF('Order Form'!$B$5=\"\",\"\",'Order Form'!$B$5),\"\")","v":""},{"$f":"IF(D72<>\"\",IF('Order Form'!$B$6=\"\",\"\",'Order Form'!$B$6),\"\")","v":""}]
[{"$f":"IF(D73<>\"\",IF('Order Form'!$B$2=\"\",\"\",\"New Jersey\"),\"\")","v":""},{"$f":"IF(D73<>\"\",IF('Order Form'!$B$2=\"\",\"\",'Order Form'!$B$2),\"\")","v":""},{"$f":"IF(D73<>\"\",IF('Order Form'!$B$2=\"\",\"\",'Order Form'!$B$3),\"\")","v":""},{"$f":"IF(_xlfn.XLOOKUP(INDEX('Order Form'!$C:$C,ROW(D73)+9),lists!I:I,lists!C:C,\"\",0,1)=0,\"\",_xlfn.XLOOKUP(INDEX('Order Form'!$C:$C,ROW(D73)+9),lists!I:I,lists!C:C,\"\",0,1))","v":""},{"$f":"IF(INDEX('Order Form'!$D:$D,ROW(D73)+9)>0,INDEX('Order Form'!$D:$D,ROW(D73)+9),\"\")","v":""},{"$f":"IF(INDEX('Order Form'!$E:$E,ROW(E73)+9)>0,INDEX('Order Form'!$E:$E,ROW(E73)+9),\"\")","v":""},{"$f":"IF(D73>\"\",IF('Order Form'!$B$7<>0,'Order Form'!$B$7,\"\"),\"\")","v":""},{"$f":"IF(D73<>\"\",IF('Order Form'!$B$4=\"\",\"\",'Order Form'!$B$4),\"\")","v":""},{"$f":"IF(D73<>\"\",IF('Order Form'!$B$5=\"\",\"\",'Order Form'!$B$5),\"\")","v":""},{"$f":"IF(D73<>\"\",IF('Order Form'!$B$6=\"\",\"\",'Order Form'!$B$6),\"\")","v":""}]
[{"$f":"IF(D74<>\"\",IF('Order Form'!$B$2=\"\",\"\",\"New Jersey\"),\"\")","v":""},{"$f":"IF(D74<>\"\",IF('Order Form'!$B$2=\"\",\"\",'Order Form'!$B$2),\"\")","v":""},{"$f":"IF(D74<>\"\",IF('Order Form'!$B$2=\"\",\"\",'Order Form'!$B$3),\"\")","v":""},{"$f":"IF(_xlfn.XLOOKUP(INDEX('Order Form'!$C:$C,ROW(D74)+9),lists!I:I,lists!C:C,\"\",0,1)=0,\"\",_xlfn.XLOOKUP(INDEX('Order Form'!$C:$C,ROW(D74)+9),lists!I:I,lists!C:C,\"\",0,1))","v":""},{"$f":"IF(INDEX('Order Form'!$D:$D,ROW(D74)+9)>0,INDEX('Order Form'!$D:$D,ROW(D74)+9),\"\")","v":""},{"$f":"IF(INDEX('Order Form'!$E:$E,ROW(E74)+9)>0,INDEX('Order Form'!$E:$E,ROW(E74)+9),\"\")","v":""},{"$f":"IF(D74>\"\",IF('Order Form'!$B$7<>0,'Order Form'!$B$7,\"\"),\"\")","v":""},{"$f":"IF(D74<>\"\",IF('Order Form'!$B$4=\"\",\"\",'Order Form'!$B$4),\"\")","v":""},{"$f":"IF(D74<>\"\",IF('Order Form'!$B$5=\"\",\"\",'Order Form'!$B$5),\"\")","v":""},{"$f":"IF(D74<>\"\",IF('Order Form'!$B$6=\"\",\"\",'Order Form'!$B$6),\"\")","v":""}]
[{"$f":"IF(D75<>\"\",IF('Order Form'!$B$2=\"\",\"\",\"New Jersey\"),\"\")","v":""},{"$f":"IF(D75<>\"\",IF('Order Form'!$B$2=\"\",\"\",'Order Form'!$B$2),\"\")","v":""},{"$f":"IF(D75<>\"\",IF('Order Form'!$B$2=\"\",\"\",'Order Form'!$B$3),\"\")","v":""},{"$f":"IF(_xlfn.XLOOKUP(INDEX('Order Form'!$C:$C,ROW(D75)+9),lists!I:I,lists!C:C,\"\",0,1)=0,\"\",_xlfn.XLOOKUP(INDEX('Order Form'!$C:$C,ROW(D75)+9),lists!I:I,lists!C:C,\"\",0,1))","v":""},{"$f":"IF(INDEX('Order Form'!$D:$D,ROW(D75)+9)>0,INDEX('Order Form'!$D:$D,ROW(D75)+9),\"\")","v":""},{"$f":"IF(INDEX('Order Form'!$E:$E,ROW(E75)+9)>0,INDEX('Order Form'!$E:$E,ROW(E75)+9),\"\")","v":""},{"$f":"IF(D75>\"\",IF('Order Form'!$B$7<>0,'Order Form'!$B$7,\"\"),\"\")","v":""},{"$f":"IF(D75<>\"\",IF('Order Form'!$B$4=\"\",\"\",'Order Form'!$B$4),\"\")","v":""},{"$f":"IF(D75<>\"\",IF('Order Form'!$B$5=\"\",\"\",'Order Form'!$B$5),\"\")","v":""},{"$f":"IF(D75<>\"\",IF('Order Form'!$B$6=\"\",\"\",'Order Form'!$B$6),\"\")","v":""}]
[{"$f":"IF(D76<>\"\",IF('Order Form'!$B$2=\"\",\"\",\"New Jersey\"),\"\")","v":""},{"$f":"IF(D76<>\"\",IF('Order Form'!$B$2=\"\",\"\",'Order Form'!$B$2),\"\")","v":""},{"$f":"IF(D76<>\"\",IF('Order Form'!$B$2=\"\",\"\",'Order Form'!$B$3),\"\")","v":""},{"$f":"IF(_xlfn.XLOOKUP(INDEX('Order Form'!$C:$C,ROW(D76)+9),lists!I:I,lists!C:C,\"\",0,1)=0,\"\",_xlfn.XLOOKUP(INDEX('Order Form'!$C:$C,ROW(D76)+9),lists!I:I,lists!C:C,\"\",0,1))","v":""},{"$f":"IF(INDEX('Order Form'!$D:$D,ROW(D76)+9)>0,INDEX('Order Form'!$D:$D,ROW(D76)+9),\"\")","v":""},{"$f":"IF(INDEX('Order Form'!$E:$E,ROW(E76)+9)>0,INDEX('Order Form'!$E:$E,ROW(E76)+9),\"\")","v":""},{"$f":"IF(D76>\"\",IF('Order Form'!$B$7<>0,'Order Form'!$B$7,\"\"),\"\")","v":""},{"$f":"IF(D76<>\"\",IF('Order Form'!$B$4=\"\",\"\",'Order Form'!$B$4),\"\")","v":""},{"$f":"IF(D76<>\"\",IF('Order Form'!$B$5=\"\",\"\",'Order Form'!$B$5),\"\")","v":""},{"$f":"IF(D76<>\"\",IF('Order Form'!$B$6=\"\",\"\",'Order Form'!$B$6),\"\")","v":""}]
[{"$f":"IF(D77<>\"\",IF('Order Form'!$B$2=\"\",\"\",\"New Jersey\"),\"\")","v":""},{"$f":"IF(D77<>\"\",IF('Order Form'!$B$2=\"\",\"\",'Order Form'!$B$2),\"\")","v":""},{"$f":"IF(D77<>\"\",IF('Order Form'!$B$2=\"\",\"\",'Order Form'!$B$3),\"\")","v":""},{"$f":"IF(_xlfn.XLOOKUP(INDEX('Order Form'!$C:$C,ROW(D77)+9),lists!I:I,lists!C:C,\"\",0,1)=0,\"\",_xlfn.XLOOKUP(INDEX('Order Form'!$C:$C,ROW(D77)+9),lists!I:I,lists!C:C,\"\",0,1))","v":""},{"$f":"IF(INDEX('Order Form'!$D:$D,ROW(D77)+9)>0,INDEX('Order Form'!$D:$D,ROW(D77)+9),\"\")","v":""},{"$f":"IF(INDEX('Order Form'!$E:$E,ROW(E77)+9)>0,INDEX('Order Form'!$E:$E,ROW(E77)+9),\"\")","v":""},{"$f":"IF(D77>\"\",IF('Order Form'!$B$7<>0,'Order Form'!$B$7,\"\"),\"\")","v":""},{"$f":"IF(D77<>\"\",IF('Order Form'!$B$4=\"\",\"\",'Order Form'!$B$4),\"\")","v":""},{"$f":"IF(D77<>\"\",IF('Order Form'!$B$5=\"\",\"\",'Order Form'!$B$5),\"\")","v":""},{"$f":"IF(D77<>\"\",IF('Order Form'!$B$6=\"\",\"\",'Order Form'!$B$6),\"\")","v":""}]
[{"$f":"IF(D78<>\"\",IF('Order Form'!$B$2=\"\",\"\",\"New Jersey\"),\"\")","v":""},{"$f":"IF(D78<>\"\",IF('Order Form'!$B$2=\"\",\"\",'Order Form'!$B$2),\"\")","v":""},{"$f":"IF(D78<>\"\",IF('Order Form'!$B$2=\"\",\"\",'Order Form'!$B$3),\"\")","v":""},{"$f":"IF(_xlfn.XLOOKUP(INDEX('Order Form'!$C:$C,ROW(D78)+9),lists!I:I,lists!C:C,\"\",0,1)=0,\"\",_xlfn.XLOOKUP(INDEX('Order Form'!$C:$C,ROW(D78)+9),lists!I:I,lists!C:C,\"\",0,1))","v":""},{"$f":"IF(INDEX('Order Form'!$D:$D,ROW(D78)+9)>0,INDEX('Order Form'!$D:$D,ROW(D78)+9),\"\")","v":""},{"$f":"IF(INDEX('Order Form'!$E:$E,ROW(E78)+9)>0,INDEX('Order Form'!$E:$E,ROW(E78)+9),\"\")","v":""},{"$f":"IF(D78>\"\",IF('Order Form'!$B$7<>0,'Order Form'!$B$7,\"\"),\"\")","v":""},{"$f":"IF(D78<>\"\",IF('Order Form'!$B$4=\"\",\"\",'Order Form'!$B$4),\"\")","v":""},{"$f":"IF(D78<>\"\",IF('Order Form'!$B$5=\"\",\"\",'Order Form'!$B$5),\"\")","v":""},{"$f":"IF(D78<>\"\",IF('Order Form'!$B$6=\"\",\"\",'Order Form'!$B$6),\"\")","v":""}]
[{"$f":"IF(D79<>\"\",IF('Order Form'!$B$2=\"\",\"\",\"New Jersey\"),\"\")","v":""},{"$f":"IF(D79<>\"\",IF('Order Form'!$B$2=\"\",\"\",'Order Form'!$B$2),\"\")","v":""},{"$f":"IF(D79<>\"\",IF('Order Form'!$B$2=\"\",\"\",'Order Form'!$B$3),\"\")","v":""},{"$f":"IF(_xlfn.XLOOKUP(INDEX('Order Form'!$C:$C,ROW(D79)+9),lists!I:I,lists!C:C,\"\",0,1)=0,\"\",_xlfn.XLOOKUP(INDEX('Order Form'!$C:$C,ROW(D79)+9),lists!I:I,lists!C:C,\"\",0,1))","v":""},{"$f":"IF(INDEX('Order Form'!$D:$D,ROW(D79)+9)>0,INDEX('Order Form'!$D:$D,ROW(D79)+9),\"\")","v":""},{"$f":"IF(INDEX('Order Form'!$E:$E,ROW(E79)+9)>0,INDEX('Order Form'!$E:$E,ROW(E79)+9),\"\")","v":""},{"$f":"IF(D79>\"\",IF('Order Form'!$B$7<>0,'Order Form'!$B$7,\"\"),\"\")","v":""},{"$f":"IF(D79<>\"\",IF('Order Form'!$B$4=\"\",\"\",'Order Form'!$B$4),\"\")","v":""},{"$f":"IF(D79<>\"\",IF('Order Form'!$B$5=\"\",\"\",'Order Form'!$B$5),\"\")","v":""},{"$f":"IF(D79<>\"\",IF('Order Form'!$B$6=\"\",\"\",'Order Form'!$B$6),\"\")","v":""}]
[{"$f":"IF(D80<>\"\",IF('Order Form'!$B$2=\"\",\"\",\"New Jersey\"),\"\")","v":""},{"$f":"IF(D80<>\"\",IF('Order Form'!$B$2=\"\",\"\",'Order Form'!$B$2),\"\")","v":""},{"$f":"IF(D80<>\"\",IF('Order Form'!$B$2=\"\",\"\",'Order Form'!$B$3),\"\")","v":""},{"$f":"IF(_xlfn.XLOOKUP(INDEX('Order Form'!$C:$C,ROW(D80)+9),lists!I:I,lists!C:C,\"\",0,1)=0,\"\",_xlfn.XLOOKUP(INDEX('Order Form'!$C:$C,ROW(D80)+9),lists!I:I,lists!C:C,\"\",0,1))","v":""},{"$f":"IF(INDEX('Order Form'!$D:$D,ROW(D80)+9)>0,INDEX('Order Form'!$D:$D,ROW(D80)+9),\"\")","v":""},{"$f":"IF(INDEX('Order Form'!$E:$E,ROW(E80)+9)>0,INDEX('Order Form'!$E:$E,ROW(E80)+9),\"\")","v":""},{"$f":"IF(D80>\"\",IF('Order Form'!$B$7<>0,'Order Form'!$B$7,\"\"),\"\")","v":""},{"$f":"IF(D80<>\"\",IF('Order Form'!$B$4=\"\",\"\",'Order Form'!$B$4),\"\")","v":""},{"$f":"IF(D80<>\"\",IF('Order Form'!$B$5=\"\",\"\",'Order Form'!$B$5),\"\")","v":""},{"$f":"IF(D80<>\"\",IF('Order Form'!$B$6=\"\",\"\",'Order Form'!$B$6),\"\")","v":""}]
[{"$f":"IF(D81<>\"\",IF('Order Form'!$B$2=\"\",\"\",\"New Jersey\"),\"\")","v":""},{"$f":"IF(D81<>\"\",IF('Order Form'!$B$2=\"\",\"\",'Order Form'!$B$2),\"\")","v":""},{"$f":"IF(D81<>\"\",IF('Order Form'!$B$2=\"\",\"\",'Order Form'!$B$3),\"\")","v":""},{"$f":"IF(_xlfn.XLOOKUP(INDEX('Order Form'!$C:$C,ROW(D81)+9),lists!I:I,lists!C:C,\"\",0,1)=0,\"\",_xlfn.XLOOKUP(INDEX('Order Form'!$C:$C,ROW(D81)+9),lists!I:I,lists!C:C,\"\",0,1))","v":""},{"$f":"IF(INDEX('Order Form'!$D:$D,ROW(D81)+9)>0,INDEX('Order Form'!$D:$D,ROW(D81)+9),\"\")","v":""},{"$f":"IF(INDEX('Order Form'!$E:$E,ROW(E81)+9)>0,INDEX('Order Form'!$E:$E,ROW(E81)+9),\"\")","v":""},{"$f":"IF(D81>\"\",IF('Order Form'!$B$7<>0,'Order Form'!$B$7,\"\"),\"\")","v":""},{"$f":"IF(D81<>\"\",IF('Order Form'!$B$4=\"\",\"\",'Order Form'!$B$4),\"\")","v":""},{"$f":"IF(D81<>\"\",IF('Order Form'!$B$5=\"\",\"\",'Order Form'!$B$5),\"\")","v":""},{"$f":"IF(D81<>\"\",IF('Order Form'!$B$6=\"\",\"\",'Order Form'!$B$6),\"\")","v":""}]
[{"$f":"IF(D82<>\"\",IF('Order Form'!$B$2=\"\",\"\",\"New Jersey\"),\"\")","v":""},{"$f":"IF(D82<>\"\",IF('Order Form'!$B$2=\"\",\"\",'Order Form'!$B$2),\"\")","v":""},{"$f":"IF(D82<>\"\",IF('Order Form'!$B$2=\"\",\"\",'Order Form'!$B$3),\"\")","v":""},{"$f":"IF(_xlfn.XLOOKUP(INDEX('Order Form'!$C:$C,ROW(D82)+9),lists!I:I,lists!C:C,\"\",0,1)=0,\"\",_xlfn.XLOOKUP(INDEX('Order Form'!$C:$C,ROW(D82)+9),lists!I:I,lists!C:C,\"\",0,1))","v":""},{"$f":"IF(INDEX('Order Form'!$D:$D,ROW(D82)+9)>0,INDEX('Order Form'!$D:$D,ROW(D82)+9),\"\")","v":""},{"$f":"IF(INDEX('Order Form'!$E:$E,ROW(E82)+9)>0,INDEX('Order Form'!$E:$E,ROW(E82)+9),\"\")","v":""},{"$f":"IF(D82>\"\",IF('Order Form'!$B$7<>0,'Order Form'!$B$7,\"\"),\"\")","v":""},{"$f":"IF(D82<>\"\",IF('Order Form'!$B$4=\"\",\"\",'Order Form'!$B$4),\"\")","v":""},{"$f":"IF(D82<>\"\",IF('Order Form'!$B$5=\"\",\"\",'Order Form'!$B$5),\"\")","v":""},{"$f":"IF(D82<>\"\",IF('Order Form'!$B$6=\"\",\"\",'Order Form'!$B$6),\"\")","v":""}]
[{"$f":"IF(D83<>\"\",IF('Order Form'!$B$2=\"\",\"\",\"New Jersey\"),\"\")","v":""},{"$f":"IF(D83<>\"\",IF('Order Form'!$B$2=\"\",\"\",'Order Form'!$B$2),\"\")","v":""},{"$f":"IF(D83<>\"\",IF('Order Form'!$B$2=\"\",\"\",'Order Form'!$B$3),\"\")","v":""},{"$f":"IF(_xlfn.XLOOKUP(INDEX('Order Form'!$C:$C,ROW(D83)+9),lists!I:I,lists!C:C,\"\",0,1)=0,\"\",_xlfn.XLOOKUP(INDEX('Order Form'!$C:$C,ROW(D83)+9),lists!I:I,lists!C:C,\"\",0,1))","v":""},{"$f":"IF(INDEX('Order Form'!$D:$D,ROW(D83)+9)>0,INDEX('Order Form'!$D:$D,ROW(D83)+9),\"\")","v":""},{"$f":"IF(INDEX('Order Form'!$E:$E,ROW(E83)+9)>0,INDEX('Order Form'!$E:$E,ROW(E83)+9),\"\")","v":""},{"$f":"IF(D83>\"\",IF('Order Form'!$B$7<>0,'Order Form'!$B$7,\"\"),\"\")","v":""},{"$f":"IF(D83<>\"\",IF('Order Form'!$B$4=\"\",\"\",'Order Form'!$B$4),\"\")","v":""},{"$f":"IF(D83<>\"\",IF('Order Form'!$B$5=\"\",\"\",'Order Form'!$B$5),\"\")","v":""},{"$f":"IF(D83<>\"\",IF('Order Form'!$B$6=\"\",\"\",'Order Form'!$B$6),\"\")","v":""}]
[{"$f":"IF(D84<>\"\",IF('Order Form'!$B$2=\"\",\"\",\"New Jersey\"),\"\")","v":""},{"$f":"IF(D84<>\"\",IF('Order Form'!$B$2=\"\",\"\",'Order Form'!$B$2),\"\")","v":""},{"$f":"IF(D84<>\"\",IF('Order Form'!$B$2=\"\",\"\",'Order Form'!$B$3),\"\")","v":""},{"$f":"IF(_xlfn.XLOOKUP(INDEX('Order Form'!$C:$C,ROW(D84)+9),lists!I:I,lists!C:C,\"\",0,1)=0,\"\",_xlfn.XLOOKUP(INDEX('Order Form'!$C:$C,ROW(D84)+9),lists!I:I,lists!C:C,\"\",0,1))","v":""},{"$f":"IF(INDEX('Order Form'!$D:$D,ROW(D84)+9)>0,INDEX('Order Form'!$D:$D,ROW(D84)+9),\"\")","v":""},{"$f":"IF(INDEX('Order Form'!$E:$E,ROW(E84)+9)>0,INDEX('Order Form'!$E:$E,ROW(E84)+9),\"\")","v":""},{"$f":"IF(D84>\"\",IF('Order Form'!$B$7<>0,'Order Form'!$B$7,\"\"),\"\")","v":""},{"$f":"IF(D84<>\"\",IF('Order Form'!$B$4=\"\",\"\",'Order Form'!$B$4),\"\")","v":""},{"$f":"IF(D84<>\"\",IF('Order Form'!$B$5=\"\",\"\",'Order Form'!$B$5),\"\")","v":""},{"$f":"IF(D84<>\"\",IF('Order Form'!$B$6=\"\",\"\",'Order Form'!$B$6),\"\")","v":""}]
[{"$f":"IF(D85<>\"\",IF('Order Form'!$B$2=\"\",\"\",\"New Jersey\"),\"\")","v":""},{"$f":"IF(D85<>\"\",IF('Order Form'!$B$2=\"\",\"\",'Order Form'!$B$2),\"\")","v":""},{"$f":"IF(D85<>\"\",IF('Order Form'!$B$2=\"\",\"\",'Order Form'!$B$3),\"\")","v":""},{"$f":"IF(_xlfn.XLOOKUP(INDEX('Order Form'!$C:$C,ROW(D85)+9),lists!I:I,lists!C:C,\"\",0,1)=0,\"\",_xlfn.XLOOKUP(INDEX('Order Form'!$C:$C,ROW(D85)+9),lists!I:I,lists!C:C,\"\",0,1))","v":""},{"$f":"IF(INDEX('Order Form'!$D:$D,ROW(D85)+9)>0,INDEX('Order Form'!$D:$D,ROW(D85)+9),\"\")","v":""},{"$f":"IF(INDEX('Order Form'!$E:$E,ROW(E85)+9)>0,INDEX('Order Form'!$E:$E,ROW(E85)+9),\"\")","v":""},{"$f":"IF(D85>\"\",IF('Order Form'!$B$7<>0,'Order Form'!$B$7,\"\"),\"\")","v":""},{"$f":"IF(D85<>\"\",IF('Order Form'!$B$4=\"\",\"\",'Order Form'!$B$4),\"\")","v":""},{"$f":"IF(D85<>\"\",IF('Order Form'!$B$5=\"\",\"\",'Order Form'!$B$5),\"\")","v":""},{"$f":"IF(D85<>\"\",IF('Order Form'!$B$6=\"\",\"\",'Order Form'!$B$6),\"\")","v":""}]
[{"$f":"IF(D86<>\"\",IF('Order Form'!$B$2=\"\",\"\",\"New Jersey\"),\"\")","v":""},{"$f":"IF(D86<>\"\",IF('Order Form'!$B$2=\"\",\"\",'Order Form'!$B$2),\"\")","v":""},{"$f":"IF(D86<>\"\",IF('Order Form'!$B$2=\"\",\"\",'Order Form'!$B$3),\"\")","v":""},{"$f":"IF(_xlfn.XLOOKUP(INDEX('Order Form'!$C:$C,ROW(D86)+9),lists!I:I,lists!C:C,\"\",0,1)=0,\"\",_xlfn.XLOOKUP(INDEX('Order Form'!$C:$C,ROW(D86)+9),lists!I:I,lists!C:C,\"\",0,1))","v":""},{"$f":"IF(INDEX('Order Form'!$D:$D,ROW(D86)+9)>0,INDEX('Order Form'!$D:$D,ROW(D86)+9),\"\")","v":""},{"$f":"IF(INDEX('Order Form'!$E:$E,ROW(E86)+9)>0,INDEX('Order Form'!$E:$E,ROW(E86)+9),\"\")","v":""},{"$f":"IF(D86>\"\",IF('Order Form'!$B$7<>0,'Order Form'!$B$7,\"\"),\"\")","v":""},{"$f":"IF(D86<>\"\",IF('Order Form'!$B$4=\"\",\"\",'Order Form'!$B$4),\"\")","v":""},{"$f":"IF(D86<>\"\",IF('Order Form'!$B$5=\"\",\"\",'Order Form'!$B$5),\"\")","v":""},{"$f":"IF(D86<>\"\",IF('Order Form'!$B$6=\"\",\"\",'Order Form'!$B$6),\"\")","v":""}]
[{"$f":"IF(D87<>\"\",IF('Order Form'!$B$2=\"\",\"\",\"New Jersey\"),\"\")","v":""},{"$f":"IF(D87<>\"\",IF('Order Form'!$B$2=\"\",\"\",'Order Form'!$B$2),\"\")","v":""},{"$f":"IF(D87<>\"\",IF('Order Form'!$B$2=\"\",\"\",'Order Form'!$B$3),\"\")","v":""},{"$f":"IF(_xlfn.XLOOKUP(INDEX('Order Form'!$C:$C,ROW(D87)+9),lists!I:I,lists!C:C,\"\",0,1)=0,\"\",_xlfn.XLOOKUP(INDEX('Order Form'!$C:$C,ROW(D87)+9),lists!I:I,lists!C:C,\"\",0,1))","v":""},{"$f":"IF(INDEX('Order Form'!$D:$D,ROW(D87)+9)>0,INDEX('Order Form'!$D:$D,ROW(D87)+9),\"\")","v":""},{"$f":"IF(INDEX('Order Form'!$E:$E,ROW(E87)+9)>0,INDEX('Order Form'!$E:$E,ROW(E87)+9),\"\")","v":""},{"$f":"IF(D87>\"\",IF('Order Form'!$B$7<>0,'Order Form'!$B$7,\"\"),\"\")","v":""},{"$f":"IF(D87<>\"\",IF('Order Form'!$B$4=\"\",\"\",'Order Form'!$B$4),\"\")","v":""},{"$f":"IF(D87<>\"\",IF('Order Form'!$B$5=\"\",\"\",'Order Form'!$B$5),\"\")","v":""},{"$f":"IF(D87<>\"\",IF('Order Form'!$B$6=\"\",\"\",'Order Form'!$B$6),\"\")","v":""}]
[{"$f":"IF(D88<>\"\",IF('Order Form'!$B$2=\"\",\"\",\"New Jersey\"),\"\")","v":""},{"$f":"IF(D88<>\"\",IF('Order Form'!$B$2=\"\",\"\",'Order Form'!$B$2),\"\")","v":""},{"$f":"IF(D88<>\"\",IF('Order Form'!$B$2=\"\",\"\",'Order Form'!$B$3),\"\")","v":""},{"$f":"IF(_xlfn.XLOOKUP(INDEX('Order Form'!$C:$C,ROW(D88)+9),lists!I:I,lists!C:C,\"\",0,1)=0,\"\",_xlfn.XLOOKUP(INDEX('Order Form'!$C:$C,ROW(D88)+9),lists!I:I,lists!C:C,\"\",0,1))","v":""},{"$f":"IF(INDEX('Order Form'!$D:$D,ROW(D88)+9)>0,INDEX('Order Form'!$D:$D,ROW(D88)+9),\"\")","v":""},{"$f":"IF(INDEX('Order Form'!$E:$E,ROW(E88)+9)>0,INDEX('Order Form'!$E:$E,ROW(E88)+9),\"\")","v":""},{"$f":"IF(D88>\"\",IF('Order Form'!$B$7<>0,'Order Form'!$B$7,\"\"),\"\")","v":""},{"$f":"IF(D88<>\"\",IF('Order Form'!$B$4=\"\",\"\",'Order Form'!$B$4),\"\")","v":""},{"$f":"IF(D88<>\"\",IF('Order Form'!$B$5=\"\",\"\",'Order Form'!$B$5),\"\")","v":""},{"$f":"IF(D88<>\"\",IF('Order Form'!$B$6=\"\",\"\",'Order Form'!$B$6),\"\")","v":""}]
[{"$f":"IF(D89<>\"\",IF('Order Form'!$B$2=\"\",\"\",\"New Jersey\"),\"\")","v":""},{"$f":"IF(D89<>\"\",IF('Order Form'!$B$2=\"\",\"\",'Order Form'!$B$2),\"\")","v":""},{"$f":"IF(D89<>\"\",IF('Order Form'!$B$2=\"\",\"\",'Order Form'!$B$3),\"\")","v":""},{"$f":"IF(_xlfn.XLOOKUP(INDEX('Order Form'!$C:$C,ROW(D89)+9),lists!I:I,lists!C:C,\"\",0,1)=0,\"\",_xlfn.XLOOKUP(INDEX('Order Form'!$C:$C,ROW(D89)+9),lists!I:I,lists!C:C,\"\",0,1))","v":""},{"$f":"IF(INDEX('Order Form'!$D:$D,ROW(D89)+9)>0,INDEX('Order Form'!$D:$D,ROW(D89)+9),\"\")","v":""},{"$f":"IF(INDEX('Order Form'!$E:$E,ROW(E89)+9)>0,INDEX('Order Form'!$E:$E,ROW(E89)+9),\"\")","v":""},{"$f":"IF(D89>\"\",IF('Order Form'!$B$7<>0,'Order Form'!$B$7,\"\"),\"\")","v":""},{"$f":"IF(D89<>\"\",IF('Order Form'!$B$4=\"\",\"\",'Order Form'!$B$4),\"\")","v":""},{"$f":"IF(D89<>\"\",IF('Order Form'!$B$5=\"\",\"\",'Order Form'!$B$5),\"\")","v":""},{"$f":"IF(D89<>\"\",IF('Order Form'!$B$6=\"\",\"\",'Order Form'!$B$6),\"\")","v":""}]
[{"$f":"IF(D90<>\"\",IF('Order Form'!$B$2=\"\",\"\",\"New Jersey\"),\"\")","v":""},{"$f":"IF(D90<>\"\",IF('Order Form'!$B$2=\"\",\"\",'Order Form'!$B$2),\"\")","v":""},{"$f":"IF(D90<>\"\",IF('Order Form'!$B$2=\"\",\"\",'Order Form'!$B$3),\"\")","v":""},{"$f":"IF(_xlfn.XLOOKUP(INDEX('Order Form'!$C:$C,ROW(D90)+9),lists!I:I,lists!C:C,\"\",0,1)=0,\"\",_xlfn.XLOOKUP(INDEX('Order Form'!$C:$C,ROW(D90)+9),lists!I:I,lists!C:C,\"\",0,1))","v":""},{"$f":"IF(INDEX('Order Form'!$D:$D,ROW(D90)+9)>0,INDEX('Order Form'!$D:$D,ROW(D90)+9),\"\")","v":""},{"$f":"IF(INDEX('Order Form'!$E:$E,ROW(E90)+9)>0,INDEX('Order Form'!$E:$E,ROW(E90)+9),\"\")","v":""},{"$f":"IF(D90>\"\",IF('Order Form'!$B$7<>0,'Order Form'!$B$7,\"\"),\"\")","v":""},{"$f":"IF(D90<>\"\",IF('Order Form'!$B$4=\"\",\"\",'Order Form'!$B$4),\"\")","v":""},{"$f":"IF(D90<>\"\",IF('Order Form'!$B$5=\"\",\"\",'Order Form'!$B$5),\"\")","v":""},{"$f":"IF(D90<>\"\",IF('Order Form'!$B$6=\"\",\"\",'Order Form'!$B$6),\"\")","v":""}]
[{"$f":"IF(D91<>\"\",IF('Order Form'!$B$2=\"\",\"\",\"New Jersey\"),\"\")","v":""},{"$f":"IF(D91<>\"\",IF('Order Form'!$B$2=\"\",\"\",'Order Form'!$B$2),\"\")","v":""},{"$f":"IF(D91<>\"\",IF('Order Form'!$B$2=\"\",\"\",'Order Form'!$B$3),\"\")","v":""},{"$f":"IF(_xlfn.XLOOKUP(INDEX('Order Form'!$C:$C,ROW(D91)+9),lists!I:I,lists!C:C,\"\",0,1)=0,\"\",_xlfn.XLOOKUP(INDEX('Order Form'!$C:$C,ROW(D91)+9),lists!I:I,lists!C:C,\"\",0,1))","v":""},{"$f":"IF(INDEX('Order Form'!$D:$D,ROW(D91)+9)>0,INDEX('Order Form'!$D:$D,ROW(D91)+9),\"\")","v":""},{"$f":"IF(INDEX('Order Form'!$E:$E,ROW(E91)+9)>0,INDEX('Order Form'!$E:$E,ROW(E91)+9),\"\")","v":""},{"$f":"IF(D91>\"\",IF('Order Form'!$B$7<>0,'Order Form'!$B$7,\"\"),\"\")","v":""},{"$f":"IF(D91<>\"\",IF('Order Form'!$B$4=\"\",\"\",'Order Form'!$B$4),\"\")","v":""},{"$f":"IF(D91<>\"\",IF('Order Form'!$B$5=\"\",\"\",'Order Form'!$B$5),\"\")","v":""},{"$f":"IF(D91<>\"\",IF('Order Form'!$B$6=\"\",\"\",'Order Form'!$B$6),\"\")","v":""}]
[{"$f":"IF(D92<>\"\",IF('Order Form'!$B$2=\"\",\"\",\"New Jersey\"),\"\")","v":""},{"$f":"IF(D92<>\"\",IF('Order Form'!$B$2=\"\",\"\",'Order Form'!$B$2),\"\")","v":""},{"$f":"IF(D92<>\"\",IF('Order Form'!$B$2=\"\",\"\",'Order Form'!$B$3),\"\")","v":""},{"$f":"IF(_xlfn.XLOOKUP(INDEX('Order Form'!$C:$C,ROW(D92)+9),lists!I:I,lists!C:C,\"\",0,1)=0,\"\",_xlfn.XLOOKUP(INDEX('Order Form'!$C:$C,ROW(D92)+9),lists!I:I,lists!C:C,\"\",0,1))","v":""},{"$f":"IF(INDEX('Order Form'!$D:$D,ROW(D92)+9)>0,INDEX('Order Form'!$D:$D,ROW(D92)+9),\"\")","v":""},{"$f":"IF(INDEX('Order Form'!$E:$E,ROW(E92)+9)>0,INDEX('Order Form'!$E:$E,ROW(E92)+9),\"\")","v":""},{"$f":"IF(D92>\"\",IF('Order Form'!$B$7<>0,'Order Form'!$B$7,\"\"),\"\")","v":""},{"$f":"IF(D92<>\"\",IF('Order Form'!$B$4=\"\",\"\",'Order Form'!$B$4),\"\")","v":""},{"$f":"IF(D92<>\"\",IF('Order Form'!$B$5=\"\",\"\",'Order Form'!$B$5),\"\")","v":""},{"$f":"IF(D92<>\"\",IF('Order Form'!$B$6=\"\",\"\",'Order Form'!$B$6),\"\")","v":""}]
[{"$f":"IF(D93<>\"\",IF('Order Form'!$B$2=\"\",\"\",\"New Jersey\"),\"\")","v":""},{"$f":"IF(D93<>\"\",IF('Order Form'!$B$2=\"\",\"\",'Order Form'!$B$2),\"\")","v":""},{"$f":"IF(D93<>\"\",IF('Order Form'!$B$2=\"\",\"\",'Order Form'!$B$3),\"\")","v":""},{"$f":"IF(_xlfn.XLOOKUP(INDEX('Order Form'!$C:$C,ROW(D93)+9),lists!I:I,lists!C:C,\"\",0,1)=0,\"\",_xlfn.XLOOKUP(INDEX('Order Form'!$C:$C,ROW(D93)+9),lists!I:I,lists!C:C,\"\",0,1))","v":""},{"$f":"IF(INDEX('Order Form'!$D:$D,ROW(D93)+9)>0,INDEX('Order Form'!$D:$D,ROW(D93)+9),\"\")","v":""},{"$f":"IF(INDEX('Order Form'!$E:$E,ROW(E93)+9)>0,INDEX('Order Form'!$E:$E,ROW(E93)+9),\"\")","v":""},{"$f":"IF(D93>\"\",IF('Order Form'!$B$7<>0,'Order Form'!$B$7,\"\"),\"\")","v":""},{"$f":"IF(D93<>\"\",IF('Order Form'!$B$4=\"\",\"\",'Order Form'!$B$4),\"\")","v":""},{"$f":"IF(D93<>\"\",IF('Order Form'!$B$5=\"\",\"\",'Order Form'!$B$5),\"\")","v":""},{"$f":"IF(D93<>\"\",IF('Order Form'!$B$6=\"\",\"\",'Order Form'!$B$6),\"\")","v":""}]
[{"$f":"IF(D94<>\"\",IF('Order Form'!$B$2=\"\",\"\",\"New Jersey\"),\"\")","v":""},{"$f":"IF(D94<>\"\",IF('Order Form'!$B$2=\"\",\"\",'Order Form'!$B$2),\"\")","v":""},{"$f":"IF(D94<>\"\",IF('Order Form'!$B$2=\"\",\"\",'Order Form'!$B$3),\"\")","v":""},{"$f":"IF(_xlfn.XLOOKUP(INDEX('Order Form'!$C:$C,ROW(D94)+9),lists!I:I,lists!C:C,\"\",0,1)=0,\"\",_xlfn.XLOOKUP(INDEX('Order Form'!$C:$C,ROW(D94)+9),lists!I:I,lists!C:C,\"\",0,1))","v":""},{"$f":"IF(INDEX('Order Form'!$D:$D,ROW(D94)+9)>0,INDEX('Order Form'!$D:$D,ROW(D94)+9),\"\")","v":""},{"$f":"IF(INDEX('Order Form'!$E:$E,ROW(E94)+9)>0,INDEX('Order Form'!$E:$E,ROW(E94)+9),\"\")","v":""},{"$f":"IF(D94>\"\",IF('Order Form'!$B$7<>0,'Order Form'!$B$7,\"\"),\"\")","v":""},{"$f":"IF(D94<>\"\",IF('Order Form'!$B$4=\"\",\"\",'Order Form'!$B$4),\"\")","v":""},{"$f":"IF(D94<>\"\",IF('Order Form'!$B$5=\"\",\"\",'Order Form'!$B$5),\"\")","v":""},{"$f":"IF(D94<>\"\",IF('Order Form'!$B$6=\"\",\"\",'Order Form'!$B$6),\"\")","v":""}]
[{"$f":"IF(D95<>\"\",IF('Order Form'!$B$2=\"\",\"\",\"New Jersey\"),\"\")","v":""},{"$f":"IF(D95<>\"\",IF('Order Form'!$B$2=\"\",\"\",'Order Form'!$B$2),\"\")","v":""},{"$f":"IF(D95<>\"\",IF('Order Form'!$B$2=\"\",\"\",'Order Form'!$B$3),\"\")","v":""},{"$f":"IF(_xlfn.XLOOKUP(INDEX('Order Form'!$C:$C,ROW(D95)+9),lists!I:I,lists!C:C,\"\",0,1)=0,\"\",_xlfn.XLOOKUP(INDEX('Order Form'!$C:$C,ROW(D95)+9),lists!I:I,lists!C:C,\"\",0,1))","v":""},{"$f":"IF(INDEX('Order Form'!$D:$D,ROW(D95)+9)>0,INDEX('Order Form'!$D:$D,ROW(D95)+9),\"\")","v":""},{"$f":"IF(INDEX('Order Form'!$E:$E,ROW(E95)+9)>0,INDEX('Order Form'!$E:$E,ROW(E95)+9),\"\")","v":""},{"$f":"IF(D95>\"\",IF('Order Form'!$B$7<>0,'Order Form'!$B$7,\"\"),\"\")","v":""},{"$f":"IF(D95<>\"\",IF('Order Form'!$B$4=\"\",\"\",'Order Form'!$B$4),\"\")","v":""},{"$f":"IF(D95<>\"\",IF('Order Form'!$B$5=\"\",\"\",'Order Form'!$B$5),\"\")","v":""},{"$f":"IF(D95<>\"\",IF('Order Form'!$B$6=\"\",\"\",'Order Form'!$B$6),\"\")","v":""}]
[{"$f":"IF(D96<>\"\",IF('Order Form'!$B$2=\"\",\"\",\"New Jersey\"),\"\")","v":""},{"$f":"IF(D96<>\"\",IF('Order Form'!$B$2=\"\",\"\",'Order Form'!$B$2),\"\")","v":""},{"$f":"IF(D96<>\"\",IF('Order Form'!$B$2=\"\",\"\",'Order Form'!$B$3),\"\")","v":""},{"$f":"IF(_xlfn.XLOOKUP(INDEX('Order Form'!$C:$C,ROW(D96)+9),lists!I:I,lists!C:C,\"\",0,1)=0,\"\",_xlfn.XLOOKUP(INDEX('Order Form'!$C:$C,ROW(D96)+9),lists!I:I,lists!C:C,\"\",0,1))","v":""},{"$f":"IF(INDEX('Order Form'!$D:$D,ROW(D96)+9)>0,INDEX('Order Form'!$D:$D,ROW(D96)+9),\"\")","v":""},{"$f":"IF(INDEX('Order Form'!$E:$E,ROW(E96)+9)>0,INDEX('Order Form'!$E:$E,ROW(E96)+9),\"\")","v":""},{"$f":"IF(D96>\"\",IF('Order Form'!$B$7<>0,'Order Form'!$B$7,\"\"),\"\")","v":""},{"$f":"IF(D96<>\"\",IF('Order Form'!$B$4=\"\",\"\",'Order Form'!$B$4),\"\")","v":""},{"$f":"IF(D96<>\"\",IF('Order Form'!$B$5=\"\",\"\",'Order Form'!$B$5),\"\")","v":""},{"$f":"IF(D96<>\"\",IF('Order Form'!$B$6=\"\",\"\",'Order Form'!$B$6),\"\")","v":""}]
[{"$f":"IF(D97<>\"\",IF('Order Form'!$B$2=\"\",\"\",\"New Jersey\"),\"\")","v":""},{"$f":"IF(D97<>\"\",IF('Order Form'!$B$2=\"\",\"\",'Order Form'!$B$2),\"\")","v":""},{"$f":"IF(D97<>\"\",IF('Order Form'!$B$2=\"\",\"\",'Order Form'!$B$3),\"\")","v":""},{"$f":"IF(_xlfn.XLOOKUP(INDEX('Order Form'!$C:$C,ROW(D97)+9),lists!I:I,lists!C:C,\"\",0,1)=0,\"\",_xlfn.XLOOKUP(INDEX('Order Form'!$C:$C,ROW(D97)+9),lists!I:I,lists!C:C,\"\",0,1))","v":""},{"$f":"IF(INDEX('Order Form'!$D:$D,ROW(D97)+9)>0,INDEX('Order Form'!$D:$D,ROW(D97)+9),\"\")","v":""},{"$f":"IF(INDEX('Order Form'!$E:$E,ROW(E97)+9)>0,INDEX('Order Form'!$E:$E,ROW(E97)+9),\"\")","v":""},{"$f":"IF(D97>\"\",IF('Order Form'!$B$7<>0,'Order Form'!$B$7,\"\"),\"\")","v":""},{"$f":"IF(D97<>\"\",IF('Order Form'!$B$4=\"\",\"\",'Order Form'!$B$4),\"\")","v":""},{"$f":"IF(D97<>\"\",IF('Order Form'!$B$5=\"\",\"\",'Order Form'!$B$5),\"\")","v":""},{"$f":"IF(D97<>\"\",IF('Order Form'!$B$6=\"\",\"\",'Order Form'!$B$6),\"\")","v":""}]
[{"$f":"IF(D98<>\"\",IF('Order Form'!$B$2=\"\",\"\",\"New Jersey\"),\"\")","v":""},{"$f":"IF(D98<>\"\",IF('Order Form'!$B$2=\"\",\"\",'Order Form'!$B$2),\"\")","v":""},{"$f":"IF(D98<>\"\",IF('Order Form'!$B$2=\"\",\"\",'Order Form'!$B$3),\"\")","v":""},{"$f":"IF(_xlfn.XLOOKUP(INDEX('Order Form'!$C:$C,ROW(D98)+9),lists!I:I,lists!C:C,\"\",0,1)=0,\"\",_xlfn.XLOOKUP(INDEX('Order Form'!$C:$C,ROW(D98)+9),lists!I:I,lists!C:C,\"\",0,1))","v":""},{"$f":"IF(INDEX('Order Form'!$D:$D,ROW(D98)+9)>0,INDEX('Order Form'!$D:$D,ROW(D98)+9),\"\")","v":""},{"$f":"IF(INDEX('Order Form'!$E:$E,ROW(E98)+9)>0,INDEX('Order Form'!$E:$E,ROW(E98)+9),\"\")","v":""},{"$f":"IF(D98>\"\",IF('Order Form'!$B$7<>0,'Order Form'!$B$7,\"\"),\"\")","v":""},{"$f":"IF(D98<>\"\",IF('Order Form'!$B$4=\"\",\"\",'Order Form'!$B$4),\"\")","v":""},{"$f":"IF(D98<>\"\",IF('Order Form'!$B$5=\"\",\"\",'Order Form'!$B$5),\"\")","v":""},{"$f":"IF(D98<>\"\",IF('Order Form'!$B$6=\"\",\"\",'Order Form'!$B$6),\"\")","v":""}]
[{"$f":"IF(D99<>\"\",IF('Order Form'!$B$2=\"\",\"\",\"New Jersey\"),\"\")","v":""},{"$f":"IF(D99<>\"\",IF('Order Form'!$B$2=\"\",\"\",'Order Form'!$B$2),\"\")","v":""},{"$f":"IF(D99<>\"\",IF('Order Form'!$B$2=\"\",\"\",'Order Form'!$B$3),\"\")","v":""},{"$f":"IF(_xlfn.XLOOKUP(INDEX('Order Form'!$C:$C,ROW(D99)+9),lists!I:I,lists!C:C,\"\",0,1)=0,\"\",_xlfn.XLOOKUP(INDEX('Order Form'!$C:$C,ROW(D99)+9),lists!I:I,lists!C:C,\"\",0,1))","v":""},{"$f":"IF(INDEX('Order Form'!$D:$D,ROW(D99)+9)>0,INDEX('Order Form'!$D:$D,ROW(D99)+9),\"\")","v":""},{"$f":"IF(INDEX('Order Form'!$E:$E,ROW(E99)+9)>0,INDEX('Order Form'!$E:$E,ROW(E99)+9),\"\")","v":""},{"$f":"IF(D99>\"\",IF('Order Form'!$B$7<>0,'Order Form'!$B$7,\"\"),\"\")","v":""},{"$f":"IF(D99<>\"\",IF('Order Form'!$B$4=\"\",\"\",'Order Form'!$B$4),\"\")","v":""},{"$f":"IF(D99<>\"\",IF('Order Form'!$B$5=\"\",\"\",'Order Form'!$B$5),\"\")","v":""},{"$f":"IF(D99<>\"\",IF('Order Form'!$B$6=\"\",\"\",'Order Form'!$B$6),\"\")","v":""}]
[{"$f":"IF(D100<>\"\",IF('Order Form'!$B$2=\"\",\"\",\"New Jersey\"),\"\")","v":""},{"$f":"IF(D100<>\"\",IF('Order Form'!$B$2=\"\",\"\",'Order Form'!$B$2),\"\")","v":""},{"$f":"IF(D100<>\"\",IF('Order Form'!$B$2=\"\",\"\",'Order Form'!$B$3),\"\")","v":""},{"$f":"IF(_xlfn.XLOOKUP(INDEX('Order Form'!$C:$C,ROW(D100)+9),lists!I:I,lists!C:C,\"\",0,1)=0,\"\",_xlfn.XLOOKUP(INDEX('Order Form'!$C:$C,ROW(D100)+9),lists!I:I,lists!C:C,\"\",0,1))","v":""},{"$f":"IF(INDEX('Order Form'!$D:$D,ROW(D100)+9)>0,INDEX('Order Form'!$D:$D,ROW(D100)+9),\"\")","v":""},{"$f":"IF(INDEX('Order Form'!$E:$E,ROW(E100)+9)>0,INDEX('Order Form'!$E:$E,ROW(E100)+9),\"\")","v":""},{"$f":"IF(D100>\"\",IF('Order Form'!$B$7<>0,'Order Form'!$B$7,\"\"),\"\")","v":""},{"$f":"IF(D100<>\"\",IF('Order Form'!$B$4=\"\",\"\",'Order Form'!$B$4),\"\")","v":""},{"$f":"IF(D100<>\"\",IF('Order Form'!$B$5=\"\",\"\",'Order Form'!$B$5),\"\")","v":""},{"$f":"IF(D100<>\"\",IF('Order Form'!$B$6=\"\",\"\",'Order Form'!$B$6),\"\")","v":""}]
[{"$f":"IF(D101<>\"\",IF('Order Form'!$B$2=\"\",\"\",\"New Jersey\"),\"\")","v":""},{"$f":"IF(D101<>\"\",IF('Order Form'!$B$2=\"\",\"\",'Order Form'!$B$2),\"\")","v":""},{"$f":"IF(D101<>\"\",IF('Order Form'!$B$2=\"\",\"\",'Order Form'!$B$3),\"\")","v":""},{"$f":"IF(_xlfn.XLOOKUP(INDEX('Order Form'!$C:$C,ROW(D101)+9),lists!I:I,lists!C:C,\"\",0,1)=0,\"\",_xlfn.XLOOKUP(INDEX('Order Form'!$C:$C,ROW(D101)+9),lists!I:I,lists!C:C,\"\",0,1))","v":""},{"$f":"IF(INDEX('Order Form'!$D:$D,ROW(D101)+9)>0,INDEX('Order Form'!$D:$D,ROW(D101)+9),\"\")","v":""},{"$f":"IF(INDEX('Order Form'!$E:$E,ROW(E101)+9)>0,INDEX('Order Form'!$E:$E,ROW(E101)+9),\"\")","v":""},{"$f":"IF(D101>\"\",IF('Order Form'!$B$7<>0,'Order Form'!$B$7,\"\"),\"\")","v":""},{"$f":"IF(D101<>\"\",IF('Order Form'!$B$4=\"\",\"\",'Order Form'!$B$4),\"\")","v":""},{"$f":"IF(D101<>\"\",IF('Order Form'!$B$5=\"\",\"\",'Order Form'!$B$5),\"\")","v":""},{"$f":"IF(D101<>\"\",IF('Order Form'!$B$6=\"\",\"\",'Order Form'!$B$6),\"\")","v":""}]
[{"$f":"IF(D102<>\"\",IF('Order Form'!$B$2=\"\",\"\",\"New Jersey\"),\"\")","v":""},{"$f":"IF(D102<>\"\",IF('Order Form'!$B$2=\"\",\"\",'Order Form'!$B$2),\"\")","v":""},{"$f":"IF(D102<>\"\",IF('Order Form'!$B$2=\"\",\"\",'Order Form'!$B$3),\"\")","v":""},{"$f":"IF(_xlfn.XLOOKUP(INDEX('Order Form'!$C:$C,ROW(D102)+9),lists!I:I,lists!C:C,\"\",0,1)=0,\"\",_xlfn.XLOOKUP(INDEX('Order Form'!$C:$C,ROW(D102)+9),lists!I:I,lists!C:C,\"\",0,1))","v":""},{"$f":"IF(INDEX('Order Form'!$D:$D,ROW(D102)+9)>0,INDEX('Order Form'!$D:$D,ROW(D102)+9),\"\")","v":""},{"$f":"IF(INDEX('Order Form'!$E:$E,ROW(E102)+9)>0,INDEX('Order Form'!$E:$E,ROW(E102)+9),\"\")","v":""},{"$f":"IF(D102>\"\",IF('Order Form'!$B$7<>0,'Order Form'!$B$7,\"\"),\"\")","v":""},{"$f":"IF(D102<>\"\",IF('Order Form'!$B$4=\"\",\"\",'Order Form'!$B$4),\"\")","v":""},{"$f":"IF(D102<>\"\",IF('Order Form'!$B$5=\"\",\"\",'Order Form'!$B$5),\"\")","v":""},{"$f":"IF(D102<>\"\",IF('Order Form'!$B$6=\"\",\"\",'Order Form'!$B$6),\"\")","v":""}]
[{"$f":"IF(D103<>\"\",IF('Order Form'!$B$2=\"\",\"\",\"New Jersey\"),\"\")","v":""},{"$f":"IF(D103<>\"\",IF('Order Form'!$B$2=\"\",\"\",'Order Form'!$B$2),\"\")","v":""},{"$f":"IF(D103<>\"\",IF('Order Form'!$B$2=\"\",\"\",'Order Form'!$B$3),\"\")","v":""},{"$f":"IF(_xlfn.XLOOKUP(INDEX('Order Form'!$C:$C,ROW(D103)+9),lists!I:I,lists!C:C,\"\",0,1)=0,\"\",_xlfn.XLOOKUP(INDEX('Order Form'!$C:$C,ROW(D103)+9),lists!I:I,lists!C:C,\"\",0,1))","v":""},{"$f":"IF(INDEX('Order Form'!$D:$D,ROW(D103)+9)>0,INDEX('Order Form'!$D:$D,ROW(D103)+9),\"\")","v":""},{"$f":"IF(INDEX('Order Form'!$E:$E,ROW(E103)+9)>0,INDEX('Order Form'!$E:$E,ROW(E103)+9),\"\")","v":""},{"$f":"IF(D103>\"\",IF('Order Form'!$B$7<>0,'Order Form'!$B$7,\"\"),\"\")","v":""},{"$f":"IF(D103<>\"\",IF('Order Form'!$B$4=\"\",\"\",'Order Form'!$B$4),\"\")","v":""},{"$f":"IF(D103<>\"\",IF('Order Form'!$B$5=\"\",\"\",'Order Form'!$B$5),\"\")","v":""},{"$f":"IF(D103<>\"\",IF('Order Form'!$B$6=\"\",\"\",'Order Form'!$B$6),\"\")","v":""}]
[{"$f":"IF(D104<>\"\",IF('Order Form'!$B$2=\"\",\"\",\"New Jersey\"),\"\")","v":""},{"$f":"IF(D104<>\"\",IF('Order Form'!$B$2=\"\",\"\",'Order Form'!$B$2),\"\")","v":""},{"$f":"IF(D104<>\"\",IF('Order Form'!$B$2=\"\",\"\",'Order Form'!$B$3),\"\")","v":""},{"$f":"IF(_xlfn.XLOOKUP(INDEX('Order Form'!$C:$C,ROW(D104)+9),lists!I:I,lists!C:C,\"\",0,1)=0,\"\",_xlfn.XLOOKUP(INDEX('Order Form'!$C:$C,ROW(D104)+9),lists!I:I,lists!C:C,\"\",0,1))","v":""},{"$f":"IF(INDEX('Order Form'!$D:$D,ROW(D104)+9)>0,INDEX('Order Form'!$D:$D,ROW(D104)+9),\"\")","v":""},{"$f":"IF(INDEX('Order Form'!$E:$E,ROW(E104)+9)>0,INDEX('Order Form'!$E:$E,ROW(E104)+9),\"\")","v":""},{"$f":"IF(D104>\"\",IF('Order Form'!$B$7<>0,'Order Form'!$B$7,\"\"),\"\")","v":""},{"$f":"IF(D104<>\"\",IF('Order Form'!$B$4=\"\",\"\",'Order Form'!$B$4),\"\")","v":""},{"$f":"IF(D104<>\"\",IF('Order Form'!$B$5=\"\",\"\",'Order Form'!$B$5),\"\")","v":""},{"$f":"IF(D104<>\"\",IF('Order Form'!$B$6=\"\",\"\",'Order Form'!$B$6),\"\")","v":""}]
[{"$f":"IF(D105<>\"\",IF('Order Form'!$B$2=\"\",\"\",\"New Jersey\"),\"\")","v":""},{"$f":"IF(D105<>\"\",IF('Order Form'!$B$2=\"\",\"\",'Order Form'!$B$2),\"\")","v":""},{"$f":"IF(D105<>\"\",IF('Order Form'!$B$2=\"\",\"\",'Order Form'!$B$3),\"\")","v":""},{"$f":"IF(_xlfn.XLOOKUP(INDEX('Order Form'!$C:$C,ROW(D105)+9),lists!I:I,lists!C:C,\"\",0,1)=0,\"\",_xlfn.XLOOKUP(INDEX('Order Form'!$C:$C,ROW(D105)+9),lists!I:I,lists!C:C,\"\",0,1))","v":""},{"$f":"IF(INDEX('Order Form'!$D:$D,ROW(D105)+9)>0,INDEX('Order Form'!$D:$D,ROW(D105)+9),\"\")","v":""},{"$f":"IF(INDEX('Order Form'!$E:$E,ROW(E105)+9)>0,INDEX('Order Form'!$E:$E,ROW(E105)+9),\"\")","v":""},{"$f":"IF(D105>\"\",IF('Order Form'!$B$7<>0,'Order Form'!$B$7,\"\"),\"\")","v":""},{"$f":"IF(D105<>\"\",IF('Order Form'!$B$4=\"\",\"\",'Order Form'!$B$4),\"\")","v":""},{"$f":"IF(D105<>\"\",IF('Order Form'!$B$5=\"\",\"\",'Order Form'!$B$5),\"\")","v":""},{"$f":"IF(D105<>\"\",IF('Order Form'!$B$6=\"\",\"\",'Order Form'!$B$6),\"\")","v":""}]
[{"$f":"IF(D106<>\"\",IF('Order Form'!$B$2=\"\",\"\",\"New Jersey\"),\"\")","v":""},{"$f":"IF(D106<>\"\",IF('Order Form'!$B$2=\"\",\"\",'Order Form'!$B$2),\"\")","v":""},{"$f":"IF(D106<>\"\",IF('Order Form'!$B$2=\"\",\"\",'Order Form'!$B$3),\"\")","v":""},{"$f":"IF(_xlfn.XLOOKUP(INDEX('Order Form'!$C:$C,ROW(D106)+9),lists!I:I,lists!C:C,\"\",0,1)=0,\"\",_xlfn.XLOOKUP(INDEX('Order Form'!$C:$C,ROW(D106)+9),lists!I:I,lists!C:C,\"\",0,1))","v":""},{"$f":"IF(INDEX('Order Form'!$D:$D,ROW(D106)+9)>0,INDEX('Order Form'!$D:$D,ROW(D106)+9),\"\")","v":""},{"$f":"IF(INDEX('Order Form'!$E:$E,ROW(E106)+9)>0,INDEX('Order Form'!$E:$E,ROW(E106)+9),\"\")","v":""},{"$f":"IF(D106>\"\",IF('Order Form'!$B$7<>0,'Order Form'!$B$7,\"\"),\"\")","v":""},{"$f":"IF(D106<>\"\",IF('Order Form'!$B$4=\"\",\"\",'Order Form'!$B$4),\"\")","v":""},{"$f":"IF(D106<>\"\",IF('Order Form'!$B$5=\"\",\"\",'Order Form'!$B$5),\"\")","v":""},{"$f":"IF(D106<>\"\",IF('Order Form'!$B$6=\"\",\"\",'Order Form'!$B$6),\"\")","v":""}]
[{"$f":"IF(D107<>\"\",IF('Order Form'!$B$2=\"\",\"\",\"New Jersey\"),\"\")","v":""},{"$f":"IF(D107<>\"\",IF('Order Form'!$B$2=\"\",\"\",'Order Form'!$B$2),\"\")","v":""},{"$f":"IF(D107<>\"\",IF('Order Form'!$B$2=\"\",\"\",'Order Form'!$B$3),\"\")","v":""},{"$f":"IF(_xlfn.XLOOKUP(INDEX('Order Form'!$C:$C,ROW(D107)+9),lists!I:I,lists!C:C,\"\",0,1)=0,\"\",_xlfn.XLOOKUP(INDEX('Order Form'!$C:$C,ROW(D107)+9),lists!I:I,lists!C:C,\"\",0,1))","v":""},{"$f":"IF(INDEX('Order Form'!$D:$D,ROW(D107)+9)>0,INDEX('Order Form'!$D:$D,ROW(D107)+9),\"\")","v":""},{"$f":"IF(INDEX('Order Form'!$E:$E,ROW(E107)+9)>0,INDEX('Order Form'!$E:$E,ROW(E107)+9),\"\")","v":""},{"$f":"IF(D107>\"\",IF('Order Form'!$B$7<>0,'Order Form'!$B$7,\"\"),\"\")","v":""},{"$f":"IF(D107<>\"\",IF('Order Form'!$B$4=\"\",\"\",'Order Form'!$B$4),\"\")","v":""},{"$f":"IF(D107<>\"\",IF('Order Form'!$B$5=\"\",\"\",'Order Form'!$B$5),\"\")","v":""},{"$f":"IF(D107<>\"\",IF('Order Form'!$B$6=\"\",\"\",'Order Form'!$B$6),\"\")","v":""}]
[{"$f":"IF(D108<>\"\",IF('Order Form'!$B$2=\"\",\"\",\"New Jersey\"),\"\")","v":""},{"$f":"IF(D108<>\"\",IF('Order Form'!$B$2=\"\",\"\",'Order Form'!$B$2),\"\")","v":""},{"$f":"IF(D108<>\"\",IF('Order Form'!$B$2=\"\",\"\",'Order Form'!$B$3),\"\")","v":""},{"$f":"IF(_xlfn.XLOOKUP(INDEX('Order Form'!$C:$C,ROW(D108)+9),lists!I:I,lists!C:C,\"\",0,1)=0,\"\",_xlfn.XLOOKUP(INDEX('Order Form'!$C:$C,ROW(D108)+9),lists!I:I,lists!C:C,\"\",0,1))","v":""},{"$f":"IF(INDEX('Order Form'!$D:$D,ROW(D108)+9)>0,INDEX('Order Form'!$D:$D,ROW(D108)+9),\"\")","v":""},{"$f":"IF(INDEX('Order Form'!$E:$E,ROW(E108)+9)>0,INDEX('Order Form'!$E:$E,ROW(E108)+9),\"\")","v":""},{"$f":"IF(D108>\"\",IF('Order Form'!$B$7<>0,'Order Form'!$B$7,\"\"),\"\")","v":""},{"$f":"IF(D108<>\"\",IF('Order Form'!$B$4=\"\",\"\",'Order Form'!$B$4),\"\")","v":""},{"$f":"IF(D108<>\"\",IF('Order Form'!$B$5=\"\",\"\",'Order Form'!$B$5),\"\")","v":""},{"$f":"IF(D108<>\"\",IF('Order Form'!$B$6=\"\",\"\",'Order Form'!$B$6),\"\")","v":""}]
[{"$f":"IF(D109<>\"\",IF('Order Form'!$B$2=\"\",\"\",\"New Jersey\"),\"\")","v":""},{"$f":"IF(D109<>\"\",IF('Order Form'!$B$2=\"\",\"\",'Order Form'!$B$2),\"\")","v":""},{"$f":"IF(D109<>\"\",IF('Order Form'!$B$2=\"\",\"\",'Order Form'!$B$3),\"\")","v":""},{"$f":"IF(_xlfn.XLOOKUP(INDEX('Order Form'!$C:$C,ROW(D109)+9),lists!I:I,lists!C:C,\"\",0,1)=0,\"\",_xlfn.XLOOKUP(INDEX('Order Form'!$C:$C,ROW(D109)+9),lists!I:I,lists!C:C,\"\",0,1))","v":""},{"$f":"IF(INDEX('Order Form'!$D:$D,ROW(D109)+9)>0,INDEX('Order Form'!$D:$D,ROW(D109)+9),\"\")","v":""},{"$f":"IF(INDEX('Order Form'!$E:$E,ROW(E109)+9)>0,INDEX('Order Form'!$E:$E,ROW(E109)+9),\"\")","v":""},{"$f":"IF(D109>\"\",IF('Order Form'!$B$7<>0,'Order Form'!$B$7,\"\"),\"\")","v":""},{"$f":"IF(D109<>\"\",IF('Order Form'!$B$4=\"\",\"\",'Order Form'!$B$4),\"\")","v":""},{"$f":"IF(D109<>\"\",IF('Order Form'!$B$5=\"\",\"\",'Order Form'!$B$5),\"\")","v":""},{"$f":"IF(D109<>\"\",IF('Order Form'!$B$6=\"\",\"\",'Order Form'!$B$6),\"\")","v":""}]
[{"$f":"IF(D110<>\"\",IF('Order Form'!$B$2=\"\",\"\",\"New Jersey\"),\"\")","v":""},{"$f":"IF(D110<>\"\",IF('Order Form'!$B$2=\"\",\"\",'Order Form'!$B$2),\"\")","v":""},{"$f":"IF(D110<>\"\",IF('Order Form'!$B$2=\"\",\"\",'Order Form'!$B$3),\"\")","v":""},{"$f":"IF(_xlfn.XLOOKUP(INDEX('Order Form'!$C:$C,ROW(D110)+9),lists!I:I,lists!C:C,\"\",0,1)=0,\"\",_xlfn.XLOOKUP(INDEX('Order Form'!$C:$C,ROW(D110)+9),lists!I:I,lists!C:C,\"\",0,1))","v":""},{"$f":"IF(INDEX('Order Form'!$D:$D,ROW(D110)+9)>0,INDEX('Order Form'!$D:$D,ROW(D110)+9),\"\")","v":""},{"$f":"IF(INDEX('Order Form'!$E:$E,ROW(E110)+9)>0,INDEX('Order Form'!$E:$E,ROW(E110)+9),\"\")","v":""},{"$f":"IF(D110>\"\",IF('Order Form'!$B$7<>0,'Order Form'!$B$7,\"\"),\"\")","v":""},{"$f":"IF(D110<>\"\",IF('Order Form'!$B$4=\"\",\"\",'Order Form'!$B$4),\"\")","v":""},{"$f":"IF(D110<>\"\",IF('Order Form'!$B$5=\"\",\"\",'Order Form'!$B$5),\"\")","v":""},{"$f":"IF(D110<>\"\",IF('Order Form'!$B$6=\"\",\"\",'Order Form'!$B$6),\"\")","v":""}]
[{"$f":"IF(D111<>\"\",IF('Order Form'!$B$2=\"\",\"\",\"New Jersey\"),\"\")","v":""},{"$f":"IF(D111<>\"\",IF('Order Form'!$B$2=\"\",\"\",'Order Form'!$B$2),\"\")","v":""},{"$f":"IF(D111<>\"\",IF('Order Form'!$B$2=\"\",\"\",'Order Form'!$B$3),\"\")","v":""},{"$f":"IF(_xlfn.XLOOKUP(INDEX('Order Form'!$C:$C,ROW(D111)+9),lists!I:I,lists!C:C,\"\",0,1)=0,\"\",_xlfn.XLOOKUP(INDEX('Order Form'!$C:$C,ROW(D111)+9),lists!I:I,lists!C:C,\"\",0,1))","v":""},{"$f":"IF(INDEX('Order Form'!$D:$D,ROW(D111)+9)>0,INDEX('Order Form'!$D:$D,ROW(D111)+9),\"\")","v":""},{"$f":"IF(INDEX('Order Form'!$E:$E,ROW(E111)+9)>0,INDEX('Order Form'!$E:$E,ROW(E111)+9),\"\")","v":""},{"$f":"IF(D111>\"\",IF('Order Form'!$B$7<>0,'Order Form'!$B$7,\"\"),\"\")","v":""},{"$f":"IF(D111<>\"\",IF('Order Form'!$B$4=\"\",\"\",'Order Form'!$B$4),\"\")","v":""},{"$f":"IF(D111<>\"\",IF('Order Form'!$B$5=\"\",\"\",'Order Form'!$B$5),\"\")","v":""},{"$f":"IF(D111<>\"\",IF('Order Form'!$B$6=\"\",\"\",'Order Form'!$B$6),\"\")","v":""}]
[{"$f":"IF(D112<>\"\",IF('Order Form'!$B$2=\"\",\"\",\"New Jersey\"),\"\")","v":""},{"$f":"IF(D112<>\"\",IF('Order Form'!$B$2=\"\",\"\",'Order Form'!$B$2),\"\")","v":""},{"$f":"IF(D112<>\"\",IF('Order Form'!$B$2=\"\",\"\",'Order Form'!$B$3),\"\")","v":""},{"$f":"IF(_xlfn.XLOOKUP(INDEX('Order Form'!$C:$C,ROW(D112)+9),lists!I:I,lists!C:C,\"\",0,1)=0,\"\",_xlfn.XLOOKUP(INDEX('Order Form'!$C:$C,ROW(D112)+9),lists!I:I,lists!C:C,\"\",0,1))","v":""},{"$f":"IF(INDEX('Order Form'!$D:$D,ROW(D112)+9)>0,INDEX('Order Form'!$D:$D,ROW(D112)+9),\"\")","v":""},{"$f":"IF(INDEX('Order Form'!$E:$E,ROW(E112)+9)>0,INDEX('Order Form'!$E:$E,ROW(E112)+9),\"\")","v":""},{"$f":"IF(D112>\"\",IF('Order Form'!$B$7<>0,'Order Form'!$B$7,\"\"),\"\")","v":""},{"$f":"IF(D112<>\"\",IF('Order Form'!$B$4=\"\",\"\",'Order Form'!$B$4),\"\")","v":""},{"$f":"IF(D112<>\"\",IF('Order Form'!$B$5=\"\",\"\",'Order Form'!$B$5),\"\")","v":""},{"$f":"IF(D112<>\"\",IF('Order Form'!$B$6=\"\",\"\",'Order Form'!$B$6),\"\")","v":""}]
[{"$f":"IF(D113<>\"\",IF('Order Form'!$B$2=\"\",\"\",\"New Jersey\"),\"\")","v":""},{"$f":"IF(D113<>\"\",IF('Order Form'!$B$2=\"\",\"\",'Order Form'!$B$2),\"\")","v":""},{"$f":"IF(D113<>\"\",IF('Order Form'!$B$2=\"\",\"\",'Order Form'!$B$3),\"\")","v":""},{"$f":"IF(_xlfn.XLOOKUP(INDEX('Order Form'!$C:$C,ROW(D113)+9),lists!I:I,lists!C:C,\"\",0,1)=0,\"\",_xlfn.XLOOKUP(INDEX('Order Form'!$C:$C,ROW(D113)+9),lists!I:I,lists!C:C,\"\",0,1))","v":""},{"$f":"IF(INDEX('Order Form'!$D:$D,ROW(D113)+9)>0,INDEX('Order Form'!$D:$D,ROW(D113)+9),\"\")","v":""},{"$f":"IF(INDEX('Order Form'!$E:$E,ROW(E113)+9)>0,INDEX('Order Form'!$E:$E,ROW(E113)+9),\"\")","v":""},{"$f":"IF(D113>\"\",IF('Order Form'!$B$7<>0,'Order Form'!$B$7,\"\"),\"\")","v":""},{"$f":"IF(D113<>\"\",IF('Order Form'!$B$4=\"\",\"\",'Order Form'!$B$4),\"\")","v":""},{"$f":"IF(D113<>\"\",IF('Order Form'!$B$5=\"\",\"\",'Order Form'!$B$5),\"\")","v":""},{"$f":"IF(D113<>\"\",IF('Order Form'!$B$6=\"\",\"\",'Order Form'!$B$6),\"\")","v":""}]
[{"$f":"IF(D114<>\"\",IF('Order Form'!$B$2=\"\",\"\",\"New Jersey\"),\"\")","v":""},{"$f":"IF(D114<>\"\",IF('Order Form'!$B$2=\"\",\"\",'Order Form'!$B$2),\"\")","v":""},{"$f":"IF(D114<>\"\",IF('Order Form'!$B$2=\"\",\"\",'Order Form'!$B$3),\"\")","v":""},{"$f":"IF(_xlfn.XLOOKUP(INDEX('Order Form'!$C:$C,ROW(D114)+9),lists!I:I,lists!C:C,\"\",0,1)=0,\"\",_xlfn.XLOOKUP(INDEX('Order Form'!$C:$C,ROW(D114)+9),lists!I:I,lists!C:C,\"\",0,1))","v":""},{"$f":"IF(INDEX('Order Form'!$D:$D,ROW(D114)+9)>0,INDEX('Order Form'!$D:$D,ROW(D114)+9),\"\")","v":""},{"$f":"IF(INDEX('Order Form'!$E:$E,ROW(E114)+9)>0,INDEX('Order Form'!$E:$E,ROW(E114)+9),\"\")","v":""},{"$f":"IF(D114>\"\",IF('Order Form'!$B$7<>0,'Order Form'!$B$7,\"\"),\"\")","v":""},{"$f":"IF(D114<>\"\",IF('Order Form'!$B$4=\"\",\"\",'Order Form'!$B$4),\"\")","v":""},{"$f":"IF(D114<>\"\",IF('Order Form'!$B$5=\"\",\"\",'Order Form'!$B$5),\"\")","v":""},{"$f":"IF(D114<>\"\",IF('Order Form'!$B$6=\"\",\"\",'Order Form'!$B$6),\"\")","v":""}]
[{"$f":"IF(D115<>\"\",IF('Order Form'!$B$2=\"\",\"\",\"New Jersey\"),\"\")","v":""},{"$f":"IF(D115<>\"\",IF('Order Form'!$B$2=\"\",\"\",'Order Form'!$B$2),\"\")","v":""},{"$f":"IF(D115<>\"\",IF('Order Form'!$B$2=\"\",\"\",'Order Form'!$B$3),\"\")","v":""},{"$f":"IF(_xlfn.XLOOKUP(INDEX('Order Form'!$C:$C,ROW(D115)+9),lists!I:I,lists!C:C,\"\",0,1)=0,\"\",_xlfn.XLOOKUP(INDEX('Order Form'!$C:$C,ROW(D115)+9),lists!I:I,lists!C:C,\"\",0,1))","v":""},{"$f":"IF(INDEX('Order Form'!$D:$D,ROW(D115)+9)>0,INDEX('Order Form'!$D:$D,ROW(D115)+9),\"\")","v":""},{"$f":"IF(INDEX('Order Form'!$E:$E,ROW(E115)+9)>0,INDEX('Order Form'!$E:$E,ROW(E115)+9),\"\")","v":""},{"$f":"IF(D115>\"\",IF('Order Form'!$B$7<>0,'Order Form'!$B$7,\"\"),\"\")","v":""},{"$f":"IF(D115<>\"\",IF('Order Form'!$B$4=\"\",\"\",'Order Form'!$B$4),\"\")","v":""},{"$f":"IF(D115<>\"\",IF('Order Form'!$B$5=\"\",\"\",'Order Form'!$B$5),\"\")","v":""},{"$f":"IF(D115<>\"\",IF('Order Form'!$B$6=\"\",\"\",'Order Form'!$B$6),\"\")","v":""}]
[{"$f":"IF(D116<>\"\",IF('Order Form'!$B$2=\"\",\"\",\"New Jersey\"),\"\")","v":""},{"$f":"IF(D116<>\"\",IF('Order Form'!$B$2=\"\",\"\",'Order Form'!$B$2),\"\")","v":""},{"$f":"IF(D116<>\"\",IF('Order Form'!$B$2=\"\",\"\",'Order Form'!$B$3),\"\")","v":""},{"$f":"IF(_xlfn.XLOOKUP(INDEX('Order Form'!$C:$C,ROW(D116)+9),lists!I:I,lists!C:C,\"\",0,1)=0,\"\",_xlfn.XLOOKUP(INDEX('Order Form'!$C:$C,ROW(D116)+9),lists!I:I,lists!C:C,\"\",0,1))","v":""},{"$f":"IF(INDEX('Order Form'!$D:$D,ROW(D116)+9)>0,INDEX('Order Form'!$D:$D,ROW(D116)+9),\"\")","v":""},{"$f":"IF(INDEX('Order Form'!$E:$E,ROW(E116)+9)>0,INDEX('Order Form'!$E:$E,ROW(E116)+9),\"\")","v":""},{"$f":"IF(D116>\"\",IF('Order Form'!$B$7<>0,'Order Form'!$B$7,\"\"),\"\")","v":""},{"$f":"IF(D116<>\"\",IF('Order Form'!$B$4=\"\",\"\",'Order Form'!$B$4),\"\")","v":""},{"$f":"IF(D116<>\"\",IF('Order Form'!$B$5=\"\",\"\",'Order Form'!$B$5),\"\")","v":""},{"$f":"IF(D116<>\"\",IF('Order Form'!$B$6=\"\",\"\",'Order Form'!$B$6),\"\")","v":""}]
[{"$f":"IF(D117<>\"\",IF('Order Form'!$B$2=\"\",\"\",\"New Jersey\"),\"\")","v":""},{"$f":"IF(D117<>\"\",IF('Order Form'!$B$2=\"\",\"\",'Order Form'!$B$2),\"\")","v":""},{"$f":"IF(D117<>\"\",IF('Order Form'!$B$2=\"\",\"\",'Order Form'!$B$3),\"\")","v":""},{"$f":"IF(_xlfn.XLOOKUP(INDEX('Order Form'!$C:$C,ROW(D117)+9),lists!I:I,lists!C:C,\"\",0,1)=0,\"\",_xlfn.XLOOKUP(INDEX('Order Form'!$C:$C,ROW(D117)+9),lists!I:I,lists!C:C,\"\",0,1))","v":""},{"$f":"IF(INDEX('Order Form'!$D:$D,ROW(D117)+9)>0,INDEX('Order Form'!$D:$D,ROW(D117)+9),\"\")","v":""},{"$f":"IF(INDEX('Order Form'!$E:$E,ROW(E117)+9)>0,INDEX('Order Form'!$E:$E,ROW(E117)+9),\"\")","v":""},{"$f":"IF(D117>\"\",IF('Order Form'!$B$7<>0,'Order Form'!$B$7,\"\"),\"\")","v":""},{"$f":"IF(D117<>\"\",IF('Order Form'!$B$4=\"\",\"\",'Order Form'!$B$4),\"\")","v":""},{"$f":"IF(D117<>\"\",IF('Order Form'!$B$5=\"\",\"\",'Order Form'!$B$5),\"\")","v":""},{"$f":"IF(D117<>\"\",IF('Order Form'!$B$6=\"\",\"\",'Order Form'!$B$6),\"\")","v":""}]
[{"$f":"IF(D118<>\"\",IF('Order Form'!$B$2=\"\",\"\",\"New Jersey\"),\"\")","v":""},{"$f":"IF(D118<>\"\",IF('Order Form'!$B$2=\"\",\"\",'Order Form'!$B$2),\"\")","v":""},{"$f":"IF(D118<>\"\",IF('Order Form'!$B$2=\"\",\"\",'Order Form'!$B$3),\"\")","v":""},{"$f":"IF(_xlfn.XLOOKUP(INDEX('Order Form'!$C:$C,ROW(D118)+9),lists!I:I,lists!C:C,\"\",0,1)=0,\"\",_xlfn.XLOOKUP(INDEX('Order Form'!$C:$C,ROW(D118)+9),lists!I:I,lists!C:C,\"\",0,1))","v":""},{"$f":"IF(INDEX('Order Form'!$D:$D,ROW(D118)+9)>0,INDEX('Order Form'!$D:$D,ROW(D118)+9),\"\")","v":""},{"$f":"IF(INDEX('Order Form'!$E:$E,ROW(E118)+9)>0,INDEX('Order Form'!$E:$E,ROW(E118)+9),\"\")","v":""},{"$f":"IF(D118>\"\",IF('Order Form'!$B$7<>0,'Order Form'!$B$7,\"\"),\"\")","v":""},{"$f":"IF(D118<>\"\",IF('Order Form'!$B$4=\"\",\"\",'Order Form'!$B$4),\"\")","v":""},{"$f":"IF(D118<>\"\",IF('Order Form'!$B$5=\"\",\"\",'Order Form'!$B$5),\"\")","v":""},{"$f":"IF(D118<>\"\",IF('Order Form'!$B$6=\"\",\"\",'Order Form'!$B$6),\"\")","v":""}]
[{"$f":"IF(D119<>\"\",IF('Order Form'!$B$2=\"\",\"\",\"New Jersey\"),\"\")","v":""},{"$f":"IF(D119<>\"\",IF('Order Form'!$B$2=\"\",\"\",'Order Form'!$B$2),\"\")","v":""},{"$f":"IF(D119<>\"\",IF('Order Form'!$B$2=\"\",\"\",'Order Form'!$B$3),\"\")","v":""},{"$f":"IF(_xlfn.XLOOKUP(INDEX('Order Form'!$C:$C,ROW(D119)+9),lists!I:I,lists!C:C,\"\",0,1)=0,\"\",_xlfn.XLOOKUP(INDEX('Order Form'!$C:$C,ROW(D119)+9),lists!I:I,lists!C:C,\"\",0,1))","v":""},{"$f":"IF(INDEX('Order Form'!$D:$D,ROW(D119)+9)>0,INDEX('Order Form'!$D:$D,ROW(D119)+9),\"\")","v":""},{"$f":"IF(INDEX('Order Form'!$E:$E,ROW(E119)+9)>0,INDEX('Order Form'!$E:$E,ROW(E119)+9),\"\")","v":""},{"$f":"IF(D119>\"\",IF('Order Form'!$B$7<>0,'Order Form'!$B$7,\"\"),\"\")","v":""},{"$f":"IF(D119<>\"\",IF('Order Form'!$B$4=\"\",\"\",'Order Form'!$B$4),\"\")","v":""},{"$f":"IF(D119<>\"\",IF('Order Form'!$B$5=\"\",\"\",'Order Form'!$B$5),\"\")","v":""},{"$f":"IF(D119<>\"\",IF('Order Form'!$B$6=\"\",\"\",'Order Form'!$B$6),\"\")","v":""}]
[{"$f":"IF(D120<>\"\",IF('Order Form'!$B$2=\"\",\"\",\"New Jersey\"),\"\")","v":""},{"$f":"IF(D120<>\"\",IF('Order Form'!$B$2=\"\",\"\",'Order Form'!$B$2),\"\")","v":""},{"$f":"IF(D120<>\"\",IF('Order Form'!$B$2=\"\",\"\",'Order Form'!$B$3),\"\")","v":""},{"$f":"IF(_xlfn.XLOOKUP(INDEX('Order Form'!$C:$C,ROW(D120)+9),lists!I:I,lists!C:C,\"\",0,1)=0,\"\",_xlfn.XLOOKUP(INDEX('Order Form'!$C:$C,ROW(D120)+9),lists!I:I,lists!C:C,\"\",0,1))","v":""},{"$f":"IF(INDEX('Order Form'!$D:$D,ROW(D120)+9)>0,INDEX('Order Form'!$D:$D,ROW(D120)+9),\"\")","v":""},{"$f":"IF(INDEX('Order Form'!$E:$E,ROW(E120)+9)>0,INDEX('Order Form'!$E:$E,ROW(E120)+9),\"\")","v":""},{"$f":"IF(D120>\"\",IF('Order Form'!$B$7<>0,'Order Form'!$B$7,\"\"),\"\")","v":""},{"$f":"IF(D120<>\"\",IF('Order Form'!$B$4=\"\",\"\",'Order Form'!$B$4),\"\")","v":""},{"$f":"IF(D120<>\"\",IF('Order Form'!$B$5=\"\",\"\",'Order Form'!$B$5),\"\")","v":""},{"$f":"IF(D120<>\"\",IF('Order Form'!$B$6=\"\",\"\",'Order Form'!$B$6),\"\")","v":""}]
[{"$f":"IF(D121<>\"\",IF('Order Form'!$B$2=\"\",\"\",\"New Jersey\"),\"\")","v":""},{"$f":"IF(D121<>\"\",IF('Order Form'!$B$2=\"\",\"\",'Order Form'!$B$2),\"\")","v":""},{"$f":"IF(D121<>\"\",IF('Order Form'!$B$2=\"\",\"\",'Order Form'!$B$3),\"\")","v":""},{"$f":"IF(_xlfn.XLOOKUP(INDEX('Order Form'!$C:$C,ROW(D121)+9),lists!I:I,lists!C:C,\"\",0,1)=0,\"\",_xlfn.XLOOKUP(INDEX('Order Form'!$C:$C,ROW(D121)+9),lists!I:I,lists!C:C,\"\",0,1))","v":""},{"$f":"IF(INDEX('Order Form'!$D:$D,ROW(D121)+9)>0,INDEX('Order Form'!$D:$D,ROW(D121)+9),\"\")","v":""},{"$f":"IF(INDEX('Order Form'!$E:$E,ROW(E121)+9)>0,INDEX('Order Form'!$E:$E,ROW(E121)+9),\"\")","v":""},{"$f":"IF(D121>\"\",IF('Order Form'!$B$7<>0,'Order Form'!$B$7,\"\"),\"\")","v":""},{"$f":"IF(D121<>\"\",IF('Order Form'!$B$4=\"\",\"\",'Order Form'!$B$4),\"\")","v":""},{"$f":"IF(D121<>\"\",IF('Order Form'!$B$5=\"\",\"\",'Order Form'!$B$5),\"\")","v":""},{"$f":"IF(D121<>\"\",IF('Order Form'!$B$6=\"\",\"\",'Order Form'!$B$6),\"\")","v":""}]
[{"$f":"IF(D122<>\"\",IF('Order Form'!$B$2=\"\",\"\",\"New Jersey\"),\"\")","v":""},{"$f":"IF(D122<>\"\",IF('Order Form'!$B$2=\"\",\"\",'Order Form'!$B$2),\"\")","v":""},{"$f":"IF(D122<>\"\",IF('Order Form'!$B$2=\"\",\"\",'Order Form'!$B$3),\"\")","v":""},{"$f":"IF(_xlfn.XLOOKUP(INDEX('Order Form'!$C:$C,ROW(D122)+9),lists!I:I,lists!C:C,\"\",0,1)=0,\"\",_xlfn.XLOOKUP(INDEX('Order Form'!$C:$C,ROW(D122)+9),lists!I:I,lists!C:C,\"\",0,1))","v":""},{"$f":"IF(INDEX('Order Form'!$D:$D,ROW(D122)+9)>0,INDEX('Order Form'!$D:$D,ROW(D122)+9),\"\")","v":""},{"$f":"IF(INDEX('Order Form'!$E:$E,ROW(E122)+9)>0,INDEX('Order Form'!$E:$E,ROW(E122)+9),\"\")","v":""},{"$f":"IF(D122>\"\",IF('Order Form'!$B$7<>0,'Order Form'!$B$7,\"\"),\"\")","v":""},{"$f":"IF(D122<>\"\",IF('Order Form'!$B$4=\"\",\"\",'Order Form'!$B$4),\"\")","v":""},{"$f":"IF(D122<>\"\",IF('Order Form'!$B$5=\"\",\"\",'Order Form'!$B$5),\"\")","v":""},{"$f":"IF(D122<>\"\",IF('Order Form'!$B$6=\"\",\"\",'Order Form'!$B$6),\"\")","v":""}]
[{"$f":"IF(D123<>\"\",IF('Order Form'!$B$2=\"\",\"\",\"New Jersey\"),\"\")","v":""},{"$f":"IF(D123<>\"\",IF('Order Form'!$B$2=\"\",\"\",'Order Form'!$B$2),\"\")","v":""},{"$f":"IF(D123<>\"\",IF('Order Form'!$B$2=\"\",\"\",'Order Form'!$B$3),\"\")","v":""},{"$f":"IF(_xlfn.XLOOKUP(INDEX('Order Form'!$C:$C,ROW(D123)+9),lists!I:I,lists!C:C,\"\",0,1)=0,\"\",_xlfn.XLOOKUP(INDEX('Order Form'!$C:$C,ROW(D123)+9),lists!I:I,lists!C:C,\"\",0,1))","v":""},{"$f":"IF(INDEX('Order Form'!$D:$D,ROW(D123)+9)>0,INDEX('Order Form'!$D:$D,ROW(D123)+9),\"\")","v":""},{"$f":"IF(INDEX('Order Form'!$E:$E,ROW(E123)+9)>0,INDEX('Order Form'!$E:$E,ROW(E123)+9),\"\")","v":""},{"$f":"IF(D123>\"\",IF('Order Form'!$B$7<>0,'Order Form'!$B$7,\"\"),\"\")","v":""},{"$f":"IF(D123<>\"\",IF('Order Form'!$B$4=\"\",\"\",'Order Form'!$B$4),\"\")","v":""},{"$f":"IF(D123<>\"\",IF('Order Form'!$B$5=\"\",\"\",'Order Form'!$B$5),\"\")","v":""},{"$f":"IF(D123<>\"\",IF('Order Form'!$B$6=\"\",\"\",'Order Form'!$B$6),\"\")","v":""}]
[{"$f":"IF(D124<>\"\",IF('Order Form'!$B$2=\"\",\"\",\"New Jersey\"),\"\")","v":""},{"$f":"IF(D124<>\"\",IF('Order Form'!$B$2=\"\",\"\",'Order Form'!$B$2),\"\")","v":""},{"$f":"IF(D124<>\"\",IF('Order Form'!$B$2=\"\",\"\",'Order Form'!$B$3),\"\")","v":""},{"$f":"IF(_xlfn.XLOOKUP(INDEX('Order Form'!$C:$C,ROW(D124)+9),lists!I:I,lists!C:C,\"\",0,1)=0,\"\",_xlfn.XLOOKUP(INDEX('Order Form'!$C:$C,ROW(D124)+9),lists!I:I,lists!C:C,\"\",0,1))","v":""},{"$f":"IF(INDEX('Order Form'!$D:$D,ROW(D124)+9)>0,INDEX('Order Form'!$D:$D,ROW(D124)+9),\"\")","v":""},{"$f":"IF(INDEX('Order Form'!$E:$E,ROW(E124)+9)>0,INDEX('Order Form'!$E:$E,ROW(E124)+9),\"\")","v":""},{"$f":"IF(D124>\"\",IF('Order Form'!$B$7<>0,'Order Form'!$B$7,\"\"),\"\")","v":""},{"$f":"IF(D124<>\"\",IF('Order Form'!$B$4=\"\",\"\",'Order Form'!$B$4),\"\")","v":""},{"$f":"IF(D124<>\"\",IF('Order Form'!$B$5=\"\",\"\",'Order Form'!$B$5),\"\")","v":""},{"$f":"IF(D124<>\"\",IF('Order Form'!$B$6=\"\",\"\",'Order Form'!$B$6),\"\")","v":""}]
[{"$f":"IF(D125<>\"\",IF('Order Form'!$B$2=\"\",\"\",\"New Jersey\"),\"\")","v":""},{"$f":"IF(D125<>\"\",IF('Order Form'!$B$2=\"\",\"\",'Order Form'!$B$2),\"\")","v":""},{"$f":"IF(D125<>\"\",IF('Order Form'!$B$2=\"\",\"\",'Order Form'!$B$3),\"\")","v":""},{"$f":"IF(_xlfn.XLOOKUP(INDEX('Order Form'!$C:$C,ROW(D125)+9),lists!I:I,lists!C:C,\"\",0,1)=0,\"\",_xlfn.XLOOKUP(INDEX('Order Form'!$C:$C,ROW(D125)+9),lists!I:I,lists!C:C,\"\",0,1))","v":""},{"$f":"IF(INDEX('Order Form'!$D:$D,ROW(D125)+9)>0,INDEX('Order Form'!$D:$D,ROW(D125)+9),\"\")","v":""},{"$f":"IF(INDEX('Order Form'!$E:$E,ROW(E125)+9)>0,INDEX('Order Form'!$E:$E,ROW(E125)+9),\"\")","v":""},{"$f":"IF(D125>\"\",IF('Order Form'!$B$7<>0,'Order Form'!$B$7,\"\"),\"\")","v":""},{"$f":"IF(D125<>\"\",IF('Order Form'!$B$4=\"\",\"\",'Order Form'!$B$4),\"\")","v":""},{"$f":"IF(D125<>\"\",IF('Order Form'!$B$5=\"\",\"\",'Order Form'!$B$5),\"\")","v":""},{"$f":"IF(D125<>\"\",IF('Order Form'!$B$6=\"\",\"\",'Order Form'!$B$6),\"\")","v":""}]
[{"$f":"IF(D126<>\"\",IF('Order Form'!$B$2=\"\",\"\",\"New Jersey\"),\"\")","v":""},{"$f":"IF(D126<>\"\",IF('Order Form'!$B$2=\"\",\"\",'Order Form'!$B$2),\"\")","v":""},{"$f":"IF(D126<>\"\",IF('Order Form'!$B$2=\"\",\"\",'Order Form'!$B$3),\"\")","v":""},{"$f":"IF(_xlfn.XLOOKUP(INDEX('Order Form'!$C:$C,ROW(D126)+9),lists!I:I,lists!C:C,\"\",0,1)=0,\"\",_xlfn.XLOOKUP(INDEX('Order Form'!$C:$C,ROW(D126)+9),lists!I:I,lists!C:C,\"\",0,1))","v":""},{"$f":"IF(INDEX('Order Form'!$D:$D,ROW(D126)+9)>0,INDEX('Order Form'!$D:$D,ROW(D126)+9),\"\")","v":""},{"$f":"IF(INDEX('Order Form'!$E:$E,ROW(E126)+9)>0,INDEX('Order Form'!$E:$E,ROW(E126)+9),\"\")","v":""},{"$f":"IF(D126>\"\",IF('Order Form'!$B$7<>0,'Order Form'!$B$7,\"\"),\"\")","v":""},{"$f":"IF(D126<>\"\",IF('Order Form'!$B$4=\"\",\"\",'Order Form'!$B$4),\"\")","v":""},{"$f":"IF(D126<>\"\",IF('Order Form'!$B$5=\"\",\"\",'Order Form'!$B$5),\"\")","v":""},{"$f":"IF(D126<>\"\",IF('Order Form'!$B$6=\"\",\"\",'Order Form'!$B$6),\"\")","v":""}]
[{"$f":"IF(D127<>\"\",IF('Order Form'!$B$2=\"\",\"\",\"New Jersey\"),\"\")","v":""},{"$f":"IF(D127<>\"\",IF('Order Form'!$B$2=\"\",\"\",'Order Form'!$B$2),\"\")","v":""},{"$f":"IF(D127<>\"\",IF('Order Form'!$B$2=\"\",\"\",'Order Form'!$B$3),\"\")","v":""},{"$f":"IF(_xlfn.XLOOKUP(INDEX('Order Form'!$C:$C,ROW(D127)+9),lists!I:I,lists!C:C,\"\",0,1)=0,\"\",_xlfn.XLOOKUP(INDEX('Order Form'!$C:$C,ROW(D127)+9),lists!I:I,lists!C:C,\"\",0,1))","v":""},{"$f":"IF(INDEX('Order Form'!$D:$D,ROW(D127)+9)>0,INDEX('Order Form'!$D:$D,ROW(D127)+9),\"\")","v":""},{"$f":"IF(INDEX('Order Form'!$E:$E,ROW(E127)+9)>0,INDEX('Order Form'!$E:$E,ROW(E127)+9),\"\")","v":""},{"$f":"IF(D127>\"\",IF('Order Form'!$B$7<>0,'Order Form'!$B$7,\"\"),\"\")","v":""},{"$f":"IF(D127<>\"\",IF('Order Form'!$B$4=\"\",\"\",'Order Form'!$B$4),\"\")","v":""},{"$f":"IF(D127<>\"\",IF('Order Form'!$B$5=\"\",\"\",'Order Form'!$B$5),\"\")","v":""},{"$f":"IF(D127<>\"\",IF('Order Form'!$B$6=\"\",\"\",'Order Form'!$B$6),\"\")","v":""}]
[{"$f":"IF(D128<>\"\",IF('Order Form'!$B$2=\"\",\"\",\"New Jersey\"),\"\")","v":""},{"$f":"IF(D128<>\"\",IF('Order Form'!$B$2=\"\",\"\",'Order Form'!$B$2),\"\")","v":""},{"$f":"IF(D128<>\"\",IF('Order Form'!$B$2=\"\",\"\",'Order Form'!$B$3),\"\")","v":""},{"$f":"IF(_xlfn.XLOOKUP(INDEX('Order Form'!$C:$C,ROW(D128)+9),lists!I:I,lists!C:C,\"\",0,1)=0,\"\",_xlfn.XLOOKUP(INDEX('Order Form'!$C:$C,ROW(D128)+9),lists!I:I,lists!C:C,\"\",0,1))","v":""},{"$f":"IF(INDEX('Order Form'!$D:$D,ROW(D128)+9)>0,INDEX('Order Form'!$D:$D,ROW(D128)+9),\"\")","v":""},{"$f":"IF(INDEX('Order Form'!$E:$E,ROW(E128)+9)>0,INDEX('Order Form'!$E:$E,ROW(E128)+9),\"\")","v":""},{"$f":"IF(D128>\"\",IF('Order Form'!$B$7<>0,'Order Form'!$B$7,\"\"),\"\")","v":""},{"$f":"IF(D128<>\"\",IF('Order Form'!$B$4=\"\",\"\",'Order Form'!$B$4),\"\")","v":""},{"$f":"IF(D128<>\"\",IF('Order Form'!$B$5=\"\",\"\",'Order Form'!$B$5),\"\")","v":""},{"$f":"IF(D128<>\"\",IF('Order Form'!$B$6=\"\",\"\",'Order Form'!$B$6),\"\")","v":""}]
[{"$f":"IF(D129<>\"\",IF('Order Form'!$B$2=\"\",\"\",\"New Jersey\"),\"\")","v":""},{"$f":"IF(D129<>\"\",IF('Order Form'!$B$2=\"\",\"\",'Order Form'!$B$2),\"\")","v":""},{"$f":"IF(D129<>\"\",IF('Order Form'!$B$2=\"\",\"\",'Order Form'!$B$3),\"\")","v":""},{"$f":"IF(_xlfn.XLOOKUP(INDEX('Order Form'!$C:$C,ROW(D129)+9),lists!I:I,lists!C:C,\"\",0,1)=0,\"\",_xlfn.XLOOKUP(INDEX('Order Form'!$C:$C,ROW(D129)+9),lists!I:I,lists!C:C,\"\",0,1))","v":""},{"$f":"IF(INDEX('Order Form'!$D:$D,ROW(D129)+9)>0,INDEX('Order Form'!$D:$D,ROW(D129)+9),\"\")","v":""},{"$f":"IF(INDEX('Order Form'!$E:$E,ROW(E129)+9)>0,INDEX('Order Form'!$E:$E,ROW(E129)+9),\"\")","v":""},{"$f":"IF(D129>\"\",IF('Order Form'!$B$7<>0,'Order Form'!$B$7,\"\"),\"\")","v":""},{"$f":"IF(D129<>\"\",IF('Order Form'!$B$4=\"\",\"\",'Order Form'!$B$4),\"\")","v":""},{"$f":"IF(D129<>\"\",IF('Order Form'!$B$5=\"\",\"\",'Order Form'!$B$5),\"\")","v":""},{"$f":"IF(D129<>\"\",IF('Order Form'!$B$6=\"\",\"\",'Order Form'!$B$6),\"\")","v":""}]
[{"$f":"IF(D130<>\"\",IF('Order Form'!$B$2=\"\",\"\",\"New Jersey\"),\"\")","v":""},{"$f":"IF(D130<>\"\",IF('Order Form'!$B$2=\"\",\"\",'Order Form'!$B$2),\"\")","v":""},{"$f":"IF(D130<>\"\",IF('Order Form'!$B$2=\"\",\"\",'Order Form'!$B$3),\"\")","v":""},{"$f":"IF(_xlfn.XLOOKUP(INDEX('Order Form'!$C:$C,ROW(D130)+9),lists!I:I,lists!C:C,\"\",0,1)=0,\"\",_xlfn.XLOOKUP(INDEX('Order Form'!$C:$C,ROW(D130)+9),lists!I:I,lists!C:C,\"\",0,1))","v":""},{"$f":"IF(INDEX('Order Form'!$D:$D,ROW(D130)+9)>0,INDEX('Order Form'!$D:$D,ROW(D130)+9),\"\")","v":""},{"$f":"IF(INDEX('Order Form'!$E:$E,ROW(E130)+9)>0,INDEX('Order Form'!$E:$E,ROW(E130)+9),\"\")","v":""},{"$f":"IF(D130>\"\",IF('Order Form'!$B$7<>0,'Order Form'!$B$7,\"\"),\"\")","v":""},{"$f":"IF(D130<>\"\",IF('Order Form'!$B$4=\"\",\"\",'Order Form'!$B$4),\"\")","v":""},{"$f":"IF(D130<>\"\",IF('Order Form'!$B$5=\"\",\"\",'Order Form'!$B$5),\"\")","v":""},{"$f":"IF(D130<>\"\",IF('Order Form'!$B$6=\"\",\"\",'Order Form'!$B$6),\"\")","v":""}]
[{"$f":"IF(D131<>\"\",IF('Order Form'!$B$2=\"\",\"\",\"New Jersey\"),\"\")","v":""},{"$f":"IF(D131<>\"\",IF('Order Form'!$B$2=\"\",\"\",'Order Form'!$B$2),\"\")","v":""},{"$f":"IF(D131<>\"\",IF('Order Form'!$B$2=\"\",\"\",'Order Form'!$B$3),\"\")","v":""},{"$f":"IF(_xlfn.XLOOKUP(INDEX('Order Form'!$C:$C,ROW(D131)+9),lists!I:I,lists!C:C,\"\",0,1)=0,\"\",_xlfn.XLOOKUP(INDEX('Order Form'!$C:$C,ROW(D131)+9),lists!I:I,lists!C:C,\"\",0,1))","v":""},{"$f":"IF(INDEX('Order Form'!$D:$D,ROW(D131)+9)>0,INDEX('Order Form'!$D:$D,ROW(D131)+9),\"\")","v":""},{"$f":"IF(INDEX('Order Form'!$E:$E,ROW(E131)+9)>0,INDEX('Order Form'!$E:$E,ROW(E131)+9),\"\")","v":""},{"$f":"IF(D131>\"\",IF('Order Form'!$B$7<>0,'Order Form'!$B$7,\"\"),\"\")","v":""},{"$f":"IF(D131<>\"\",IF('Order Form'!$B$4=\"\",\"\",'Order Form'!$B$4),\"\")","v":""},{"$f":"IF(D131<>\"\",IF('Order Form'!$B$5=\"\",\"\",'Order Form'!$B$5),\"\")","v":""},{"$f":"IF(D131<>\"\",IF('Order Form'!$B$6=\"\",\"\",'Order Form'!$B$6),\"\")","v":""}]
[{"$f":"IF(D132<>\"\",IF('Order Form'!$B$2=\"\",\"\",\"New Jersey\"),\"\")","v":""},{"$f":"IF(D132<>\"\",IF('Order Form'!$B$2=\"\",\"\",'Order Form'!$B$2),\"\")","v":""},{"$f":"IF(D132<>\"\",IF('Order Form'!$B$2=\"\",\"\",'Order Form'!$B$3),\"\")","v":""},{"$f":"IF(_xlfn.XLOOKUP(INDEX('Order Form'!$C:$C,ROW(D132)+9),lists!I:I,lists!C:C,\"\",0,1)=0,\"\",_xlfn.XLOOKUP(INDEX('Order Form'!$C:$C,ROW(D132)+9),lists!I:I,lists!C:C,\"\",0,1))","v":""},{"$f":"IF(INDEX('Order Form'!$D:$D,ROW(D132)+9)>0,INDEX('Order Form'!$D:$D,ROW(D132)+9),\"\")","v":""},{"$f":"IF(INDEX('Order Form'!$E:$E,ROW(E132)+9)>0,INDEX('Order Form'!$E:$E,ROW(E132)+9),\"\")","v":""},{"$f":"IF(D132>\"\",IF('Order Form'!$B$7<>0,'Order Form'!$B$7,\"\"),\"\")","v":""},{"$f":"IF(D132<>\"\",IF('Order Form'!$B$4=\"\",\"\",'Order Form'!$B$4),\"\")","v":""},{"$f":"IF(D132<>\"\",IF('Order Form'!$B$5=\"\",\"\",'Order Form'!$B$5),\"\")","v":""},{"$f":"IF(D132<>\"\",IF('Order Form'!$B$6=\"\",\"\",'Order Form'!$B$6),\"\")","v":""}]
[{"$f":"IF(D133<>\"\",IF('Order Form'!$B$2=\"\",\"\",\"New Jersey\"),\"\")","v":""},{"$f":"IF(D133<>\"\",IF('Order Form'!$B$2=\"\",\"\",'Order Form'!$B$2),\"\")","v":""},{"$f":"IF(D133<>\"\",IF('Order Form'!$B$2=\"\",\"\",'Order Form'!$B$3),\"\")","v":""},{"$f":"IF(_xlfn.XLOOKUP(INDEX('Order Form'!$C:$C,ROW(D133)+9),lists!I:I,lists!C:C,\"\",0,1)=0,\"\",_xlfn.XLOOKUP(INDEX('Order Form'!$C:$C,ROW(D133)+9),lists!I:I,lists!C:C,\"\",0,1))","v":""},{"$f":"IF(INDEX('Order Form'!$D:$D,ROW(D133)+9)>0,INDEX('Order Form'!$D:$D,ROW(D133)+9),\"\")","v":""},{"$f":"IF(INDEX('Order Form'!$E:$E,ROW(E133)+9)>0,INDEX('Order Form'!$E:$E,ROW(E133)+9),\"\")","v":""},{"$f":"IF(D133>\"\",IF('Order Form'!$B$7<>0,'Order Form'!$B$7,\"\"),\"\")","v":""},{"$f":"IF(D133<>\"\",IF('Order Form'!$B$4=\"\",\"\",'Order Form'!$B$4),\"\")","v":""},{"$f":"IF(D133<>\"\",IF('Order Form'!$B$5=\"\",\"\",'Order Form'!$B$5),\"\")","v":""},{"$f":"IF(D133<>\"\",IF('Order Form'!$B$6=\"\",\"\",'Order Form'!$B$6),\"\")","v":""}]
[{"$f":"IF(D134<>\"\",IF('Order Form'!$B$2=\"\",\"\",\"New Jersey\"),\"\")","v":""},{"$f":"IF(D134<>\"\",IF('Order Form'!$B$2=\"\",\"\",'Order Form'!$B$2),\"\")","v":""},{"$f":"IF(D134<>\"\",IF('Order Form'!$B$2=\"\",\"\",'Order Form'!$B$3),\"\")","v":""},{"$f":"IF(_xlfn.XLOOKUP(INDEX('Order Form'!$C:$C,ROW(D134)+9),lists!I:I,lists!C:C,\"\",0,1)=0,\"\",_xlfn.XLOOKUP(INDEX('Order Form'!$C:$C,ROW(D134)+9),lists!I:I,lists!C:C,\"\",0,1))","v":""},{"$f":"IF(INDEX('Order Form'!$D:$D,ROW(D134)+9)>0,INDEX('Order Form'!$D:$D,ROW(D134)+9),\"\")","v":""},{"$f":"IF(INDEX('Order Form'!$E:$E,ROW(E134)+9)>0,INDEX('Order Form'!$E:$E,ROW(E134)+9),\"\")","v":""},{"$f":"IF(D134>\"\",IF('Order Form'!$B$7<>0,'Order Form'!$B$7,\"\"),\"\")","v":""},{"$f":"IF(D134<>\"\",IF('Order Form'!$B$4=\"\",\"\",'Order Form'!$B$4),\"\")","v":""},{"$f":"IF(D134<>\"\",IF('Order Form'!$B$5=\"\",\"\",'Order Form'!$B$5),\"\")","v":""},{"$f":"IF(D134<>\"\",IF('Order Form'!$B$6=\"\",\"\",'Order Form'!$B$6),\"\")","v":""}]
[{"$f":"IF(D135<>\"\",IF('Order Form'!$B$2=\"\",\"\",\"New Jersey\"),\"\")","v":""},{"$f":"IF(D135<>\"\",IF('Order Form'!$B$2=\"\",\"\",'Order Form'!$B$2),\"\")","v":""},{"$f":"IF(D135<>\"\",IF('Order Form'!$B$2=\"\",\"\",'Order Form'!$B$3),\"\")","v":""},{"$f":"IF(_xlfn.XLOOKUP(INDEX('Order Form'!$C:$C,ROW(D135)+9),lists!I:I,lists!C:C,\"\",0,1)=0,\"\",_xlfn.XLOOKUP(INDEX('Order Form'!$C:$C,ROW(D135)+9),lists!I:I,lists!C:C,\"\",0,1))","v":""},{"$f":"IF(INDEX('Order Form'!$D:$D,ROW(D135)+9)>0,INDEX('Order Form'!$D:$D,ROW(D135)+9),\"\")","v":""},{"$f":"IF(INDEX('Order Form'!$E:$E,ROW(E135)+9)>0,INDEX('Order Form'!$E:$E,ROW(E135)+9),\"\")","v":""},{"$f":"IF(D135>\"\",IF('Order Form'!$B$7<>0,'Order Form'!$B$7,\"\"),\"\")","v":""},{"$f":"IF(D135<>\"\",IF('Order Form'!$B$4=\"\",\"\",'Order Form'!$B$4),\"\")","v":""},{"$f":"IF(D135<>\"\",IF('Order Form'!$B$5=\"\",\"\",'Order Form'!$B$5),\"\")","v":""},{"$f":"IF(D135<>\"\",IF('Order Form'!$B$6=\"\",\"\",'Order Form'!$B$6),\"\")","v":""}]
[{"$f":"IF(D136<>\"\",IF('Order Form'!$B$2=\"\",\"\",\"New Jersey\"),\"\")","v":""},{"$f":"IF(D136<>\"\",IF('Order Form'!$B$2=\"\",\"\",'Order Form'!$B$2),\"\")","v":""},{"$f":"IF(D136<>\"\",IF('Order Form'!$B$2=\"\",\"\",'Order Form'!$B$3),\"\")","v":""},{"$f":"IF(_xlfn.XLOOKUP(INDEX('Order Form'!$C:$C,ROW(D136)+9),lists!I:I,lists!C:C,\"\",0,1)=0,\"\",_xlfn.XLOOKUP(INDEX('Order Form'!$C:$C,ROW(D136)+9),lists!I:I,lists!C:C,\"\",0,1))","v":""},{"$f":"IF(INDEX('Order Form'!$D:$D,ROW(D136)+9)>0,INDEX('Order Form'!$D:$D,ROW(D136)+9),\"\")","v":""},{"$f":"IF(INDEX('Order Form'!$E:$E,ROW(E136)+9)>0,INDEX('Order Form'!$E:$E,ROW(E136)+9),\"\")","v":""},{"$f":"IF(D136>\"\",IF('Order Form'!$B$7<>0,'Order Form'!$B$7,\"\"),\"\")","v":""},{"$f":"IF(D136<>\"\",IF('Order Form'!$B$4=\"\",\"\",'Order Form'!$B$4),\"\")","v":""},{"$f":"IF(D136<>\"\",IF('Order Form'!$B$5=\"\",\"\",'Order Form'!$B$5),\"\")","v":""},{"$f":"IF(D136<>\"\",IF('Order Form'!$B$6=\"\",\"\",'Order Form'!$B$6),\"\")","v":""}]
[{"$f":"IF(D137<>\"\",IF('Order Form'!$B$2=\"\",\"\",\"New Jersey\"),\"\")","v":""},{"$f":"IF(D137<>\"\",IF('Order Form'!$B$2=\"\",\"\",'Order Form'!$B$2),\"\")","v":""},{"$f":"IF(D137<>\"\",IF('Order Form'!$B$2=\"\",\"\",'Order Form'!$B$3),\"\")","v":""},{"$f":"IF(_xlfn.XLOOKUP(INDEX('Order Form'!$C:$C,ROW(D137)+9),lists!I:I,lists!C:C,\"\",0,1)=0,\"\",_xlfn.XLOOKUP(INDEX('Order Form'!$C:$C,ROW(D137)+9),lists!I:I,lists!C:C,\"\",0,1))","v":""},{"$f":"IF(INDEX('Order Form'!$D:$D,ROW(D137)+9)>0,INDEX('Order Form'!$D:$D,ROW(D137)+9),\"\")","v":""},{"$f":"IF(INDEX('Order Form'!$E:$E,ROW(E137)+9)>0,INDEX('Order Form'!$E:$E,ROW(E137)+9),\"\")","v":""},{"$f":"IF(D137>\"\",IF('Order Form'!$B$7<>0,'Order Form'!$B$7,\"\"),\"\")","v":""},{"$f":"IF(D137<>\"\",IF('Order Form'!$B$4=\"\",\"\",'Order Form'!$B$4),\"\")","v":""},{"$f":"IF(D137<>\"\",IF('Order Form'!$B$5=\"\",\"\",'Order Form'!$B$5),\"\")","v":""},{"$f":"IF(D137<>\"\",IF('Order Form'!$B$6=\"\",\"\",'Order Form'!$B$6),\"\")","v":""}]
[{"$f":"IF(D138<>\"\",IF('Order Form'!$B$2=\"\",\"\",\"New Jersey\"),\"\")","v":""},{"$f":"IF(D138<>\"\",IF('Order Form'!$B$2=\"\",\"\",'Order Form'!$B$2),\"\")","v":""},{"$f":"IF(D138<>\"\",IF('Order Form'!$B$2=\"\",\"\",'Order Form'!$B$3),\"\")","v":""},{"$f":"IF(_xlfn.XLOOKUP(INDEX('Order Form'!$C:$C,ROW(D138)+9),lists!I:I,lists!C:C,\"\",0,1)=0,\"\",_xlfn.XLOOKUP(INDEX('Order Form'!$C:$C,ROW(D138)+9),lists!I:I,lists!C:C,\"\",0,1))","v":""},{"$f":"IF(INDEX('Order Form'!$D:$D,ROW(D138)+9)>0,INDEX('Order Form'!$D:$D,ROW(D138)+9),\"\")","v":""},{"$f":"IF(INDEX('Order Form'!$E:$E,ROW(E138)+9)>0,INDEX('Order Form'!$E:$E,ROW(E138)+9),\"\")","v":""},{"$f":"IF(D138>\"\",IF('Order Form'!$B$7<>0,'Order Form'!$B$7,\"\"),\"\")","v":""},{"$f":"IF(D138<>\"\",IF('Order Form'!$B$4=\"\",\"\",'Order Form'!$B$4),\"\")","v":""},{"$f":"IF(D138<>\"\",IF('Order Form'!$B$5=\"\",\"\",'Order Form'!$B$5),\"\")","v":""},{"$f":"IF(D138<>\"\",IF('Order Form'!$B$6=\"\",\"\",'Order Form'!$B$6),\"\")","v":""}]
[{"$f":"IF(D139<>\"\",IF('Order Form'!$B$2=\"\",\"\",\"New Jersey\"),\"\")","v":""},{"$f":"IF(D139<>\"\",IF('Order Form'!$B$2=\"\",\"\",'Order Form'!$B$2),\"\")","v":""},{"$f":"IF(D139<>\"\",IF('Order Form'!$B$2=\"\",\"\",'Order Form'!$B$3),\"\")","v":""},{"$f":"IF(_xlfn.XLOOKUP(INDEX('Order Form'!$C:$C,ROW(D139)+9),lists!I:I,lists!C:C,\"\",0,1)=0,\"\",_xlfn.XLOOKUP(INDEX('Order Form'!$C:$C,ROW(D139)+9),lists!I:I,lists!C:C,\"\",0,1))","v":""},{"$f":"IF(INDEX('Order Form'!$D:$D,ROW(D139)+9)>0,INDEX('Order Form'!$D:$D,ROW(D139)+9),\"\")","v":""},{"$f":"IF(INDEX('Order Form'!$E:$E,ROW(E139)+9)>0,INDEX('Order Form'!$E:$E,ROW(E139)+9),\"\")","v":""},{"$f":"IF(D139>\"\",IF('Order Form'!$B$7<>0,'Order Form'!$B$7,\"\"),\"\")","v":""},{"$f":"IF(D139<>\"\",IF('Order Form'!$B$4=\"\",\"\",'Order Form'!$B$4),\"\")","v":""},{"$f":"IF(D139<>\"\",IF('Order Form'!$B$5=\"\",\"\",'Order Form'!$B$5),\"\")","v":""},{"$f":"IF(D139<>\"\",IF('Order Form'!$B$6=\"\",\"\",'Order Form'!$B$6),\"\")","v":""}]
[{"$f":"IF(D140<>\"\",IF('Order Form'!$B$2=\"\",\"\",\"New Jersey\"),\"\")","v":""},{"$f":"IF(D140<>\"\",IF('Order Form'!$B$2=\"\",\"\",'Order Form'!$B$2),\"\")","v":""},{"$f":"IF(D140<>\"\",IF('Order Form'!$B$2=\"\",\"\",'Order Form'!$B$3),\"\")","v":""},{"$f":"IF(_xlfn.XLOOKUP(INDEX('Order Form'!$C:$C,ROW(D140)+9),lists!I:I,lists!C:C,\"\",0,1)=0,\"\",_xlfn.XLOOKUP(INDEX('Order Form'!$C:$C,ROW(D140)+9),lists!I:I,lists!C:C,\"\",0,1))","v":""},{"$f":"IF(INDEX('Order Form'!$D:$D,ROW(D140)+9)>0,INDEX('Order Form'!$D:$D,ROW(D140)+9),\"\")","v":""},{"$f":"IF(INDEX('Order Form'!$E:$E,ROW(E140)+9)>0,INDEX('Order Form'!$E:$E,ROW(E140)+9),\"\")","v":""},{"$f":"IF(D140>\"\",IF('Order Form'!$B$7<>0,'Order Form'!$B$7,\"\"),\"\")","v":""},{"$f":"IF(D140<>\"\",IF('Order Form'!$B$4=\"\",\"\",'Order Form'!$B$4),\"\")","v":""},{"$f":"IF(D140<>\"\",IF('Order Form'!$B$5=\"\",\"\",'Order Form'!$B$5),\"\")","v":""},{"$f":"IF(D140<>\"\",IF('Order Form'!$B$6=\"\",\"\",'Order Form'!$B$6),\"\")","v":""}]
[{"$f":"IF(D141<>\"\",IF('Order Form'!$B$2=\"\",\"\",\"New Jersey\"),\"\")","v":""},{"$f":"IF(D141<>\"\",IF('Order Form'!$B$2=\"\",\"\",'Order Form'!$B$2),\"\")","v":""},{"$f":"IF(D141<>\"\",IF('Order Form'!$B$2=\"\",\"\",'Order Form'!$B$3),\"\")","v":""},{"$f":"IF(_xlfn.XLOOKUP(INDEX('Order Form'!$C:$C,ROW(D141)+9),lists!I:I,lists!C:C,\"\",0,1)=0,\"\",_xlfn.XLOOKUP(INDEX('Order Form'!$C:$C,ROW(D141)+9),lists!I:I,lists!C:C,\"\",0,1))","v":""},{"$f":"IF(INDEX('Order Form'!$D:$D,ROW(D141)+9)>0,INDEX('Order Form'!$D:$D,ROW(D141)+9),\"\")","v":""},{"$f":"IF(INDEX('Order Form'!$E:$E,ROW(E141)+9)>0,INDEX('Order Form'!$E:$E,ROW(E141)+9),\"\")","v":""},{"$f":"IF(D141>\"\",IF('Order Form'!$B$7<>0,'Order Form'!$B$7,\"\"),\"\")","v":""},{"$f":"IF(D141<>\"\",IF('Order Form'!$B$4=\"\",\"\",'Order Form'!$B$4),\"\")","v":""},{"$f":"IF(D141<>\"\",IF('Order Form'!$B$5=\"\",\"\",'Order Form'!$B$5),\"\")","v":""},{"$f":"IF(D141<>\"\",IF('Order Form'!$B$6=\"\",\"\",'Order Form'!$B$6),\"\")","v":""}]
[{"$f":"IF(D142<>\"\",IF('Order Form'!$B$2=\"\",\"\",\"New Jersey\"),\"\")","v":""},{"$f":"IF(D142<>\"\",IF('Order Form'!$B$2=\"\",\"\",'Order Form'!$B$2),\"\")","v":""},{"$f":"IF(D142<>\"\",IF('Order Form'!$B$2=\"\",\"\",'Order Form'!$B$3),\"\")","v":""},{"$f":"IF(_xlfn.XLOOKUP(INDEX('Order Form'!$C:$C,ROW(D142)+9),lists!I:I,lists!C:C,\"\",0,1)=0,\"\",_xlfn.XLOOKUP(INDEX('Order Form'!$C:$C,ROW(D142)+9),lists!I:I,lists!C:C,\"\",0,1))","v":""},{"$f":"IF(INDEX('Order Form'!$D:$D,ROW(D142)+9)>0,INDEX('Order Form'!$D:$D,ROW(D142)+9),\"\")","v":""},{"$f":"IF(INDEX('Order Form'!$E:$E,ROW(E142)+9)>0,INDEX('Order Form'!$E:$E,ROW(E142)+9),\"\")","v":""},{"$f":"IF(D142>\"\",IF('Order Form'!$B$7<>0,'Order Form'!$B$7,\"\"),\"\")","v":""},{"$f":"IF(D142<>\"\",IF('Order Form'!$B$4=\"\",\"\",'Order Form'!$B$4),\"\")","v":""},{"$f":"IF(D142<>\"\",IF('Order Form'!$B$5=\"\",\"\",'Order Form'!$B$5),\"\")","v":""},{"$f":"IF(D142<>\"\",IF('Order Form'!$B$6=\"\",\"\",'Order Form'!$B$6),\"\")","v":""}]
[{"$f":"IF(D143<>\"\",IF('Order Form'!$B$2=\"\",\"\",\"New Jersey\"),\"\")","v":""},{"$f":"IF(D143<>\"\",IF('Order Form'!$B$2=\"\",\"\",'Order Form'!$B$2),\"\")","v":""},{"$f":"IF(D143<>\"\",IF('Order Form'!$B$2=\"\",\"\",'Order Form'!$B$3),\"\")","v":""},{"$f":"IF(_xlfn.XLOOKUP(INDEX('Order Form'!$C:$C,ROW(D143)+9),lists!I:I,lists!C:C,\"\",0,1)=0,\"\",_xlfn.XLOOKUP(INDEX('Order Form'!$C:$C,ROW(D143)+9),lists!I:I,lists!C:C,\"\",0,1))","v":""},{"$f":"IF(INDEX('Order Form'!$D:$D,ROW(D143)+9)>0,INDEX('Order Form'!$D:$D,ROW(D143)+9),\"\")","v":""},{"$f":"IF(INDEX('Order Form'!$E:$E,ROW(E143)+9)>0,INDEX('Order Form'!$E:$E,ROW(E143)+9),\"\")","v":""},{"$f":"IF(D143>\"\",IF('Order Form'!$B$7<>0,'Order Form'!$B$7,\"\"),\"\")","v":""},{"$f":"IF(D143<>\"\",IF('Order Form'!$B$4=\"\",\"\",'Order Form'!$B$4),\"\")","v":""},{"$f":"IF(D143<>\"\",IF('Order Form'!$B$5=\"\",\"\",'Order Form'!$B$5),\"\")","v":""},{"$f":"IF(D143<>\"\",IF('Order Form'!$B$6=\"\",\"\",'Order Form'!$B$6),\"\")","v":""}]
[{"$f":"IF(D144<>\"\",IF('Order Form'!$B$2=\"\",\"\",\"New Jersey\"),\"\")","v":""},{"$f":"IF(D144<>\"\",IF('Order Form'!$B$2=\"\",\"\",'Order Form'!$B$2),\"\")","v":""},{"$f":"IF(D144<>\"\",IF('Order Form'!$B$2=\"\",\"\",'Order Form'!$B$3),\"\")","v":""},{"$f":"IF(_xlfn.XLOOKUP(INDEX('Order Form'!$C:$C,ROW(D144)+9),lists!I:I,lists!C:C,\"\",0,1)=0,\"\",_xlfn.XLOOKUP(INDEX('Order Form'!$C:$C,ROW(D144)+9),lists!I:I,lists!C:C,\"\",0,1))","v":""},{"$f":"IF(INDEX('Order Form'!$D:$D,ROW(D144)+9)>0,INDEX('Order Form'!$D:$D,ROW(D144)+9),\"\")","v":""},{"$f":"IF(INDEX('Order Form'!$E:$E,ROW(E144)+9)>0,INDEX('Order Form'!$E:$E,ROW(E144)+9),\"\")","v":""},{"$f":"IF(D144>\"\",IF('Order Form'!$B$7<>0,'Order Form'!$B$7,\"\"),\"\")","v":""},{"$f":"IF(D144<>\"\",IF('Order Form'!$B$4=\"\",\"\",'Order Form'!$B$4),\"\")","v":""},{"$f":"IF(D144<>\"\",IF('Order Form'!$B$5=\"\",\"\",'Order Form'!$B$5),\"\")","v":""},{"$f":"IF(D144<>\"\",IF('Order Form'!$B$6=\"\",\"\",'Order Form'!$B$6),\"\")","v":""}]
[{"$f":"IF(D145<>\"\",IF('Order Form'!$B$2=\"\",\"\",\"New Jersey\"),\"\")","v":""},{"$f":"IF(D145<>\"\",IF('Order Form'!$B$2=\"\",\"\",'Order Form'!$B$2),\"\")","v":""},{"$f":"IF(D145<>\"\",IF('Order Form'!$B$2=\"\",\"\",'Order Form'!$B$3),\"\")","v":""},{"$f":"IF(_xlfn.XLOOKUP(INDEX('Order Form'!$C:$C,ROW(D145)+9),lists!I:I,lists!C:C,\"\",0,1)=0,\"\",_xlfn.XLOOKUP(INDEX('Order Form'!$C:$C,ROW(D145)+9),lists!I:I,lists!C:C,\"\",0,1))","v":""},{"$f":"IF(INDEX('Order Form'!$D:$D,ROW(D145)+9)>0,INDEX('Order Form'!$D:$D,ROW(D145)+9),\"\")","v":""},{"$f":"IF(INDEX('Order Form'!$E:$E,ROW(E145)+9)>0,INDEX('Order Form'!$E:$E,ROW(E145)+9),\"\")","v":""},{"$f":"IF(D145>\"\",IF('Order Form'!$B$7<>0,'Order Form'!$B$7,\"\"),\"\")","v":""},{"$f":"IF(D145<>\"\",IF('Order Form'!$B$4=\"\",\"\",'Order Form'!$B$4),\"\")","v":""},{"$f":"IF(D145<>\"\",IF('Order Form'!$B$5=\"\",\"\",'Order Form'!$B$5),\"\")","v":""},{"$f":"IF(D145<>\"\",IF('Order Form'!$B$6=\"\",\"\",'Order Form'!$B$6),\"\")","v":""}]
[{"$f":"IF(D146<>\"\",IF('Order Form'!$B$2=\"\",\"\",\"New Jersey\"),\"\")","v":""},{"$f":"IF(D146<>\"\",IF('Order Form'!$B$2=\"\",\"\",'Order Form'!$B$2),\"\")","v":""},{"$f":"IF(D146<>\"\",IF('Order Form'!$B$2=\"\",\"\",'Order Form'!$B$3),\"\")","v":""},{"$f":"IF(_xlfn.XLOOKUP(INDEX('Order Form'!$C:$C,ROW(D146)+9),lists!I:I,lists!C:C,\"\",0,1)=0,\"\",_xlfn.XLOOKUP(INDEX('Order Form'!$C:$C,ROW(D146)+9),lists!I:I,lists!C:C,\"\",0,1))","v":""},{"$f":"IF(INDEX('Order Form'!$D:$D,ROW(D146)+9)>0,INDEX('Order Form'!$D:$D,ROW(D146)+9),\"\")","v":""},{"$f":"IF(INDEX('Order Form'!$E:$E,ROW(E146)+9)>0,INDEX('Order Form'!$E:$E,ROW(E146)+9),\"\")","v":""},{"$f":"IF(D146>\"\",IF('Order Form'!$B$7<>0,'Order Form'!$B$7,\"\"),\"\")","v":""},{"$f":"IF(D146<>\"\",IF('Order Form'!$B$4=\"\",\"\",'Order Form'!$B$4),\"\")","v":""},{"$f":"IF(D146<>\"\",IF('Order Form'!$B$5=\"\",\"\",'Order Form'!$B$5),\"\")","v":""},{"$f":"IF(D146<>\"\",IF('Order Form'!$B$6=\"\",\"\",'Order Form'!$B$6),\"\")","v":""}]
[{"$f":"IF(D147<>\"\",IF('Order Form'!$B$2=\"\",\"\",\"New Jersey\"),\"\")","v":""},{"$f":"IF(D147<>\"\",IF('Order Form'!$B$2=\"\",\"\",'Order Form'!$B$2),\"\")","v":""},{"$f":"IF(D147<>\"\",IF('Order Form'!$B$2=\"\",\"\",'Order Form'!$B$3),\"\")","v":""},{"$f":"IF(_xlfn.XLOOKUP(INDEX('Order Form'!$C:$C,ROW(D147)+9),lists!I:I,lists!C:C,\"\",0,1)=0,\"\",_xlfn.XLOOKUP(INDEX('Order Form'!$C:$C,ROW(D147)+9),lists!I:I,lists!C:C,\"\",0,1))","v":""},{"$f":"IF(INDEX('Order Form'!$D:$D,ROW(D147)+9)>0,INDEX('Order Form'!$D:$D,ROW(D147)+9),\"\")","v":""},{"$f":"IF(INDEX('Order Form'!$E:$E,ROW(E147)+9)>0,INDEX('Order Form'!$E:$E,ROW(E147)+9),\"\")","v":""},{"$f":"IF(D147>\"\",IF('Order Form'!$B$7<>0,'Order Form'!$B$7,\"\"),\"\")","v":""},{"$f":"IF(D147<>\"\",IF('Order Form'!$B$4=\"\",\"\",'Order Form'!$B$4),\"\")","v":""},{"$f":"IF(D147<>\"\",IF('Order Form'!$B$5=\"\",\"\",'Order Form'!$B$5),\"\")","v":""},{"$f":"IF(D147<>\"\",IF('Order Form'!$B$6=\"\",\"\",'Order Form'!$B$6),\"\")","v":""}]
[{"$f":"IF(D148<>\"\",IF('Order Form'!$B$2=\"\",\"\",\"New Jersey\"),\"\")","v":""},{"$f":"IF(D148<>\"\",IF('Order Form'!$B$2=\"\",\"\",'Order Form'!$B$2),\"\")","v":""},{"$f":"IF(D148<>\"\",IF('Order Form'!$B$2=\"\",\"\",'Order Form'!$B$3),\"\")","v":""},{"$f":"IF(_xlfn.XLOOKUP(INDEX('Order Form'!$C:$C,ROW(D148)+9),lists!I:I,lists!C:C,\"\",0,1)=0,\"\",_xlfn.XLOOKUP(INDEX('Order Form'!$C:$C,ROW(D148)+9),lists!I:I,lists!C:C,\"\",0,1))","v":""},{"$f":"IF(INDEX('Order Form'!$D:$D,ROW(D148)+9)>0,INDEX('Order Form'!$D:$D,ROW(D148)+9),\"\")","v":""},{"$f":"IF(INDEX('Order Form'!$E:$E,ROW(E148)+9)>0,INDEX('Order Form'!$E:$E,ROW(E148)+9),\"\")","v":""},{"$f":"IF(D148>\"\",IF('Order Form'!$B$7<>0,'Order Form'!$B$7,\"\"),\"\")","v":""},{"$f":"IF(D148<>\"\",IF('Order Form'!$B$4=\"\",\"\",'Order Form'!$B$4),\"\")","v":""},{"$f":"IF(D148<>\"\",IF('Order Form'!$B$5=\"\",\"\",'Order Form'!$B$5),\"\")","v":""},{"$f":"IF(D148<>\"\",IF('Order Form'!$B$6=\"\",\"\",'Order Form'!$B$6),\"\")","v":""}]
[{"$f":"IF(D149<>\"\",IF('Order Form'!$B$2=\"\",\"\",\"New Jersey\"),\"\")","v":""},{"$f":"IF(D149<>\"\",IF('Order Form'!$B$2=\"\",\"\",'Order Form'!$B$2),\"\")","v":""},{"$f":"IF(D149<>\"\",IF('Order Form'!$B$2=\"\",\"\",'Order Form'!$B$3),\"\")","v":""},{"$f":"IF(_xlfn.XLOOKUP(INDEX('Order Form'!$C:$C,ROW(D149)+9),lists!I:I,lists!C:C,\"\",0,1)=0,\"\",_xlfn.XLOOKUP(INDEX('Order Form'!$C:$C,ROW(D149)+9),lists!I:I,lists!C:C,\"\",0,1))","v":""},{"$f":"IF(INDEX('Order Form'!$D:$D,ROW(D149)+9)>0,INDEX('Order Form'!$D:$D,ROW(D149)+9),\"\")","v":""},{"$f":"IF(INDEX('Order Form'!$E:$E,ROW(E149)+9)>0,INDEX('Order Form'!$E:$E,ROW(E149)+9),\"\")","v":""},{"$f":"IF(D149>\"\",IF('Order Form'!$B$7<>0,'Order Form'!$B$7,\"\"),\"\")","v":""},{"$f":"IF(D149<>\"\",IF('Order Form'!$B$4=\"\",\"\",'Order Form'!$B$4),\"\")","v":""},{"$f":"IF(D149<>\"\",IF('Order Form'!$B$5=\"\",\"\",'Order Form'!$B$5),\"\")","v":""},{"$f":"IF(D149<>\"\",IF('Order Form'!$B$6=\"\",\"\",'Order Form'!$B$6),\"\")","v":""}]
[{"$f":"IF(D150<>\"\",IF('Order Form'!$B$2=\"\",\"\",\"New Jersey\"),\"\")","v":""},{"$f":"IF(D150<>\"\",IF('Order Form'!$B$2=\"\",\"\",'Order Form'!$B$2),\"\")","v":""},{"$f":"IF(D150<>\"\",IF('Order Form'!$B$2=\"\",\"\",'Order Form'!$B$3),\"\")","v":""},{"$f":"IF(_xlfn.XLOOKUP(INDEX('Order Form'!$C:$C,ROW(D150)+9),lists!I:I,lists!C:C,\"\",0,1)=0,\"\",_xlfn.XLOOKUP(INDEX('Order Form'!$C:$C,ROW(D150)+9),lists!I:I,lists!C:C,\"\",0,1))","v":""},{"$f":"IF(INDEX('Order Form'!$D:$D,ROW(D150)+9)>0,INDEX('Order Form'!$D:$D,ROW(D150)+9),\"\")","v":""},{"$f":"IF(INDEX('Order Form'!$E:$E,ROW(E150)+9)>0,INDEX('Order Form'!$E:$E,ROW(E150)+9),\"\")","v":""},{"$f":"IF(D150>\"\",IF('Order Form'!$B$7<>0,'Order Form'!$B$7,\"\"),\"\")","v":""},{"$f":"IF(D150<>\"\",IF('Order Form'!$B$4=\"\",\"\",'Order Form'!$B$4),\"\")","v":""},{"$f":"IF(D150<>\"\",IF('Order Form'!$B$5=\"\",\"\",'Order Form'!$B$5),\"\")","v":""},{"$f":"IF(D150<>\"\",IF('Order Form'!$B$6=\"\",\"\",'Order Form'!$B$6),\"\")","v":""}]
[{"$f":"IF(D151<>\"\",IF('Order Form'!$B$2=\"\",\"\",\"New Jersey\"),\"\")","v":""},{"$f":"IF(D151<>\"\",IF('Order Form'!$B$2=\"\",\"\",'Order Form'!$B$2),\"\")","v":""},{"$f":"IF(D151<>\"\",IF('Order Form'!$B$2=\"\",\"\",'Order Form'!$B$3),\"\")","v":""},{"$f":"IF(_xlfn.XLOOKUP(INDEX('Order Form'!$C:$C,ROW(D151)+9),lists!I:I,lists!C:C,\"\",0,1)=0,\"\",_xlfn.XLOOKUP(INDEX('Order Form'!$C:$C,ROW(D151)+9),lists!I:I,lists!C:C,\"\",0,1))","v":""},{"$f":"IF(INDEX('Order Form'!$D:$D,ROW(D151)+9)>0,INDEX('Order Form'!$D:$D,ROW(D151)+9),\"\")","v":""},{"$f":"IF(INDEX('Order Form'!$E:$E,ROW(E151)+9)>0,INDEX('Order Form'!$E:$E,ROW(E151)+9),\"\")","v":""},{"$f":"IF(D151>\"\",IF('Order Form'!$B$7<>0,'Order Form'!$B$7,\"\"),\"\")","v":""},{"$f":"IF(D151<>\"\",IF('Order Form'!$B$4=\"\",\"\",'Order Form'!$B$4),\"\")","v":""},{"$f":"IF(D151<>\"\",IF('Order Form'!$B$5=\"\",\"\",'Order Form'!$B$5),\"\")","v":""},{"$f":"IF(D151<>\"\",IF('Order Form'!$B$6=\"\",\"\",'Order Form'!$B$6),\"\")","v":""}]
[{"$f":"IF(D152<>\"\",IF('Order Form'!$B$2=\"\",\"\",\"New Jersey\"),\"\")","v":""},{"$f":"IF(D152<>\"\",IF('Order Form'!$B$2=\"\",\"\",'Order Form'!$B$2),\"\")","v":""},{"$f":"IF(D152<>\"\",IF('Order Form'!$B$2=\"\",\"\",'Order Form'!$B$3),\"\")","v":""},{"$f":"IF(_xlfn.XLOOKUP(INDEX('Order Form'!$C:$C,ROW(D152)+9),lists!I:I,lists!C:C,\"\",0,1)=0,\"\",_xlfn.XLOOKUP(INDEX('Order Form'!$C:$C,ROW(D152)+9),lists!I:I,lists!C:C,\"\",0,1))","v":""},{"$f":"IF(INDEX('Order Form'!$D:$D,ROW(D152)+9)>0,INDEX('Order Form'!$D:$D,ROW(D152)+9),\"\")","v":""},{"$f":"IF(INDEX('Order Form'!$E:$E,ROW(E152)+9)>0,INDEX('Order Form'!$E:$E,ROW(E152)+9),\"\")","v":""},{"$f":"IF(D152>\"\",IF('Order Form'!$B$7<>0,'Order Form'!$B$7,\"\"),\"\")","v":""},{"$f":"IF(D152<>\"\",IF('Order Form'!$B$4=\"\",\"\",'Order Form'!$B$4),\"\")","v":""},{"$f":"IF(D152<>\"\",IF('Order Form'!$B$5=\"\",\"\",'Order Form'!$B$5),\"\")","v":""},{"$f":"IF(D152<>\"\",IF('Order Form'!$B$6=\"\",\"\",'Order Form'!$B$6),\"\")","v":""}]
[{"$f":"IF(D153<>\"\",IF('Order Form'!$B$2=\"\",\"\",\"New Jersey\"),\"\")","v":""},{"$f":"IF(D153<>\"\",IF('Order Form'!$B$2=\"\",\"\",'Order Form'!$B$2),\"\")","v":""},{"$f":"IF(D153<>\"\",IF('Order Form'!$B$2=\"\",\"\",'Order Form'!$B$3),\"\")","v":""},{"$f":"IF(_xlfn.XLOOKUP(INDEX('Order Form'!$C:$C,ROW(D153)+9),lists!I:I,lists!C:C,\"\",0,1)=0,\"\",_xlfn.XLOOKUP(INDEX('Order Form'!$C:$C,ROW(D153)+9),lists!I:I,lists!C:C,\"\",0,1))","v":""},{"$f":"IF(INDEX('Order Form'!$D:$D,ROW(D153)+9)>0,INDEX('Order Form'!$D:$D,ROW(D153)+9),\"\")","v":""},{"$f":"IF(INDEX('Order Form'!$E:$E,ROW(E153)+9)>0,INDEX('Order Form'!$E:$E,ROW(E153)+9),\"\")","v":""},{"$f":"IF(D153>\"\",IF('Order Form'!$B$7<>0,'Order Form'!$B$7,\"\"),\"\")","v":""},{"$f":"IF(D153<>\"\",IF('Order Form'!$B$4=\"\",\"\",'Order Form'!$B$4),\"\")","v":""},{"$f":"IF(D153<>\"\",IF('Order Form'!$B$5=\"\",\"\",'Order Form'!$B$5),\"\")","v":""},{"$f":"IF(D153<>\"\",IF('Order Form'!$B$6=\"\",\"\",'Order Form'!$B$6),\"\")","v":""}]
[{"$f":"IF(D154<>\"\",IF('Order Form'!$B$2=\"\",\"\",\"New Jersey\"),\"\")","v":""},{"$f":"IF(D154<>\"\",IF('Order Form'!$B$2=\"\",\"\",'Order Form'!$B$2),\"\")","v":""},{"$f":"IF(D154<>\"\",IF('Order Form'!$B$2=\"\",\"\",'Order Form'!$B$3),\"\")","v":""},{"$f":"IF(_xlfn.XLOOKUP(INDEX('Order Form'!$C:$C,ROW(D154)+9),lists!I:I,lists!C:C,\"\",0,1)=0,\"\",_xlfn.XLOOKUP(INDEX('Order Form'!$C:$C,ROW(D154)+9),lists!I:I,lists!C:C,\"\",0,1))","v":""},{"$f":"IF(INDEX('Order Form'!$D:$D,ROW(D154)+9)>0,INDEX('Order Form'!$D:$D,ROW(D154)+9),\"\")","v":""},{"$f":"IF(INDEX('Order Form'!$E:$E,ROW(E154)+9)>0,INDEX('Order Form'!$E:$E,ROW(E154)+9),\"\")","v":""},{"$f":"IF(D154>\"\",IF('Order Form'!$B$7<>0,'Order Form'!$B$7,\"\"),\"\")","v":""},{"$f":"IF(D154<>\"\",IF('Order Form'!$B$4=\"\",\"\",'Order Form'!$B$4),\"\")","v":""},{"$f":"IF(D154<>\"\",IF('Order Form'!$B$5=\"\",\"\",'Order Form'!$B$5),\"\")","v":""},{"$f":"IF(D154<>\"\",IF('Order Form'!$B$6=\"\",\"\",'Order Form'!$B$6),\"\")","v":""}]
[{"$f":"IF(D155<>\"\",IF('Order Form'!$B$2=\"\",\"\",\"New Jersey\"),\"\")","v":""},{"$f":"IF(D155<>\"\",IF('Order Form'!$B$2=\"\",\"\",'Order Form'!$B$2),\"\")","v":""},{"$f":"IF(D155<>\"\",IF('Order Form'!$B$2=\"\",\"\",'Order Form'!$B$3),\"\")","v":""},{"$f":"IF(_xlfn.XLOOKUP(INDEX('Order Form'!$C:$C,ROW(D155)+9),lists!I:I,lists!C:C,\"\",0,1)=0,\"\",_xlfn.XLOOKUP(INDEX('Order Form'!$C:$C,ROW(D155)+9),lists!I:I,lists!C:C,\"\",0,1))","v":""},{"$f":"IF(INDEX('Order Form'!$D:$D,ROW(D155)+9)>0,INDEX('Order Form'!$D:$D,ROW(D155)+9),\"\")","v":""},{"$f":"IF(INDEX('Order Form'!$E:$E,ROW(E155)+9)>0,INDEX('Order Form'!$E:$E,ROW(E155)+9),\"\")","v":""},{"$f":"IF(D155>\"\",IF('Order Form'!$B$7<>0,'Order Form'!$B$7,\"\"),\"\")","v":""},{"$f":"IF(D155<>\"\",IF('Order Form'!$B$4=\"\",\"\",'Order Form'!$B$4),\"\")","v":""},{"$f":"IF(D155<>\"\",IF('Order Form'!$B$5=\"\",\"\",'Order Form'!$B$5),\"\")","v":""},{"$f":"IF(D155<>\"\",IF('Order Form'!$B$6=\"\",\"\",'Order Form'!$B$6),\"\")","v":""}]
[{"$f":"IF(D156<>\"\",IF('Order Form'!$B$2=\"\",\"\",\"New Jersey\"),\"\")","v":""},{"$f":"IF(D156<>\"\",IF('Order Form'!$B$2=\"\",\"\",'Order Form'!$B$2),\"\")","v":""},{"$f":"IF(D156<>\"\",IF('Order Form'!$B$2=\"\",\"\",'Order Form'!$B$3),\"\")","v":""},{"$f":"IF(_xlfn.XLOOKUP(INDEX('Order Form'!$C:$C,ROW(D156)+9),lists!I:I,lists!C:C,\"\",0,1)=0,\"\",_xlfn.XLOOKUP(INDEX('Order Form'!$C:$C,ROW(D156)+9),lists!I:I,lists!C:C,\"\",0,1))","v":""},{"$f":"IF(INDEX('Order Form'!$D:$D,ROW(D156)+9)>0,INDEX('Order Form'!$D:$D,ROW(D156)+9),\"\")","v":""},{"$f":"IF(INDEX('Order Form'!$E:$E,ROW(E156)+9)>0,INDEX('Order Form'!$E:$E,ROW(E156)+9),\"\")","v":""},{"$f":"IF(D156>\"\",IF('Order Form'!$B$7<>0,'Order Form'!$B$7,\"\"),\"\")","v":""},{"$f":"IF(D156<>\"\",IF('Order Form'!$B$4=\"\",\"\",'Order Form'!$B$4),\"\")","v":""},{"$f":"IF(D156<>\"\",IF('Order Form'!$B$5=\"\",\"\",'Order Form'!$B$5),\"\")","v":""},{"$f":"IF(D156<>\"\",IF('Order Form'!$B$6=\"\",\"\",'Order Form'!$B$6),\"\")","v":""}]
[{"$f":"IF(D157<>\"\",IF('Order Form'!$B$2=\"\",\"\",\"New Jersey\"),\"\")","v":""},{"$f":"IF(D157<>\"\",IF('Order Form'!$B$2=\"\",\"\",'Order Form'!$B$2),\"\")","v":""},{"$f":"IF(D157<>\"\",IF('Order Form'!$B$2=\"\",\"\",'Order Form'!$B$3),\"\")","v":""},{"$f":"IF(_xlfn.XLOOKUP(INDEX('Order Form'!$C:$C,ROW(D157)+9),lists!I:I,lists!C:C,\"\",0,1)=0,\"\",_xlfn.XLOOKUP(INDEX('Order Form'!$C:$C,ROW(D157)+9),lists!I:I,lists!C:C,\"\",0,1))","v":""},{"$f":"IF(INDEX('Order Form'!$D:$D,ROW(D157)+9)>0,INDEX('Order Form'!$D:$D,ROW(D157)+9),\"\")","v":""},{"$f":"IF(INDEX('Order Form'!$E:$E,ROW(E157)+9)>0,INDEX('Order Form'!$E:$E,ROW(E157)+9),\"\")","v":""},{"$f":"IF(D157>\"\",IF('Order Form'!$B$7<>0,'Order Form'!$B$7,\"\"),\"\")","v":""},{"$f":"IF(D157<>\"\",IF('Order Form'!$B$4=\"\",\"\",'Order Form'!$B$4),\"\")","v":""},{"$f":"IF(D157<>\"\",IF('Order Form'!$B$5=\"\",\"\",'Order Form'!$B$5),\"\")","v":""},{"$f":"IF(D157<>\"\",IF('Order Form'!$B$6=\"\",\"\",'Order Form'!$B$6),\"\")","v":""}]
[{"$f":"IF(D158<>\"\",IF('Order Form'!$B$2=\"\",\"\",\"New Jersey\"),\"\")","v":""},{"$f":"IF(D158<>\"\",IF('Order Form'!$B$2=\"\",\"\",'Order Form'!$B$2),\"\")","v":""},{"$f":"IF(D158<>\"\",IF('Order Form'!$B$2=\"\",\"\",'Order Form'!$B$3),\"\")","v":""},{"$f":"IF(_xlfn.XLOOKUP(INDEX('Order Form'!$C:$C,ROW(D158)+9),lists!I:I,lists!C:C,\"\",0,1)=0,\"\",_xlfn.XLOOKUP(INDEX('Order Form'!$C:$C,ROW(D158)+9),lists!I:I,lists!C:C,\"\",0,1))","v":""},{"$f":"IF(INDEX('Order Form'!$D:$D,ROW(D158)+9)>0,INDEX('Order Form'!$D:$D,ROW(D158)+9),\"\")","v":""},{"$f":"IF(INDEX('Order Form'!$E:$E,ROW(E158)+9)>0,INDEX('Order Form'!$E:$E,ROW(E158)+9),\"\")","v":""},{"$f":"IF(D158>\"\",IF('Order Form'!$B$7<>0,'Order Form'!$B$7,\"\"),\"\")","v":""},{"$f":"IF(D158<>\"\",IF('Order Form'!$B$4=\"\",\"\",'Order Form'!$B$4),\"\")","v":""},{"$f":"IF(D158<>\"\",IF('Order Form'!$B$5=\"\",\"\",'Order Form'!$B$5),\"\")","v":""},{"$f":"IF(D158<>\"\",IF('Order Form'!$B$6=\"\",\"\",'Order Form'!$B$6),\"\")","v":""}]
[{"$f":"IF(D159<>\"\",IF('Order Form'!$B$2=\"\",\"\",\"New Jersey\"),\"\")","v":""},{"$f":"IF(D159<>\"\",IF('Order Form'!$B$2=\"\",\"\",'Order Form'!$B$2),\"\")","v":""},{"$f":"IF(D159<>\"\",IF('Order Form'!$B$2=\"\",\"\",'Order Form'!$B$3),\"\")","v":""},{"$f":"IF(_xlfn.XLOOKUP(INDEX('Order Form'!$C:$C,ROW(D159)+9),lists!I:I,lists!C:C,\"\",0,1)=0,\"\",_xlfn.XLOOKUP(INDEX('Order Form'!$C:$C,ROW(D159)+9),lists!I:I,lists!C:C,\"\",0,1))","v":""},{"$f":"IF(INDEX('Order Form'!$D:$D,ROW(D159)+9)>0,INDEX('Order Form'!$D:$D,ROW(D159)+9),\"\")","v":""},{"$f":"IF(INDEX('Order Form'!$E:$E,ROW(E159)+9)>0,INDEX('Order Form'!$E:$E,ROW(E159)+9),\"\")","v":""},{"$f":"IF(D159>\"\",IF('Order Form'!$B$7<>0,'Order Form'!$B$7,\"\"),\"\")","v":""},{"$f":"IF(D159<>\"\",IF('Order Form'!$B$4=\"\",\"\",'Order Form'!$B$4),\"\")","v":""},{"$f":"IF(D159<>\"\",IF('Order Form'!$B$5=\"\",\"\",'Order Form'!$B$5),\"\")","v":""},{"$f":"IF(D159<>\"\",IF('Order Form'!$B$6=\"\",\"\",'Order Form'!$B$6),\"\")","v":""}]
[{"$f":"IF(D160<>\"\",IF('Order Form'!$B$2=\"\",\"\",\"New Jersey\"),\"\")","v":""},{"$f":"IF(D160<>\"\",IF('Order Form'!$B$2=\"\",\"\",'Order Form'!$B$2),\"\")","v":""},{"$f":"IF(D160<>\"\",IF('Order Form'!$B$2=\"\",\"\",'Order Form'!$B$3),\"\")","v":""},{"$f":"IF(_xlfn.XLOOKUP(INDEX('Order Form'!$C:$C,ROW(D160)+9),lists!I:I,lists!C:C,\"\",0,1)=0,\"\",_xlfn.XLOOKUP(INDEX('Order Form'!$C:$C,ROW(D160)+9),lists!I:I,lists!C:C,\"\",0,1))","v":""},{"$f":"IF(INDEX('Order Form'!$D:$D,ROW(D160)+9)>0,INDEX('Order Form'!$D:$D,ROW(D160)+9),\"\")","v":""},{"$f":"IF(INDEX('Order Form'!$E:$E,ROW(E160)+9)>0,INDEX('Order Form'!$E:$E,ROW(E160)+9),\"\")","v":""},{"$f":"IF(D160>\"\",IF('Order Form'!$B$7<>0,'Order Form'!$B$7,\"\"),\"\")","v":""},{"$f":"IF(D160<>\"\",IF('Order Form'!$B$4=\"\",\"\",'Order Form'!$B$4),\"\")","v":""},{"$f":"IF(D160<>\"\",IF('Order Form'!$B$5=\"\",\"\",'Order Form'!$B$5),\"\")","v":""},{"$f":"IF(D160<>\"\",IF('Order Form'!$B$6=\"\",\"\",'Order Form'!$B$6),\"\")","v":""}]
[{"$f":"IF(D161<>\"\",IF('Order Form'!$B$2=\"\",\"\",\"New Jersey\"),\"\")","v":""},{"$f":"IF(D161<>\"\",IF('Order Form'!$B$2=\"\",\"\",'Order Form'!$B$2),\"\")","v":""},{"$f":"IF(D161<>\"\",IF('Order Form'!$B$2=\"\",\"\",'Order Form'!$B$3),\"\")","v":""},{"$f":"IF(_xlfn.XLOOKUP(INDEX('Order Form'!$C:$C,ROW(D161)+9),lists!I:I,lists!C:C,\"\",0,1)=0,\"\",_xlfn.XLOOKUP(INDEX('Order Form'!$C:$C,ROW(D161)+9),lists!I:I,lists!C:C,\"\",0,1))","v":""},{"$f":"IF(INDEX('Order Form'!$D:$D,ROW(D161)+9)>0,INDEX('Order Form'!$D:$D,ROW(D161)+9),\"\")","v":""},{"$f":"IF(INDEX('Order Form'!$E:$E,ROW(E161)+9)>0,INDEX('Order Form'!$E:$E,ROW(E161)+9),\"\")","v":""},{"$f":"IF(D161>\"\",IF('Order Form'!$B$7<>0,'Order Form'!$B$7,\"\"),\"\")","v":""},{"$f":"IF(D161<>\"\",IF('Order Form'!$B$4=\"\",\"\",'Order Form'!$B$4),\"\")","v":""},{"$f":"IF(D161<>\"\",IF('Order Form'!$B$5=\"\",\"\",'Order Form'!$B$5),\"\")","v":""},{"$f":"IF(D161<>\"\",IF('Order Form'!$B$6=\"\",\"\",'Order Form'!$B$6),\"\")","v":""}]
[{"$f":"IF(D162<>\"\",IF('Order Form'!$B$2=\"\",\"\",\"New Jersey\"),\"\")","v":""},{"$f":"IF(D162<>\"\",IF('Order Form'!$B$2=\"\",\"\",'Order Form'!$B$2),\"\")","v":""},{"$f":"IF(D162<>\"\",IF('Order Form'!$B$2=\"\",\"\",'Order Form'!$B$3),\"\")","v":""},{"$f":"IF(_xlfn.XLOOKUP(INDEX('Order Form'!$C:$C,ROW(D162)+9),lists!I:I,lists!C:C,\"\",0,1)=0,\"\",_xlfn.XLOOKUP(INDEX('Order Form'!$C:$C,ROW(D162)+9),lists!I:I,lists!C:C,\"\",0,1))","v":""},{"$f":"IF(INDEX('Order Form'!$D:$D,ROW(D162)+9)>0,INDEX('Order Form'!$D:$D,ROW(D162)+9),\"\")","v":""},{"$f":"IF(INDEX('Order Form'!$E:$E,ROW(E162)+9)>0,INDEX('Order Form'!$E:$E,ROW(E162)+9),\"\")","v":""},{"$f":"IF(D162>\"\",IF('Order Form'!$B$7<>0,'Order Form'!$B$7,\"\"),\"\")","v":""},{"$f":"IF(D162<>\"\",IF('Order Form'!$B$4=\"\",\"\",'Order Form'!$B$4),\"\")","v":""},{"$f":"IF(D162<>\"\",IF('Order Form'!$B$5=\"\",\"\",'Order Form'!$B$5),\"\")","v":""},{"$f":"IF(D162<>\"\",IF('Order Form'!$B$6=\"\",\"\",'Order Form'!$B$6),\"\")","v":""}]
[{"$f":"IF(D163<>\"\",IF('Order Form'!$B$2=\"\",\"\",\"New Jersey\"),\"\")","v":""},{"$f":"IF(D163<>\"\",IF('Order Form'!$B$2=\"\",\"\",'Order Form'!$B$2),\"\")","v":""},{"$f":"IF(D163<>\"\",IF('Order Form'!$B$2=\"\",\"\",'Order Form'!$B$3),\"\")","v":""},{"$f":"IF(_xlfn.XLOOKUP(INDEX('Order Form'!$C:$C,ROW(D163)+9),lists!I:I,lists!C:C,\"\",0,1)=0,\"\",_xlfn.XLOOKUP(INDEX('Order Form'!$C:$C,ROW(D163)+9),lists!I:I,lists!C:C,\"\",0,1))","v":""},{"$f":"IF(INDEX('Order Form'!$D:$D,ROW(D163)+9)>0,INDEX('Order Form'!$D:$D,ROW(D163)+9),\"\")","v":""},{"$f":"IF(INDEX('Order Form'!$E:$E,ROW(E163)+9)>0,INDEX('Order Form'!$E:$E,ROW(E163)+9),\"\")","v":""},{"$f":"IF(D163>\"\",IF('Order Form'!$B$7<>0,'Order Form'!$B$7,\"\"),\"\")","v":""},{"$f":"IF(D163<>\"\",IF('Order Form'!$B$4=\"\",\"\",'Order Form'!$B$4),\"\")","v":""},{"$f":"IF(D163<>\"\",IF('Order Form'!$B$5=\"\",\"\",'Order Form'!$B$5),\"\")","v":""},{"$f":"IF(D163<>\"\",IF('Order Form'!$B$6=\"\",\"\",'Order Form'!$B$6),\"\")","v":""}]
[{"$f":"IF(D164<>\"\",IF('Order Form'!$B$2=\"\",\"\",\"New Jersey\"),\"\")","v":""},{"$f":"IF(D164<>\"\",IF('Order Form'!$B$2=\"\",\"\",'Order Form'!$B$2),\"\")","v":""},{"$f":"IF(D164<>\"\",IF('Order Form'!$B$2=\"\",\"\",'Order Form'!$B$3),\"\")","v":""},{"$f":"IF(_xlfn.XLOOKUP(INDEX('Order Form'!$C:$C,ROW(D164)+9),lists!I:I,lists!C:C,\"\",0,1)=0,\"\",_xlfn.XLOOKUP(INDEX('Order Form'!$C:$C,ROW(D164)+9),lists!I:I,lists!C:C,\"\",0,1))","v":""},{"$f":"IF(INDEX('Order Form'!$D:$D,ROW(D164)+9)>0,INDEX('Order Form'!$D:$D,ROW(D164)+9),\"\")","v":""},{"$f":"IF(INDEX('Order Form'!$E:$E,ROW(E164)+9)>0,INDEX('Order Form'!$E:$E,ROW(E164)+9),\"\")","v":""},{"$f":"IF(D164>\"\",IF('Order Form'!$B$7<>0,'Order Form'!$B$7,\"\"),\"\")","v":""},{"$f":"IF(D164<>\"\",IF('Order Form'!$B$4=\"\",\"\",'Order Form'!$B$4),\"\")","v":""},{"$f":"IF(D164<>\"\",IF('Order Form'!$B$5=\"\",\"\",'Order Form'!$B$5),\"\")","v":""},{"$f":"IF(D164<>\"\",IF('Order Form'!$B$6=\"\",\"\",'Order Form'!$B$6),\"\")","v":""}]
[{"$f":"IF(D165<>\"\",IF('Order Form'!$B$2=\"\",\"\",\"New Jersey\"),\"\")","v":""},{"$f":"IF(D165<>\"\",IF('Order Form'!$B$2=\"\",\"\",'Order Form'!$B$2),\"\")","v":""},{"$f":"IF(D165<>\"\",IF('Order Form'!$B$2=\"\",\"\",'Order Form'!$B$3),\"\")","v":""},{"$f":"IF(_xlfn.XLOOKUP(INDEX('Order Form'!$C:$C,ROW(D165)+9),lists!I:I,lists!C:C,\"\",0,1)=0,\"\",_xlfn.XLOOKUP(INDEX('Order Form'!$C:$C,ROW(D165)+9),lists!I:I,lists!C:C,\"\",0,1))","v":""},{"$f":"IF(INDEX('Order Form'!$D:$D,ROW(D165)+9)>0,INDEX('Order Form'!$D:$D,ROW(D165)+9),\"\")","v":""},{"$f":"IF(INDEX('Order Form'!$E:$E,ROW(E165)+9)>0,INDEX('Order Form'!$E:$E,ROW(E165)+9),\"\")","v":""},{"$f":"IF(D165>\"\",IF('Order Form'!$B$7<>0,'Order Form'!$B$7,\"\"),\"\")","v":""},{"$f":"IF(D165<>\"\",IF('Order Form'!$B$4=\"\",\"\",'Order Form'!$B$4),\"\")","v":""},{"$f":"IF(D165<>\"\",IF('Order Form'!$B$5=\"\",\"\",'Order Form'!$B$5),\"\")","v":""},{"$f":"IF(D165<>\"\",IF('Order Form'!$B$6=\"\",\"\",'Order Form'!$B$6),\"\")","v":""}]
[{"$f":"IF(D166<>\"\",IF('Order Form'!$B$2=\"\",\"\",\"New Jersey\"),\"\")","v":""},{"$f":"IF(D166<>\"\",IF('Order Form'!$B$2=\"\",\"\",'Order Form'!$B$2),\"\")","v":""},{"$f":"IF(D166<>\"\",IF('Order Form'!$B$2=\"\",\"\",'Order Form'!$B$3),\"\")","v":""},{"$f":"IF(_xlfn.XLOOKUP(INDEX('Order Form'!$C:$C,ROW(D166)+9),lists!I:I,lists!C:C,\"\",0,1)=0,\"\",_xlfn.XLOOKUP(INDEX('Order Form'!$C:$C,ROW(D166)+9),lists!I:I,lists!C:C,\"\",0,1))","v":""},{"$f":"IF(INDEX('Order Form'!$D:$D,ROW(D166)+9)>0,INDEX('Order Form'!$D:$D,ROW(D166)+9),\"\")","v":""},{"$f":"IF(INDEX('Order Form'!$E:$E,ROW(E166)+9)>0,INDEX('Order Form'!$E:$E,ROW(E166)+9),\"\")","v":""},{"$f":"IF(D166>\"\",IF('Order Form'!$B$7<>0,'Order Form'!$B$7,\"\"),\"\")","v":""},{"$f":"IF(D166<>\"\",IF('Order Form'!$B$4=\"\",\"\",'Order Form'!$B$4),\"\")","v":""},{"$f":"IF(D166<>\"\",IF('Order Form'!$B$5=\"\",\"\",'Order Form'!$B$5),\"\")","v":""},{"$f":"IF(D166<>\"\",IF('Order Form'!$B$6=\"\",\"\",'Order Form'!$B$6),\"\")","v":""}]
[{"$f":"IF(D167<>\"\",IF('Order Form'!$B$2=\"\",\"\",\"New Jersey\"),\"\")","v":""},{"$f":"IF(D167<>\"\",IF('Order Form'!$B$2=\"\",\"\",'Order Form'!$B$2),\"\")","v":""},{"$f":"IF(D167<>\"\",IF('Order Form'!$B$2=\"\",\"\",'Order Form'!$B$3),\"\")","v":""},{"$f":"IF(_xlfn.XLOOKUP(INDEX('Order Form'!$C:$C,ROW(D167)+9),lists!I:I,lists!C:C,\"\",0,1)=0,\"\",_xlfn.XLOOKUP(INDEX('Order Form'!$C:$C,ROW(D167)+9),lists!I:I,lists!C:C,\"\",0,1))","v":""},{"$f":"IF(INDEX('Order Form'!$D:$D,ROW(D167)+9)>0,INDEX('Order Form'!$D:$D,ROW(D167)+9),\"\")","v":""},{"$f":"IF(INDEX('Order Form'!$E:$E,ROW(E167)+9)>0,INDEX('Order Form'!$E:$E,ROW(E167)+9),\"\")","v":""},{"$f":"IF(D167>\"\",IF('Order Form'!$B$7<>0,'Order Form'!$B$7,\"\"),\"\")","v":""},{"$f":"IF(D167<>\"\",IF('Order Form'!$B$4=\"\",\"\",'Order Form'!$B$4),\"\")","v":""},{"$f":"IF(D167<>\"\",IF('Order Form'!$B$5=\"\",\"\",'Order Form'!$B$5),\"\")","v":""},{"$f":"IF(D167<>\"\",IF('Order Form'!$B$6=\"\",\"\",'Order Form'!$B$6),\"\")","v":""}]
[{"$f":"IF(D168<>\"\",IF('Order Form'!$B$2=\"\",\"\",\"New Jersey\"),\"\")","v":""},{"$f":"IF(D168<>\"\",IF('Order Form'!$B$2=\"\",\"\",'Order Form'!$B$2),\"\")","v":""},{"$f":"IF(D168<>\"\",IF('Order Form'!$B$2=\"\",\"\",'Order Form'!$B$3),\"\")","v":""},{"$f":"IF(_xlfn.XLOOKUP(INDEX('Order Form'!$C:$C,ROW(D168)+9),lists!I:I,lists!C:C,\"\",0,1)=0,\"\",_xlfn.XLOOKUP(INDEX('Order Form'!$C:$C,ROW(D168)+9),lists!I:I,lists!C:C,\"\",0,1))","v":""},{"$f":"IF(INDEX('Order Form'!$D:$D,ROW(D168)+9)>0,INDEX('Order Form'!$D:$D,ROW(D168)+9),\"\")","v":""},{"$f":"IF(INDEX('Order Form'!$E:$E,ROW(E168)+9)>0,INDEX('Order Form'!$E:$E,ROW(E168)+9),\"\")","v":""},{"$f":"IF(D168>\"\",IF('Order Form'!$B$7<>0,'Order Form'!$B$7,\"\"),\"\")","v":""},{"$f":"IF(D168<>\"\",IF('Order Form'!$B$4=\"\",\"\",'Order Form'!$B$4),\"\")","v":""},{"$f":"IF(D168<>\"\",IF('Order Form'!$B$5=\"\",\"\",'Order Form'!$B$5),\"\")","v":""},{"$f":"IF(D168<>\"\",IF('Order Form'!$B$6=\"\",\"\",'Order Form'!$B$6),\"\")","v":""}]
[{"$f":"IF(D169<>\"\",IF('Order Form'!$B$2=\"\",\"\",\"New Jersey\"),\"\")","v":""},{"$f":"IF(D169<>\"\",IF('Order Form'!$B$2=\"\",\"\",'Order Form'!$B$2),\"\")","v":""},{"$f":"IF(D169<>\"\",IF('Order Form'!$B$2=\"\",\"\",'Order Form'!$B$3),\"\")","v":""},{"$f":"IF(_xlfn.XLOOKUP(INDEX('Order Form'!$C:$C,ROW(D169)+9),lists!I:I,lists!C:C,\"\",0,1)=0,\"\",_xlfn.XLOOKUP(INDEX('Order Form'!$C:$C,ROW(D169)+9),lists!I:I,lists!C:C,\"\",0,1))","v":""},{"$f":"IF(INDEX('Order Form'!$D:$D,ROW(D169)+9)>0,INDEX('Order Form'!$D:$D,ROW(D169)+9),\"\")","v":""},{"$f":"IF(INDEX('Order Form'!$E:$E,ROW(E169)+9)>0,INDEX('Order Form'!$E:$E,ROW(E169)+9),\"\")","v":""},{"$f":"IF(D169>\"\",IF('Order Form'!$B$7<>0,'Order Form'!$B$7,\"\"),\"\")","v":""},{"$f":"IF(D169<>\"\",IF('Order Form'!$B$4=\"\",\"\",'Order Form'!$B$4),\"\")","v":""},{"$f":"IF(D169<>\"\",IF('Order Form'!$B$5=\"\",\"\",'Order Form'!$B$5),\"\")","v":""},{"$f":"IF(D169<>\"\",IF('Order Form'!$B$6=\"\",\"\",'Order Form'!$B$6),\"\")","v":""}]
[{"$f":"IF(D170<>\"\",IF('Order Form'!$B$2=\"\",\"\",\"New Jersey\"),\"\")","v":""},{"$f":"IF(D170<>\"\",IF('Order Form'!$B$2=\"\",\"\",'Order Form'!$B$2),\"\")","v":""},{"$f":"IF(D170<>\"\",IF('Order Form'!$B$2=\"\",\"\",'Order Form'!$B$3),\"\")","v":""},{"$f":"IF(_xlfn.XLOOKUP(INDEX('Order Form'!$C:$C,ROW(D170)+9),lists!I:I,lists!C:C,\"\",0,1)=0,\"\",_xlfn.XLOOKUP(INDEX('Order Form'!$C:$C,ROW(D170)+9),lists!I:I,lists!C:C,\"\",0,1))","v":""},{"$f":"IF(INDEX('Order Form'!$D:$D,ROW(D170)+9)>0,INDEX('Order Form'!$D:$D,ROW(D170)+9),\"\")","v":""},{"$f":"IF(INDEX('Order Form'!$E:$E,ROW(E170)+9)>0,INDEX('Order Form'!$E:$E,ROW(E170)+9),\"\")","v":""},{"$f":"IF(D170>\"\",IF('Order Form'!$B$7<>0,'Order Form'!$B$7,\"\"),\"\")","v":""},{"$f":"IF(D170<>\"\",IF('Order Form'!$B$4=\"\",\"\",'Order Form'!$B$4),\"\")","v":""},{"$f":"IF(D170<>\"\",IF('Order Form'!$B$5=\"\",\"\",'Order Form'!$B$5),\"\")","v":""},{"$f":"IF(D170<>\"\",IF('Order Form'!$B$6=\"\",\"\",'Order Form'!$B$6),\"\")","v":""}]
[{"$f":"IF(D171<>\"\",IF('Order Form'!$B$2=\"\",\"\",\"New Jersey\"),\"\")","v":""},{"$f":"IF(D171<>\"\",IF('Order Form'!$B$2=\"\",\"\",'Order Form'!$B$2),\"\")","v":""},{"$f":"IF(D171<>\"\",IF('Order Form'!$B$2=\"\",\"\",'Order Form'!$B$3),\"\")","v":""},{"$f":"IF(_xlfn.XLOOKUP(INDEX('Order Form'!$C:$C,ROW(D171)+9),lists!I:I,lists!C:C,\"\",0,1)=0,\"\",_xlfn.XLOOKUP(INDEX('Order Form'!$C:$C,ROW(D171)+9),lists!I:I,lists!C:C,\"\",0,1))","v":""},{"$f":"IF(INDEX('Order Form'!$D:$D,ROW(D171)+9)>0,INDEX('Order Form'!$D:$D,ROW(D171)+9),\"\")","v":""},{"$f":"IF(INDEX('Order Form'!$E:$E,ROW(E171)+9)>0,INDEX('Order Form'!$E:$E,ROW(E171)+9),\"\")","v":""},{"$f":"IF(D171>\"\",IF('Order Form'!$B$7<>0,'Order Form'!$B$7,\"\"),\"\")","v":""},{"$f":"IF(D171<>\"\",IF('Order Form'!$B$4=\"\",\"\",'Order Form'!$B$4),\"\")","v":""},{"$f":"IF(D171<>\"\",IF('Order Form'!$B$5=\"\",\"\",'Order Form'!$B$5),\"\")","v":""},{"$f":"IF(D171<>\"\",IF('Order Form'!$B$6=\"\",\"\",'Order Form'!$B$6),\"\")","v":""}]
[{"$f":"IF(D172<>\"\",IF('Order Form'!$B$2=\"\",\"\",\"New Jersey\"),\"\")","v":""},{"$f":"IF(D172<>\"\",IF('Order Form'!$B$2=\"\",\"\",'Order Form'!$B$2),\"\")","v":""},{"$f":"IF(D172<>\"\",IF('Order Form'!$B$2=\"\",\"\",'Order Form'!$B$3),\"\")","v":""},{"$f":"IF(_xlfn.XLOOKUP(INDEX('Order Form'!$C:$C,ROW(D172)+9),lists!I:I,lists!C:C,\"\",0,1)=0,\"\",_xlfn.XLOOKUP(INDEX('Order Form'!$C:$C,ROW(D172)+9),lists!I:I,lists!C:C,\"\",0,1))","v":""},{"$f":"IF(INDEX('Order Form'!$D:$D,ROW(D172)+9)>0,INDEX('Order Form'!$D:$D,ROW(D172)+9),\"\")","v":""},{"$f":"IF(INDEX('Order Form'!$E:$E,ROW(E172)+9)>0,INDEX('Order Form'!$E:$E,ROW(E172)+9),\"\")","v":""},{"$f":"IF(D172>\"\",IF('Order Form'!$B$7<>0,'Order Form'!$B$7,\"\"),\"\")","v":""},{"$f":"IF(D172<>\"\",IF('Order Form'!$B$4=\"\",\"\",'Order Form'!$B$4),\"\")","v":""},{"$f":"IF(D172<>\"\",IF('Order Form'!$B$5=\"\",\"\",'Order Form'!$B$5),\"\")","v":""},{"$f":"IF(D172<>\"\",IF('Order Form'!$B$6=\"\",\"\",'Order Form'!$B$6),\"\")","v":""}]
[{"$f":"IF(D173<>\"\",IF('Order Form'!$B$2=\"\",\"\",\"New Jersey\"),\"\")","v":""},{"$f":"IF(D173<>\"\",IF('Order Form'!$B$2=\"\",\"\",'Order Form'!$B$2),\"\")","v":""},{"$f":"IF(D173<>\"\",IF('Order Form'!$B$2=\"\",\"\",'Order Form'!$B$3),\"\")","v":""},{"$f":"IF(_xlfn.XLOOKUP(INDEX('Order Form'!$C:$C,ROW(D173)+9),lists!I:I,lists!C:C,\"\",0,1)=0,\"\",_xlfn.XLOOKUP(INDEX('Order Form'!$C:$C,ROW(D173)+9),lists!I:I,lists!C:C,\"\",0,1))","v":""},{"$f":"IF(INDEX('Order Form'!$D:$D,ROW(D173)+9)>0,INDEX('Order Form'!$D:$D,ROW(D173)+9),\"\")","v":""},{"$f":"IF(INDEX('Order Form'!$E:$E,ROW(E173)+9)>0,INDEX('Order Form'!$E:$E,ROW(E173)+9),\"\")","v":""},{"$f":"IF(D173>\"\",IF('Order Form'!$B$7<>0,'Order Form'!$B$7,\"\"),\"\")","v":""},{"$f":"IF(D173<>\"\",IF('Order Form'!$B$4=\"\",\"\",'Order Form'!$B$4),\"\")","v":""},{"$f":"IF(D173<>\"\",IF('Order Form'!$B$5=\"\",\"\",'Order Form'!$B$5),\"\")","v":""},{"$f":"IF(D173<>\"\",IF('Order Form'!$B$6=\"\",\"\",'Order Form'!$B$6),\"\")","v":""}]
[{"$f":"IF(D174<>\"\",IF('Order Form'!$B$2=\"\",\"\",\"New Jersey\"),\"\")","v":""},{"$f":"IF(D174<>\"\",IF('Order Form'!$B$2=\"\",\"\",'Order Form'!$B$2),\"\")","v":""},{"$f":"IF(D174<>\"\",IF('Order Form'!$B$2=\"\",\"\",'Order Form'!$B$3),\"\")","v":""},{"$f":"IF(_xlfn.XLOOKUP(INDEX('Order Form'!$C:$C,ROW(D174)+9),lists!I:I,lists!C:C,\"\",0,1)=0,\"\",_xlfn.XLOOKUP(INDEX('Order Form'!$C:$C,ROW(D174)+9),lists!I:I,lists!C:C,\"\",0,1))","v":""},{"$f":"IF(INDEX('Order Form'!$D:$D,ROW(D174)+9)>0,INDEX('Order Form'!$D:$D,ROW(D174)+9),\"\")","v":""},{"$f":"IF(INDEX('Order Form'!$E:$E,ROW(E174)+9)>0,INDEX('Order Form'!$E:$E,ROW(E174)+9),\"\")","v":""},{"$f":"IF(D174>\"\",IF('Order Form'!$B$7<>0,'Order Form'!$B$7,\"\"),\"\")","v":""},{"$f":"IF(D174<>\"\",IF('Order Form'!$B$4=\"\",\"\",'Order Form'!$B$4),\"\")","v":""},{"$f":"IF(D174<>\"\",IF('Order Form'!$B$5=\"\",\"\",'Order Form'!$B$5),\"\")","v":""},{"$f":"IF(D174<>\"\",IF('Order Form'!$B$6=\"\",\"\",'Order Form'!$B$6),\"\")","v":""}]
[{"$f":"IF(D175<>\"\",IF('Order Form'!$B$2=\"\",\"\",\"New Jersey\"),\"\")","v":""},{"$f":"IF(D175<>\"\",IF('Order Form'!$B$2=\"\",\"\",'Order Form'!$B$2),\"\")","v":""},{"$f":"IF(D175<>\"\",IF('Order Form'!$B$2=\"\",\"\",'Order Form'!$B$3),\"\")","v":""},{"$f":"IF(_xlfn.XLOOKUP(INDEX('Order Form'!$C:$C,ROW(D175)+9),lists!I:I,lists!C:C,\"\",0,1)=0,\"\",_xlfn.XLOOKUP(INDEX('Order Form'!$C:$C,ROW(D175)+9),lists!I:I,lists!C:C,\"\",0,1))","v":""},{"$f":"IF(INDEX('Order Form'!$D:$D,ROW(D175)+9)>0,INDEX('Order Form'!$D:$D,ROW(D175)+9),\"\")","v":""},{"$f":"IF(INDEX('Order Form'!$E:$E,ROW(E175)+9)>0,INDEX('Order Form'!$E:$E,ROW(E175)+9),\"\")","v":""},{"$f":"IF(D175>\"\",IF('Order Form'!$B$7<>0,'Order Form'!$B$7,\"\"),\"\")","v":""},{"$f":"IF(D175<>\"\",IF('Order Form'!$B$4=\"\",\"\",'Order Form'!$B$4),\"\")","v":""},{"$f":"IF(D175<>\"\",IF('Order Form'!$B$5=\"\",\"\",'Order Form'!$B$5),\"\")","v":""},{"$f":"IF(D175<>\"\",IF('Order Form'!$B$6=\"\",\"\",'Order Form'!$B$6),\"\")","v":""}]
[{"$f":"IF(D176<>\"\",IF('Order Form'!$B$2=\"\",\"\",\"New Jersey\"),\"\")","v":""},{"$f":"IF(D176<>\"\",IF('Order Form'!$B$2=\"\",\"\",'Order Form'!$B$2),\"\")","v":""},{"$f":"IF(D176<>\"\",IF('Order Form'!$B$2=\"\",\"\",'Order Form'!$B$3),\"\")","v":""},{"$f":"IF(_xlfn.XLOOKUP(INDEX('Order Form'!$C:$C,ROW(D176)+9),lists!I:I,lists!C:C,\"\",0,1)=0,\"\",_xlfn.XLOOKUP(INDEX('Order Form'!$C:$C,ROW(D176)+9),lists!I:I,lists!C:C,\"\",0,1))","v":""},{"$f":"IF(INDEX('Order Form'!$D:$D,ROW(D176)+9)>0,INDEX('Order Form'!$D:$D,ROW(D176)+9),\"\")","v":""},{"$f":"IF(INDEX('Order Form'!$E:$E,ROW(E176)+9)>0,INDEX('Order Form'!$E:$E,ROW(E176)+9),\"\")","v":""},{"$f":"IF(D176>\"\",IF('Order Form'!$B$7<>0,'Order Form'!$B$7,\"\"),\"\")","v":""},{"$f":"IF(D176<>\"\",IF('Order Form'!$B$4=\"\",\"\",'Order Form'!$B$4),\"\")","v":""},{"$f":"IF(D176<>\"\",IF('Order Form'!$B$5=\"\",\"\",'Order Form'!$B$5),\"\")","v":""},{"$f":"IF(D176<>\"\",IF('Order Form'!$B$6=\"\",\"\",'Order Form'!$B$6),\"\")","v":""}]
[{"$f":"IF(D177<>\"\",IF('Order Form'!$B$2=\"\",\"\",\"New Jersey\"),\"\")","v":""},{"$f":"IF(D177<>\"\",IF('Order Form'!$B$2=\"\",\"\",'Order Form'!$B$2),\"\")","v":""},{"$f":"IF(D177<>\"\",IF('Order Form'!$B$2=\"\",\"\",'Order Form'!$B$3),\"\")","v":""},{"$f":"IF(_xlfn.XLOOKUP(INDEX('Order Form'!$C:$C,ROW(D177)+9),lists!I:I,lists!C:C,\"\",0,1)=0,\"\",_xlfn.XLOOKUP(INDEX('Order Form'!$C:$C,ROW(D177)+9),lists!I:I,lists!C:C,\"\",0,1))","v":""},{"$f":"IF(INDEX('Order Form'!$D:$D,ROW(D177)+9)>0,INDEX('Order Form'!$D:$D,ROW(D177)+9),\"\")","v":""},{"$f":"IF(INDEX('Order Form'!$E:$E,ROW(E177)+9)>0,INDEX('Order Form'!$E:$E,ROW(E177)+9),\"\")","v":""},{"$f":"IF(D177>\"\",IF('Order Form'!$B$7<>0,'Order Form'!$B$7,\"\"),\"\")","v":""},{"$f":"IF(D177<>\"\",IF('Order Form'!$B$4=\"\",\"\",'Order Form'!$B$4),\"\")","v":""},{"$f":"IF(D177<>\"\",IF('Order Form'!$B$5=\"\",\"\",'Order Form'!$B$5),\"\")","v":""},{"$f":"IF(D177<>\"\",IF('Order Form'!$B$6=\"\",\"\",'Order Form'!$B$6),\"\")","v":""}]
[{"$f":"IF(D178<>\"\",IF('Order Form'!$B$2=\"\",\"\",\"New Jersey\"),\"\")","v":""},{"$f":"IF(D178<>\"\",IF('Order Form'!$B$2=\"\",\"\",'Order Form'!$B$2),\"\")","v":""},{"$f":"IF(D178<>\"\",IF('Order Form'!$B$2=\"\",\"\",'Order Form'!$B$3),\"\")","v":""},{"$f":"IF(_xlfn.XLOOKUP(INDEX('Order Form'!$C:$C,ROW(D178)+9),lists!I:I,lists!C:C,\"\",0,1)=0,\"\",_xlfn.XLOOKUP(INDEX('Order Form'!$C:$C,ROW(D178)+9),lists!I:I,lists!C:C,\"\",0,1))","v":""},{"$f":"IF(INDEX('Order Form'!$D:$D,ROW(D178)+9)>0,INDEX('Order Form'!$D:$D,ROW(D178)+9),\"\")","v":""},{"$f":"IF(INDEX('Order Form'!$E:$E,ROW(E178)+9)>0,INDEX('Order Form'!$E:$E,ROW(E178)+9),\"\")","v":""},{"$f":"IF(D178>\"\",IF('Order Form'!$B$7<>0,'Order Form'!$B$7,\"\"),\"\")","v":""},{"$f":"IF(D178<>\"\",IF('Order Form'!$B$4=\"\",\"\",'Order Form'!$B$4),\"\")","v":""},{"$f":"IF(D178<>\"\",IF('Order Form'!$B$5=\"\",\"\",'Order Form'!$B$5),\"\")","v":""},{"$f":"IF(D178<>\"\",IF('Order Form'!$B$6=\"\",\"\",'Order Form'!$B$6),\"\")","v":""}]
[{"$f":"IF(D179<>\"\",IF('Order Form'!$B$2=\"\",\"\",\"New Jersey\"),\"\")","v":""},{"$f":"IF(D179<>\"\",IF('Order Form'!$B$2=\"\",\"\",'Order Form'!$B$2),\"\")","v":""},{"$f":"IF(D179<>\"\",IF('Order Form'!$B$2=\"\",\"\",'Order Form'!$B$3),\"\")","v":""},{"$f":"IF(_xlfn.XLOOKUP(INDEX('Order Form'!$C:$C,ROW(D179)+9),lists!I:I,lists!C:C,\"\",0,1)=0,\"\",_xlfn.XLOOKUP(INDEX('Order Form'!$C:$C,ROW(D179)+9),lists!I:I,lists!C:C,\"\",0,1))","v":""},{"$f":"IF(INDEX('Order Form'!$D:$D,ROW(D179)+9)>0,INDEX('Order Form'!$D:$D,ROW(D179)+9),\"\")","v":""},{"$f":"IF(INDEX('Order Form'!$E:$E,ROW(E179)+9)>0,INDEX('Order Form'!$E:$E,ROW(E179)+9),\"\")","v":""},{"$f":"IF(D179>\"\",IF('Order Form'!$B$7<>0,'Order Form'!$B$7,\"\"),\"\")","v":""},{"$f":"IF(D179<>\"\",IF('Order Form'!$B$4=\"\",\"\",'Order Form'!$B$4),\"\")","v":""},{"$f":"IF(D179<>\"\",IF('Order Form'!$B$5=\"\",\"\",'Order Form'!$B$5),\"\")","v":""},{"$f":"IF(D179<>\"\",IF('Order Form'!$B$6=\"\",\"\",'Order Form'!$B$6),\"\")","v":""}]
[{"$f":"IF(D180<>\"\",IF('Order Form'!$B$2=\"\",\"\",\"New Jersey\"),\"\")","v":""},{"$f":"IF(D180<>\"\",IF('Order Form'!$B$2=\"\",\"\",'Order Form'!$B$2),\"\")","v":""},{"$f":"IF(D180<>\"\",IF('Order Form'!$B$2=\"\",\"\",'Order Form'!$B$3),\"\")","v":""},{"$f":"IF(_xlfn.XLOOKUP(INDEX('Order Form'!$C:$C,ROW(D180)+9),lists!I:I,lists!C:C,\"\",0,1)=0,\"\",_xlfn.XLOOKUP(INDEX('Order Form'!$C:$C,ROW(D180)+9),lists!I:I,lists!C:C,\"\",0,1))","v":""},{"$f":"IF(INDEX('Order Form'!$D:$D,ROW(D180)+9)>0,INDEX('Order Form'!$D:$D,ROW(D180)+9),\"\")","v":""},{"$f":"IF(INDEX('Order Form'!$E:$E,ROW(E180)+9)>0,INDEX('Order Form'!$E:$E,ROW(E180)+9),\"\")","v":""},{"$f":"IF(D180>\"\",IF('Order Form'!$B$7<>0,'Order Form'!$B$7,\"\"),\"\")","v":""},{"$f":"IF(D180<>\"\",IF('Order Form'!$B$4=\"\",\"\",'Order Form'!$B$4),\"\")","v":""},{"$f":"IF(D180<>\"\",IF('Order Form'!$B$5=\"\",\"\",'Order Form'!$B$5),\"\")","v":""},{"$f":"IF(D180<>\"\",IF('Order Form'!$B$6=\"\",\"\",'Order Form'!$B$6),\"\")","v":""}]
[{"$f":"IF(D181<>\"\",IF('Order Form'!$B$2=\"\",\"\",\"New Jersey\"),\"\")","v":""},{"$f":"IF(D181<>\"\",IF('Order Form'!$B$2=\"\",\"\",'Order Form'!$B$2),\"\")","v":""},{"$f":"IF(D181<>\"\",IF('Order Form'!$B$2=\"\",\"\",'Order Form'!$B$3),\"\")","v":""},{"$f":"IF(_xlfn.XLOOKUP(INDEX('Order Form'!$C:$C,ROW(D181)+9),lists!I:I,lists!C:C,\"\",0,1)=0,\"\",_xlfn.XLOOKUP(INDEX('Order Form'!$C:$C,ROW(D181)+9),lists!I:I,lists!C:C,\"\",0,1))","v":""},{"$f":"IF(INDEX('Order Form'!$D:$D,ROW(D181)+9)>0,INDEX('Order Form'!$D:$D,ROW(D181)+9),\"\")","v":""},{"$f":"IF(INDEX('Order Form'!$E:$E,ROW(E181)+9)>0,INDEX('Order Form'!$E:$E,ROW(E181)+9),\"\")","v":""},{"$f":"IF(D181>\"\",IF('Order Form'!$B$7<>0,'Order Form'!$B$7,\"\"),\"\")","v":""},{"$f":"IF(D181<>\"\",IF('Order Form'!$B$4=\"\",\"\",'Order Form'!$B$4),\"\")","v":""},{"$f":"IF(D181<>\"\",IF('Order Form'!$B$5=\"\",\"\",'Order Form'!$B$5),\"\")","v":""},{"$f":"IF(D181<>\"\",IF('Order Form'!$B$6=\"\",\"\",'Order Form'!$B$6),\"\")","v":""}]
[{"$f":"IF(D182<>\"\",IF('Order Form'!$B$2=\"\",\"\",\"New Jersey\"),\"\")","v":""},{"$f":"IF(D182<>\"\",IF('Order Form'!$B$2=\"\",\"\",'Order Form'!$B$2),\"\")","v":""},{"$f":"IF(D182<>\"\",IF('Order Form'!$B$2=\"\",\"\",'Order Form'!$B$3),\"\")","v":""},{"$f":"IF(_xlfn.XLOOKUP(INDEX('Order Form'!$C:$C,ROW(D182)+9),lists!I:I,lists!C:C,\"\",0,1)=0,\"\",_xlfn.XLOOKUP(INDEX('Order Form'!$C:$C,ROW(D182)+9),lists!I:I,lists!C:C,\"\",0,1))","v":""},{"$f":"IF(INDEX('Order Form'!$D:$D,ROW(D182)+9)>0,INDEX('Order Form'!$D:$D,ROW(D182)+9),\"\")","v":""},{"$f":"IF(INDEX('Order Form'!$E:$E,ROW(E182)+9)>0,INDEX('Order Form'!$E:$E,ROW(E182)+9),\"\")","v":""},{"$f":"IF(D182>\"\",IF('Order Form'!$B$7<>0,'Order Form'!$B$7,\"\"),\"\")","v":""},{"$f":"IF(D182<>\"\",IF('Order Form'!$B$4=\"\",\"\",'Order Form'!$B$4),\"\")","v":""},{"$f":"IF(D182<>\"\",IF('Order Form'!$B$5=\"\",\"\",'Order Form'!$B$5),\"\")","v":""},{"$f":"IF(D182<>\"\",IF('Order Form'!$B$6=\"\",\"\",'Order Form'!$B$6),\"\")","v":""}]
[{"$f":"IF(D183<>\"\",IF('Order Form'!$B$2=\"\",\"\",\"New Jersey\"),\"\")","v":""},{"$f":"IF(D183<>\"\",IF('Order Form'!$B$2=\"\",\"\",'Order Form'!$B$2),\"\")","v":""},{"$f":"IF(D183<>\"\",IF('Order Form'!$B$2=\"\",\"\",'Order Form'!$B$3),\"\")","v":""},{"$f":"IF(_xlfn.XLOOKUP(INDEX('Order Form'!$C:$C,ROW(D183)+9),lists!I:I,lists!C:C,\"\",0,1)=0,\"\",_xlfn.XLOOKUP(INDEX('Order Form'!$C:$C,ROW(D183)+9),lists!I:I,lists!C:C,\"\",0,1))","v":""},{"$f":"IF(INDEX('Order Form'!$D:$D,ROW(D183)+9)>0,INDEX('Order Form'!$D:$D,ROW(D183)+9),\"\")","v":""},{"$f":"IF(INDEX('Order Form'!$E:$E,ROW(E183)+9)>0,INDEX('Order Form'!$E:$E,ROW(E183)+9),\"\")","v":""},{"$f":"IF(D183>\"\",IF('Order Form'!$B$7<>0,'Order Form'!$B$7,\"\"),\"\")","v":""},{"$f":"IF(D183<>\"\",IF('Order Form'!$B$4=\"\",\"\",'Order Form'!$B$4),\"\")","v":""},{"$f":"IF(D183<>\"\",IF('Order Form'!$B$5=\"\",\"\",'Order Form'!$B$5),\"\")","v":""},{"$f":"IF(D183<>\"\",IF('Order Form'!$B$6=\"\",\"\",'Order Form'!$B$6),\"\")","v":""}]
[{"$f":"IF(D184<>\"\",IF('Order Form'!$B$2=\"\",\"\",\"New Jersey\"),\"\")","v":""},{"$f":"IF(D184<>\"\",IF('Order Form'!$B$2=\"\",\"\",'Order Form'!$B$2),\"\")","v":""},{"$f":"IF(D184<>\"\",IF('Order Form'!$B$2=\"\",\"\",'Order Form'!$B$3),\"\")","v":""},{"$f":"IF(_xlfn.XLOOKUP(INDEX('Order Form'!$C:$C,ROW(D184)+9),lists!I:I,lists!C:C,\"\",0,1)=0,\"\",_xlfn.XLOOKUP(INDEX('Order Form'!$C:$C,ROW(D184)+9),lists!I:I,lists!C:C,\"\",0,1))","v":""},{"$f":"IF(INDEX('Order Form'!$D:$D,ROW(D184)+9)>0,INDEX('Order Form'!$D:$D,ROW(D184)+9),\"\")","v":""},{"$f":"IF(INDEX('Order Form'!$E:$E,ROW(E184)+9)>0,INDEX('Order Form'!$E:$E,ROW(E184)+9),\"\")","v":""},{"$f":"IF(D184>\"\",IF('Order Form'!$B$7<>0,'Order Form'!$B$7,\"\"),\"\")","v":""},{"$f":"IF(D184<>\"\",IF('Order Form'!$B$4=\"\",\"\",'Order Form'!$B$4),\"\")","v":""},{"$f":"IF(D184<>\"\",IF('Order Form'!$B$5=\"\",\"\",'Order Form'!$B$5),\"\")","v":""},{"$f":"IF(D184<>\"\",IF('Order Form'!$B$6=\"\",\"\",'Order Form'!$B$6),\"\")","v":""}]
[{"$f":"IF(D185<>\"\",IF('Order Form'!$B$2=\"\",\"\",\"New Jersey\"),\"\")","v":""},{"$f":"IF(D185<>\"\",IF('Order Form'!$B$2=\"\",\"\",'Order Form'!$B$2),\"\")","v":""},{"$f":"IF(D185<>\"\",IF('Order Form'!$B$2=\"\",\"\",'Order Form'!$B$3),\"\")","v":""},{"$f":"IF(_xlfn.XLOOKUP(INDEX('Order Form'!$C:$C,ROW(D185)+9),lists!I:I,lists!C:C,\"\",0,1)=0,\"\",_xlfn.XLOOKUP(INDEX('Order Form'!$C:$C,ROW(D185)+9),lists!I:I,lists!C:C,\"\",0,1))","v":""},{"$f":"IF(INDEX('Order Form'!$D:$D,ROW(D185)+9)>0,INDEX('Order Form'!$D:$D,ROW(D185)+9),\"\")","v":""},{"$f":"IF(INDEX('Order Form'!$E:$E,ROW(E185)+9)>0,INDEX('Order Form'!$E:$E,ROW(E185)+9),\"\")","v":""},{"$f":"IF(D185>\"\",IF('Order Form'!$B$7<>0,'Order Form'!$B$7,\"\"),\"\")","v":""},{"$f":"IF(D185<>\"\",IF('Order Form'!$B$4=\"\",\"\",'Order Form'!$B$4),\"\")","v":""},{"$f":"IF(D185<>\"\",IF('Order Form'!$B$5=\"\",\"\",'Order Form'!$B$5),\"\")","v":""},{"$f":"IF(D185<>\"\",IF('Order Form'!$B$6=\"\",\"\",'Order Form'!$B$6),\"\")","v":""}]
[{"$f":"IF(D186<>\"\",IF('Order Form'!$B$2=\"\",\"\",\"New Jersey\"),\"\")","v":""},{"$f":"IF(D186<>\"\",IF('Order Form'!$B$2=\"\",\"\",'Order Form'!$B$2),\"\")","v":""},{"$f":"IF(D186<>\"\",IF('Order Form'!$B$2=\"\",\"\",'Order Form'!$B$3),\"\")","v":""},{"$f":"IF(_xlfn.XLOOKUP(INDEX('Order Form'!$C:$C,ROW(D186)+9),lists!I:I,lists!C:C,\"\",0,1)=0,\"\",_xlfn.XLOOKUP(INDEX('Order Form'!$C:$C,ROW(D186)+9),lists!I:I,lists!C:C,\"\",0,1))","v":""},{"$f":"IF(INDEX('Order Form'!$D:$D,ROW(D186)+9)>0,INDEX('Order Form'!$D:$D,ROW(D186)+9),\"\")","v":""},{"$f":"IF(INDEX('Order Form'!$E:$E,ROW(E186)+9)>0,INDEX('Order Form'!$E:$E,ROW(E186)+9),\"\")","v":""},{"$f":"IF(D186>\"\",IF('Order Form'!$B$7<>0,'Order Form'!$B$7,\"\"),\"\")","v":""},{"$f":"IF(D186<>\"\",IF('Order Form'!$B$4=\"\",\"\",'Order Form'!$B$4),\"\")","v":""},{"$f":"IF(D186<>\"\",IF('Order Form'!$B$5=\"\",\"\",'Order Form'!$B$5),\"\")","v":""},{"$f":"IF(D186<>\"\",IF('Order Form'!$B$6=\"\",\"\",'Order Form'!$B$6),\"\")","v":""}]
[{"$f":"IF(D187<>\"\",IF('Order Form'!$B$2=\"\",\"\",\"New Jersey\"),\"\")","v":""},{"$f":"IF(D187<>\"\",IF('Order Form'!$B$2=\"\",\"\",'Order Form'!$B$2),\"\")","v":""},{"$f":"IF(D187<>\"\",IF('Order Form'!$B$2=\"\",\"\",'Order Form'!$B$3),\"\")","v":""},{"$f":"IF(_xlfn.XLOOKUP(INDEX('Order Form'!$C:$C,ROW(D187)+9),lists!I:I,lists!C:C,\"\",0,1)=0,\"\",_xlfn.XLOOKUP(INDEX('Order Form'!$C:$C,ROW(D187)+9),lists!I:I,lists!C:C,\"\",0,1))","v":""},{"$f":"IF(INDEX('Order Form'!$D:$D,ROW(D187)+9)>0,INDEX('Order Form'!$D:$D,ROW(D187)+9),\"\")","v":""},{"$f":"IF(INDEX('Order Form'!$E:$E,ROW(E187)+9)>0,INDEX('Order Form'!$E:$E,ROW(E187)+9),\"\")","v":""},{"$f":"IF(D187>\"\",IF('Order Form'!$B$7<>0,'Order Form'!$B$7,\"\"),\"\")","v":""},{"$f":"IF(D187<>\"\",IF('Order Form'!$B$4=\"\",\"\",'Order Form'!$B$4),\"\")","v":""},{"$f":"IF(D187<>\"\",IF('Order Form'!$B$5=\"\",\"\",'Order Form'!$B$5),\"\")","v":""},{"$f":"IF(D187<>\"\",IF('Order Form'!$B$6=\"\",\"\",'Order Form'!$B$6),\"\")","v":""}]
[{"$f":"IF(D188<>\"\",IF('Order Form'!$B$2=\"\",\"\",\"New Jersey\"),\"\")","v":""},{"$f":"IF(D188<>\"\",IF('Order Form'!$B$2=\"\",\"\",'Order Form'!$B$2),\"\")","v":""},{"$f":"IF(D188<>\"\",IF('Order Form'!$B$2=\"\",\"\",'Order Form'!$B$3),\"\")","v":""},{"$f":"IF(_xlfn.XLOOKUP(INDEX('Order Form'!$C:$C,ROW(D188)+9),lists!I:I,lists!C:C,\"\",0,1)=0,\"\",_xlfn.XLOOKUP(INDEX('Order Form'!$C:$C,ROW(D188)+9),lists!I:I,lists!C:C,\"\",0,1))","v":""},{"$f":"IF(INDEX('Order Form'!$D:$D,ROW(D188)+9)>0,INDEX('Order Form'!$D:$D,ROW(D188)+9),\"\")","v":""},{"$f":"IF(INDEX('Order Form'!$E:$E,ROW(E188)+9)>0,INDEX('Order Form'!$E:$E,ROW(E188)+9),\"\")","v":""},{"$f":"IF(D188>\"\",IF('Order Form'!$B$7<>0,'Order Form'!$B$7,\"\"),\"\")","v":""},{"$f":"IF(D188<>\"\",IF('Order Form'!$B$4=\"\",\"\",'Order Form'!$B$4),\"\")","v":""},{"$f":"IF(D188<>\"\",IF('Order Form'!$B$5=\"\",\"\",'Order Form'!$B$5),\"\")","v":""},{"$f":"IF(D188<>\"\",IF('Order Form'!$B$6=\"\",\"\",'Order Form'!$B$6),\"\")","v":""}]
[{"$f":"IF(D189<>\"\",IF('Order Form'!$B$2=\"\",\"\",\"New Jersey\"),\"\")","v":""},{"$f":"IF(D189<>\"\",IF('Order Form'!$B$2=\"\",\"\",'Order Form'!$B$2),\"\")","v":""},{"$f":"IF(D189<>\"\",IF('Order Form'!$B$2=\"\",\"\",'Order Form'!$B$3),\"\")","v":""},{"$f":"IF(_xlfn.XLOOKUP(INDEX('Order Form'!$C:$C,ROW(D189)+9),lists!I:I,lists!C:C,\"\",0,1)=0,\"\",_xlfn.XLOOKUP(INDEX('Order Form'!$C:$C,ROW(D189)+9),lists!I:I,lists!C:C,\"\",0,1))","v":""},{"$f":"IF(INDEX('Order Form'!$D:$D,ROW(D189)+9)>0,INDEX('Order Form'!$D:$D,ROW(D189)+9),\"\")","v":""},{"$f":"IF(INDEX('Order Form'!$E:$E,ROW(E189)+9)>0,INDEX('Order Form'!$E:$E,ROW(E189)+9),\"\")","v":""},{"$f":"IF(D189>\"\",IF('Order Form'!$B$7<>0,'Order Form'!$B$7,\"\"),\"\")","v":""},{"$f":"IF(D189<>\"\",IF('Order Form'!$B$4=\"\",\"\",'Order Form'!$B$4),\"\")","v":""},{"$f":"IF(D189<>\"\",IF('Order Form'!$B$5=\"\",\"\",'Order Form'!$B$5),\"\")","v":""},{"$f":"IF(D189<>\"\",IF('Order Form'!$B$6=\"\",\"\",'Order Form'!$B$6),\"\")","v":""}]
[{"$f":"IF(D190<>\"\",IF('Order Form'!$B$2=\"\",\"\",\"New Jersey\"),\"\")","v":""},{"$f":"IF(D190<>\"\",IF('Order Form'!$B$2=\"\",\"\",'Order Form'!$B$2),\"\")","v":""},{"$f":"IF(D190<>\"\",IF('Order Form'!$B$2=\"\",\"\",'Order Form'!$B$3),\"\")","v":""},{"$f":"IF(_xlfn.XLOOKUP(INDEX('Order Form'!$C:$C,ROW(D190)+9),lists!I:I,lists!C:C,\"\",0,1)=0,\"\",_xlfn.XLOOKUP(INDEX('Order Form'!$C:$C,ROW(D190)+9),lists!I:I,lists!C:C,\"\",0,1))","v":""},{"$f":"IF(INDEX('Order Form'!$D:$D,ROW(D190)+9)>0,INDEX('Order Form'!$D:$D,ROW(D190)+9),\"\")","v":""},{"$f":"IF(INDEX('Order Form'!$E:$E,ROW(E190)+9)>0,INDEX('Order Form'!$E:$E,ROW(E190)+9),\"\")","v":""},{"$f":"IF(D190>\"\",IF('Order Form'!$B$7<>0,'Order Form'!$B$7,\"\"),\"\")","v":""},{"$f":"IF(D190<>\"\",IF('Order Form'!$B$4=\"\",\"\",'Order Form'!$B$4),\"\")","v":""},{"$f":"IF(D190<>\"\",IF('Order Form'!$B$5=\"\",\"\",'Order Form'!$B$5),\"\")","v":""},{"$f":"IF(D190<>\"\",IF('Order Form'!$B$6=\"\",\"\",'Order Form'!$B$6),\"\")","v":""}]
[{"$f":"IF(D191<>\"\",IF('Order Form'!$B$2=\"\",\"\",\"New Jersey\"),\"\")","v":""},{"$f":"IF(D191<>\"\",IF('Order Form'!$B$2=\"\",\"\",'Order Form'!$B$2),\"\")","v":""},{"$f":"IF(D191<>\"\",IF('Order Form'!$B$2=\"\",\"\",'Order Form'!$B$3),\"\")","v":""},{"$f":"IF(_xlfn.XLOOKUP(INDEX('Order Form'!$C:$C,ROW(D191)+9),lists!I:I,lists!C:C,\"\",0,1)=0,\"\",_xlfn.XLOOKUP(INDEX('Order Form'!$C:$C,ROW(D191)+9),lists!I:I,lists!C:C,\"\",0,1))","v":""},{"$f":"IF(INDEX('Order Form'!$D:$D,ROW(D191)+9)>0,INDEX('Order Form'!$D:$D,ROW(D191)+9),\"\")","v":""},{"$f":"IF(INDEX('Order Form'!$E:$E,ROW(E191)+9)>0,INDEX('Order Form'!$E:$E,ROW(E191)+9),\"\")","v":""},{"$f":"IF(D191>\"\",IF('Order Form'!$B$7<>0,'Order Form'!$B$7,\"\"),\"\")","v":""},{"$f":"IF(D191<>\"\",IF('Order Form'!$B$4=\"\",\"\",'Order Form'!$B$4),\"\")","v":""},{"$f":"IF(D191<>\"\",IF('Order Form'!$B$5=\"\",\"\",'Order Form'!$B$5),\"\")","v":""},{"$f":"IF(D191<>\"\",IF('Order Form'!$B$6=\"\",\"\",'Order Form'!$B$6),\"\")","v":""}]
[{"$f":"IF(D192<>\"\",IF('Order Form'!$B$2=\"\",\"\",\"New Jersey\"),\"\")","v":""},{"$f":"IF(D192<>\"\",IF('Order Form'!$B$2=\"\",\"\",'Order Form'!$B$2),\"\")","v":""},{"$f":"IF(D192<>\"\",IF('Order Form'!$B$2=\"\",\"\",'Order Form'!$B$3),\"\")","v":""},{"$f":"IF(_xlfn.XLOOKUP(INDEX('Order Form'!$C:$C,ROW(D192)+9),lists!I:I,lists!C:C,\"\",0,1)=0,\"\",_xlfn.XLOOKUP(INDEX('Order Form'!$C:$C,ROW(D192)+9),lists!I:I,lists!C:C,\"\",0,1))","v":""},{"$f":"IF(INDEX('Order Form'!$D:$D,ROW(D192)+9)>0,INDEX('Order Form'!$D:$D,ROW(D192)+9),\"\")","v":""},{"$f":"IF(INDEX('Order Form'!$E:$E,ROW(E192)+9)>0,INDEX('Order Form'!$E:$E,ROW(E192)+9),\"\")","v":""},{"$f":"IF(D192>\"\",IF('Order Form'!$B$7<>0,'Order Form'!$B$7,\"\"),\"\")","v":""},{"$f":"IF(D192<>\"\",IF('Order Form'!$B$4=\"\",\"\",'Order Form'!$B$4),\"\")","v":""},{"$f":"IF(D192<>\"\",IF('Order Form'!$B$5=\"\",\"\",'Order Form'!$B$5),\"\")","v":""},{"$f":"IF(D192<>\"\",IF('Order Form'!$B$6=\"\",\"\",'Order Form'!$B$6),\"\")","v":""}]
[{"$f":"IF(D193<>\"\",IF('Order Form'!$B$2=\"\",\"\",\"New Jersey\"),\"\")","v":""},{"$f":"IF(D193<>\"\",IF('Order Form'!$B$2=\"\",\"\",'Order Form'!$B$2),\"\")","v":""},{"$f":"IF(D193<>\"\",IF('Order Form'!$B$2=\"\",\"\",'Order Form'!$B$3),\"\")","v":""},{"$f":"IF(_xlfn.XLOOKUP(INDEX('Order Form'!$C:$C,ROW(D193)+9),lists!I:I,lists!C:C,\"\",0,1)=0,\"\",_xlfn.XLOOKUP(INDEX('Order Form'!$C:$C,ROW(D193)+9),lists!I:I,lists!C:C,\"\",0,1))","v":""},{"$f":"IF(INDEX('Order Form'!$D:$D,ROW(D193)+9)>0,INDEX('Order Form'!$D:$D,ROW(D193)+9),\"\")","v":""},{"$f":"IF(INDEX('Order Form'!$E:$E,ROW(E193)+9)>0,INDEX('Order Form'!$E:$E,ROW(E193)+9),\"\")","v":""},{"$f":"IF(D193>\"\",IF('Order Form'!$B$7<>0,'Order Form'!$B$7,\"\"),\"\")","v":""},{"$f":"IF(D193<>\"\",IF('Order Form'!$B$4=\"\",\"\",'Order Form'!$B$4),\"\")","v":""},{"$f":"IF(D193<>\"\",IF('Order Form'!$B$5=\"\",\"\",'Order Form'!$B$5),\"\")","v":""},{"$f":"IF(D193<>\"\",IF('Order Form'!$B$6=\"\",\"\",'Order Form'!$B$6),\"\")","v":""}]
[{"$f":"IF(D194<>\"\",IF('Order Form'!$B$2=\"\",\"\",\"New Jersey\"),\"\")","v":""},{"$f":"IF(D194<>\"\",IF('Order Form'!$B$2=\"\",\"\",'Order Form'!$B$2),\"\")","v":""},{"$f":"IF(D194<>\"\",IF('Order Form'!$B$2=\"\",\"\",'Order Form'!$B$3),\"\")","v":""},{"$f":"IF(_xlfn.XLOOKUP(INDEX('Order Form'!$C:$C,ROW(D194)+9),lists!I:I,lists!C:C,\"\",0,1)=0,\"\",_xlfn.XLOOKUP(INDEX('Order Form'!$C:$C,ROW(D194)+9),lists!I:I,lists!C:C,\"\",0,1))","v":""},{"$f":"IF(INDEX('Order Form'!$D:$D,ROW(D194)+9)>0,INDEX('Order Form'!$D:$D,ROW(D194)+9),\"\")","v":""},{"$f":"IF(INDEX('Order Form'!$E:$E,ROW(E194)+9)>0,INDEX('Order Form'!$E:$E,ROW(E194)+9),\"\")","v":""},{"$f":"IF(D194>\"\",IF('Order Form'!$B$7<>0,'Order Form'!$B$7,\"\"),\"\")","v":""},{"$f":"IF(D194<>\"\",IF('Order Form'!$B$4=\"\",\"\",'Order Form'!$B$4),\"\")","v":""},{"$f":"IF(D194<>\"\",IF('Order Form'!$B$5=\"\",\"\",'Order Form'!$B$5),\"\")","v":""},{"$f":"IF(D194<>\"\",IF('Order Form'!$B$6=\"\",\"\",'Order Form'!$B$6),\"\")","v":""}]
[{"$f":"IF(D195<>\"\",IF('Order Form'!$B$2=\"\",\"\",\"New Jersey\"),\"\")","v":""},{"$f":"IF(D195<>\"\",IF('Order Form'!$B$2=\"\",\"\",'Order Form'!$B$2),\"\")","v":""},{"$f":"IF(D195<>\"\",IF('Order Form'!$B$2=\"\",\"\",'Order Form'!$B$3),\"\")","v":""},{"$f":"IF(_xlfn.XLOOKUP(INDEX('Order Form'!$C:$C,ROW(D195)+9),lists!I:I,lists!C:C,\"\",0,1)=0,\"\",_xlfn.XLOOKUP(INDEX('Order Form'!$C:$C,ROW(D195)+9),lists!I:I,lists!C:C,\"\",0,1))","v":""},{"$f":"IF(INDEX('Order Form'!$D:$D,ROW(D195)+9)>0,INDEX('Order Form'!$D:$D,ROW(D195)+9),\"\")","v":""},{"$f":"IF(INDEX('Order Form'!$E:$E,ROW(E195)+9)>0,INDEX('Order Form'!$E:$E,ROW(E195)+9),\"\")","v":""},{"$f":"IF(D195>\"\",IF('Order Form'!$B$7<>0,'Order Form'!$B$7,\"\"),\"\")","v":""},{"$f":"IF(D195<>\"\",IF('Order Form'!$B$4=\"\",\"\",'Order Form'!$B$4),\"\")","v":""},{"$f":"IF(D195<>\"\",IF('Order Form'!$B$5=\"\",\"\",'Order Form'!$B$5),\"\")","v":""},{"$f":"IF(D195<>\"\",IF('Order Form'!$B$6=\"\",\"\",'Order Form'!$B$6),\"\")","v":""}]
[{"$f":"IF(D196<>\"\",IF('Order Form'!$B$2=\"\",\"\",\"New Jersey\"),\"\")","v":""},{"$f":"IF(D196<>\"\",IF('Order Form'!$B$2=\"\",\"\",'Order Form'!$B$2),\"\")","v":""},{"$f":"IF(D196<>\"\",IF('Order Form'!$B$2=\"\",\"\",'Order Form'!$B$3),\"\")","v":""},{"$f":"IF(_xlfn.XLOOKUP(INDEX('Order Form'!$C:$C,ROW(D196)+9),lists!I:I,lists!C:C,\"\",0,1)=0,\"\",_xlfn.XLOOKUP(INDEX('Order Form'!$C:$C,ROW(D196)+9),lists!I:I,lists!C:C,\"\",0,1))","v":""},{"$f":"IF(INDEX('Order Form'!$D:$D,ROW(D196)+9)>0,INDEX('Order Form'!$D:$D,ROW(D196)+9),\"\")","v":""},{"$f":"IF(INDEX('Order Form'!$E:$E,ROW(E196)+9)>0,INDEX('Order Form'!$E:$E,ROW(E196)+9),\"\")","v":""},{"$f":"IF(D196>\"\",IF('Order Form'!$B$7<>0,'Order Form'!$B$7,\"\"),\"\")","v":""},{"$f":"IF(D196<>\"\",IF('Order Form'!$B$4=\"\",\"\",'Order Form'!$B$4),\"\")","v":""},{"$f":"IF(D196<>\"\",IF('Order Form'!$B$5=\"\",\"\",'Order Form'!$B$5),\"\")","v":""},{"$f":"IF(D196<>\"\",IF('Order Form'!$B$6=\"\",\"\",'Order Form'!$B$6),\"\")","v":""}]
[{"$f":"IF(D197<>\"\",IF('Order Form'!$B$2=\"\",\"\",\"New Jersey\"),\"\")","v":""},{"$f":"IF(D197<>\"\",IF('Order Form'!$B$2=\"\",\"\",'Order Form'!$B$2),\"\")","v":""},{"$f":"IF(D197<>\"\",IF('Order Form'!$B$2=\"\",\"\",'Order Form'!$B$3),\"\")","v":""},{"$f":"IF(_xlfn.XLOOKUP(INDEX('Order Form'!$C:$C,ROW(D197)+9),lists!I:I,lists!C:C,\"\",0,1)=0,\"\",_xlfn.XLOOKUP(INDEX('Order Form'!$C:$C,ROW(D197)+9),lists!I:I,lists!C:C,\"\",0,1))","v":""},{"$f":"IF(INDEX('Order Form'!$D:$D,ROW(D197)+9)>0,INDEX('Order Form'!$D:$D,ROW(D197)+9),\"\")","v":""},{"$f":"IF(INDEX('Order Form'!$E:$E,ROW(E197)+9)>0,INDEX('Order Form'!$E:$E,ROW(E197)+9),\"\")","v":""},{"$f":"IF(D197>\"\",IF('Order Form'!$B$7<>0,'Order Form'!$B$7,\"\"),\"\")","v":""},{"$f":"IF(D197<>\"\",IF('Order Form'!$B$4=\"\",\"\",'Order Form'!$B$4),\"\")","v":""},{"$f":"IF(D197<>\"\",IF('Order Form'!$B$5=\"\",\"\",'Order Form'!$B$5),\"\")","v":""},{"$f":"IF(D197<>\"\",IF('Order Form'!$B$6=\"\",\"\",'Order Form'!$B$6),\"\")","v":""}]
[{"$f":"IF(D198<>\"\",IF('Order Form'!$B$2=\"\",\"\",\"New Jersey\"),\"\")","v":""},{"$f":"IF(D198<>\"\",IF('Order Form'!$B$2=\"\",\"\",'Order Form'!$B$2),\"\")","v":""},{"$f":"IF(D198<>\"\",IF('Order Form'!$B$2=\"\",\"\",'Order Form'!$B$3),\"\")","v":""},{"$f":"IF(_xlfn.XLOOKUP(INDEX('Order Form'!$C:$C,ROW(D198)+9),lists!I:I,lists!C:C,\"\",0,1)=0,\"\",_xlfn.XLOOKUP(INDEX('Order Form'!$C:$C,ROW(D198)+9),lists!I:I,lists!C:C,\"\",0,1))","v":""},{"$f":"IF(INDEX('Order Form'!$D:$D,ROW(D198)+9)>0,INDEX('Order Form'!$D:$D,ROW(D198)+9),\"\")","v":""},{"$f":"IF(INDEX('Order Form'!$E:$E,ROW(E198)+9)>0,INDEX('Order Form'!$E:$E,ROW(E198)+9),\"\")","v":""},{"$f":"IF(D198>\"\",IF('Order Form'!$B$7<>0,'Order Form'!$B$7,\"\"),\"\")","v":""},{"$f":"IF(D198<>\"\",IF('Order Form'!$B$4=\"\",\"\",'Order Form'!$B$4),\"\")","v":""},{"$f":"IF(D198<>\"\",IF('Order Form'!$B$5=\"\",\"\",'Order Form'!$B$5),\"\")","v":""},{"$f":"IF(D198<>\"\",IF('Order Form'!$B$6=\"\",\"\",'Order Form'!$B$6),\"\")","v":""}]
[{"$f":"IF(D199<>\"\",IF('Order Form'!$B$2=\"\",\"\",\"New Jersey\"),\"\")","v":""},{"$f":"IF(D199<>\"\",IF('Order Form'!$B$2=\"\",\"\",'Order Form'!$B$2),\"\")","v":""},{"$f":"IF(D199<>\"\",IF('Order Form'!$B$2=\"\",\"\",'Order Form'!$B$3),\"\")","v":""},{"$f":"IF(_xlfn.XLOOKUP(INDEX('Order Form'!$C:$C,ROW(D199)+9),lists!I:I,lists!C:C,\"\",0,1)=0,\"\",_xlfn.XLOOKUP(INDEX('Order Form'!$C:$C,ROW(D199)+9),lists!I:I,lists!C:C,\"\",0,1))","v":""},{"$f":"IF(INDEX('Order Form'!$D:$D,ROW(D199)+9)>0,INDEX('Order Form'!$D:$D,ROW(D199)+9),\"\")","v":""},{"$f":"IF(INDEX('Order Form'!$E:$E,ROW(E199)+9)>0,INDEX('Order Form'!$E:$E,ROW(E199)+9),\"\")","v":""},{"$f":"IF(D199>\"\",IF('Order Form'!$B$7<>0,'Order Form'!$B$7,\"\"),\"\")","v":""},{"$f":"IF(D199<>\"\",IF('Order Form'!$B$4=\"\",\"\",'Order Form'!$B$4),\"\")","v":""},{"$f":"IF(D199<>\"\",IF('Order Form'!$B$5=\"\",\"\",'Order Form'!$B$5),\"\")","v":""},{"$f":"IF(D199<>\"\",IF('Order Form'!$B$6=\"\",\"\",'Order Form'!$B$6),\"\")","v":""}]
[{"$f":"IF(D200<>\"\",IF('Order Form'!$B$2=\"\",\"\",\"New Jersey\"),\"\")","v":""},{"$f":"IF(D200<>\"\",IF('Order Form'!$B$2=\"\",\"\",'Order Form'!$B$2),\"\")","v":""},{"$f":"IF(D200<>\"\",IF('Order Form'!$B$2=\"\",\"\",'Order Form'!$B$3),\"\")","v":""},{"$f":"IF(_xlfn.XLOOKUP(INDEX('Order Form'!$C:$C,ROW(D200)+9),lists!I:I,lists!C:C,\"\",0,1)=0,\"\",_xlfn.XLOOKUP(INDEX('Order Form'!$C:$C,ROW(D200)+9),lists!I:I,lists!C:C,\"\",0,1))","v":""},{"$f":"IF(INDEX('Order Form'!$D:$D,ROW(D200)+9)>0,INDEX('Order Form'!$D:$D,ROW(D200)+9),\"\")","v":""},{"$f":"IF(INDEX('Order Form'!$E:$E,ROW(E200)+9)>0,INDEX('Order Form'!$E:$E,ROW(E200)+9),\"\")","v":""},{"$f":"IF(D200>\"\",IF('Order Form'!$B$7<>0,'Order Form'!$B$7,\"\"),\"\")","v":""},{"$f":"IF(D200<>\"\",IF('Order Form'!$B$4=\"\",\"\",'Order Form'!$B$4),\"\")","v":""},{"$f":"IF(D200<>\"\",IF('Order Form'!$B$5=\"\",\"\",'Order Form'!$B$5),\"\")","v":""},{"$f":"IF(D200<>\"\",IF('Order Form'!$B$6=\"\",\"\",'Order Form'!$B$6),\"\")","v":""}]
[{"$f":"IF(D201<>\"\",IF('Order Form'!$B$2=\"\",\"\",\"New Jersey\"),\"\")","v":""},{"$f":"IF(D201<>\"\",IF('Order Form'!$B$2=\"\",\"\",'Order Form'!$B$2),\"\")","v":""},{"$f":"IF(D201<>\"\",IF('Order Form'!$B$2=\"\",\"\",'Order Form'!$B$3),\"\")","v":""},{"$f":"IF(_xlfn.XLOOKUP(INDEX('Order Form'!$C:$C,ROW(D201)+9),lists!I:I,lists!C:C,\"\",0,1)=0,\"\",_xlfn.XLOOKUP(INDEX('Order Form'!$C:$C,ROW(D201)+9),lists!I:I,lists!C:C,\"\",0,1))","v":""},{"$f":"IF(INDEX('Order Form'!$D:$D,ROW(D201)+9)>0,INDEX('Order Form'!$D:$D,ROW(D201)+9),\"\")","v":""},{"$f":"IF(INDEX('Order Form'!$E:$E,ROW(E201)+9)>0,INDEX('Order Form'!$E:$E,ROW(E201)+9),\"\")","v":""},{"$f":"IF(D201>\"\",IF('Order Form'!$B$7<>0,'Order Form'!$B$7,\"\"),\"\")","v":""},{"$f":"IF(D201<>\"\",IF('Order Form'!$B$4=\"\",\"\",'Order Form'!$B$4),\"\")","v":""},{"$f":"IF(D201<>\"\",IF('Order Form'!$B$5=\"\",\"\",'Order Form'!$B$5),\"\")","v":""},{"$f":"IF(D201<>\"\",IF('Order Form'!$B$6=\"\",\"\",'Order Form'!$B$6),\"\")","v":""}]
[{"$f":"IF(D202<>\"\",IF('Order Form'!$B$2=\"\",\"\",\"New Jersey\"),\"\")","v":""},{"$f":"IF(D202<>\"\",IF('Order Form'!$B$2=\"\",\"\",'Order Form'!$B$2),\"\")","v":""},{"$f":"IF(D202<>\"\",IF('Order Form'!$B$2=\"\",\"\",'Order Form'!$B$3),\"\")","v":""},{"$f":"IF(_xlfn.XLOOKUP(INDEX('Order Form'!$C:$C,ROW(D202)+9),lists!I:I,lists!C:C,\"\",0,1)=0,\"\",_xlfn.XLOOKUP(INDEX('Order Form'!$C:$C,ROW(D202)+9),lists!I:I,lists!C:C,\"\",0,1))","v":""},{"$f":"IF(INDEX('Order Form'!$D:$D,ROW(D202)+9)>0,INDEX('Order Form'!$D:$D,ROW(D202)+9),\"\")","v":""},{"$f":"IF(INDEX('Order Form'!$E:$E,ROW(E202)+9)>0,INDEX('Order Form'!$E:$E,ROW(E202)+9),\"\")","v":""},{"$f":"IF(D202>\"\",IF('Order Form'!$B$7<>0,'Order Form'!$B$7,\"\"),\"\")","v":""},{"$f":"IF(D202<>\"\",IF('Order Form'!$B$4=\"\",\"\",'Order Form'!$B$4),\"\")","v":""},{"$f":"IF(D202<>\"\",IF('Order Form'!$B$5=\"\",\"\",'Order Form'!$B$5),\"\")","v":""},{"$f":"IF(D202<>\"\",IF('Order Form'!$B$6=\"\",\"\",'Order Form'!$B$6),\"\")","v":""}]
[{"$f":"IF(D203<>\"\",IF('Order Form'!$B$2=\"\",\"\",\"New Jersey\"),\"\")","v":""},{"$f":"IF(D203<>\"\",IF('Order Form'!$B$2=\"\",\"\",'Order Form'!$B$2),\"\")","v":""},{"$f":"IF(D203<>\"\",IF('Order Form'!$B$2=\"\",\"\",'Order Form'!$B$3),\"\")","v":""},{"$f":"IF(_xlfn.XLOOKUP(INDEX('Order Form'!$C:$C,ROW(D203)+9),lists!I:I,lists!C:C,\"\",0,1)=0,\"\",_xlfn.XLOOKUP(INDEX('Order Form'!$C:$C,ROW(D203)+9),lists!I:I,lists!C:C,\"\",0,1))","v":""},{"$f":"IF(INDEX('Order Form'!$D:$D,ROW(D203)+9)>0,INDEX('Order Form'!$D:$D,ROW(D203)+9),\"\")","v":""},{"$f":"IF(INDEX('Order Form'!$E:$E,ROW(E203)+9)>0,INDEX('Order Form'!$E:$E,ROW(E203)+9),\"\")","v":""},{"$f":"IF(D203>\"\",IF('Order Form'!$B$7<>0,'Order Form'!$B$7,\"\"),\"\")","v":""},{"$f":"IF(D203<>\"\",IF('Order Form'!$B$4=\"\",\"\",'Order Form'!$B$4),\"\")","v":""},{"$f":"IF(D203<>\"\",IF('Order Form'!$B$5=\"\",\"\",'Order Form'!$B$5),\"\")","v":""},{"$f":"IF(D203<>\"\",IF('Order Form'!$B$6=\"\",\"\",'Order Form'!$B$6),\"\")","v":""}]
[{"$f":"IF(D204<>\"\",IF('Order Form'!$B$2=\"\",\"\",\"New Jersey\"),\"\")","v":""},{"$f":"IF(D204<>\"\",IF('Order Form'!$B$2=\"\",\"\",'Order Form'!$B$2),\"\")","v":""},{"$f":"IF(D204<>\"\",IF('Order Form'!$B$2=\"\",\"\",'Order Form'!$B$3),\"\")","v":""},{"$f":"IF(_xlfn.XLOOKUP(INDEX('Order Form'!$C:$C,ROW(D204)+9),lists!I:I,lists!C:C,\"\",0,1)=0,\"\",_xlfn.XLOOKUP(INDEX('Order Form'!$C:$C,ROW(D204)+9),lists!I:I,lists!C:C,\"\",0,1))","v":""},{"$f":"IF(INDEX('Order Form'!$D:$D,ROW(D204)+9)>0,INDEX('Order Form'!$D:$D,ROW(D204)+9),\"\")","v":""},{"$f":"IF(INDEX('Order Form'!$E:$E,ROW(E204)+9)>0,INDEX('Order Form'!$E:$E,ROW(E204)+9),\"\")","v":""},{"$f":"IF(D204>\"\",IF('Order Form'!$B$7<>0,'Order Form'!$B$7,\"\"),\"\")","v":""},{"$f":"IF(D204<>\"\",IF('Order Form'!$B$4=\"\",\"\",'Order Form'!$B$4),\"\")","v":""},{"$f":"IF(D204<>\"\",IF('Order Form'!$B$5=\"\",\"\",'Order Form'!$B$5),\"\")","v":""},{"$f":"IF(D204<>\"\",IF('Order Form'!$B$6=\"\",\"\",'Order Form'!$B$6),\"\")","v":""}]
[{"$f":"IF(D205<>\"\",IF('Order Form'!$B$2=\"\",\"\",\"New Jersey\"),\"\")","v":""},{"$f":"IF(D205<>\"\",IF('Order Form'!$B$2=\"\",\"\",'Order Form'!$B$2),\"\")","v":""},{"$f":"IF(D205<>\"\",IF('Order Form'!$B$2=\"\",\"\",'Order Form'!$B$3),\"\")","v":""},{"$f":"IF(_xlfn.XLOOKUP(INDEX('Order Form'!$C:$C,ROW(D205)+9),lists!I:I,lists!C:C,\"\",0,1)=0,\"\",_xlfn.XLOOKUP(INDEX('Order Form'!$C:$C,ROW(D205)+9),lists!I:I,lists!C:C,\"\",0,1))","v":""},{"$f":"IF(INDEX('Order Form'!$D:$D,ROW(D205)+9)>0,INDEX('Order Form'!$D:$D,ROW(D205)+9),\"\")","v":""},{"$f":"IF(INDEX('Order Form'!$E:$E,ROW(E205)+9)>0,INDEX('Order Form'!$E:$E,ROW(E205)+9),\"\")","v":""},{"$f":"IF(D205>\"\",IF('Order Form'!$B$7<>0,'Order Form'!$B$7,\"\"),\"\")","v":""},{"$f":"IF(D205<>\"\",IF('Order Form'!$B$4=\"\",\"\",'Order Form'!$B$4),\"\")","v":""},{"$f":"IF(D205<>\"\",IF('Order Form'!$B$5=\"\",\"\",'Order Form'!$B$5),\"\")","v":""},{"$f":"IF(D205<>\"\",IF('Order Form'!$B$6=\"\",\"\",'Order Form'!$B$6),\"\")","v":""}]
[{"$f":"IF(D206<>\"\",IF('Order Form'!$B$2=\"\",\"\",\"New Jersey\"),\"\")","v":""},{"$f":"IF(D206<>\"\",IF('Order Form'!$B$2=\"\",\"\",'Order Form'!$B$2),\"\")","v":""},{"$f":"IF(D206<>\"\",IF('Order Form'!$B$2=\"\",\"\",'Order Form'!$B$3),\"\")","v":""},{"$f":"IF(_xlfn.XLOOKUP(INDEX('Order Form'!$C:$C,ROW(D206)+9),lists!I:I,lists!C:C,\"\",0,1)=0,\"\",_xlfn.XLOOKUP(INDEX('Order Form'!$C:$C,ROW(D206)+9),lists!I:I,lists!C:C,\"\",0,1))","v":""},{"$f":"IF(INDEX('Order Form'!$D:$D,ROW(D206)+9)>0,INDEX('Order Form'!$D:$D,ROW(D206)+9),\"\")","v":""},{"$f":"IF(INDEX('Order Form'!$E:$E,ROW(E206)+9)>0,INDEX('Order Form'!$E:$E,ROW(E206)+9),\"\")","v":""},{"$f":"IF(D206>\"\",IF('Order Form'!$B$7<>0,'Order Form'!$B$7,\"\"),\"\")","v":""},{"$f":"IF(D206<>\"\",IF('Order Form'!$B$4=\"\",\"\",'Order Form'!$B$4),\"\")","v":""},{"$f":"IF(D206<>\"\",IF('Order Form'!$B$5=\"\",\"\",'Order Form'!$B$5),\"\")","v":""},{"$f":"IF(D206<>\"\",IF('Order Form'!$B$6=\"\",\"\",'Order Form'!$B$6),\"\")","v":""}]
[{"$f":"IF(D207<>\"\",IF('Order Form'!$B$2=\"\",\"\",\"New Jersey\"),\"\")","v":""},{"$f":"IF(D207<>\"\",IF('Order Form'!$B$2=\"\",\"\",'Order Form'!$B$2),\"\")","v":""},{"$f":"IF(D207<>\"\",IF('Order Form'!$B$2=\"\",\"\",'Order Form'!$B$3),\"\")","v":""},{"$f":"IF(_xlfn.XLOOKUP(INDEX('Order Form'!$C:$C,ROW(D207)+9),lists!I:I,lists!C:C,\"\",0,1)=0,\"\",_xlfn.XLOOKUP(INDEX('Order Form'!$C:$C,ROW(D207)+9),lists!I:I,lists!C:C,\"\",0,1))","v":""},{"$f":"IF(INDEX('Order Form'!$D:$D,ROW(D207)+9)>0,INDEX('Order Form'!$D:$D,ROW(D207)+9),\"\")","v":""},{"$f":"IF(INDEX('Order Form'!$E:$E,ROW(E207)+9)>0,INDEX('Order Form'!$E:$E,ROW(E207)+9),\"\")","v":""},{"$f":"IF(D207>\"\",IF('Order Form'!$B$7<>0,'Order Form'!$B$7,\"\"),\"\")","v":""},{"$f":"IF(D207<>\"\",IF('Order Form'!$B$4=\"\",\"\",'Order Form'!$B$4),\"\")","v":""},{"$f":"IF(D207<>\"\",IF('Order Form'!$B$5=\"\",\"\",'Order Form'!$B$5),\"\")","v":""},{"$f":"IF(D207<>\"\",IF('Order Form'!$B$6=\"\",\"\",'Order Form'!$B$6),\"\")","v":""}]
[{"$f":"IF(D208<>\"\",IF('Order Form'!$B$2=\"\",\"\",\"New Jersey\"),\"\")","v":""},{"$f":"IF(D208<>\"\",IF('Order Form'!$B$2=\"\",\"\",'Order Form'!$B$2),\"\")","v":""},{"$f":"IF(D208<>\"\",IF('Order Form'!$B$2=\"\",\"\",'Order Form'!$B$3),\"\")","v":""},{"$f":"IF(_xlfn.XLOOKUP(INDEX('Order Form'!$C:$C,ROW(D208)+9),lists!I:I,lists!C:C,\"\",0,1)=0,\"\",_xlfn.XLOOKUP(INDEX('Order Form'!$C:$C,ROW(D208)+9),lists!I:I,lists!C:C,\"\",0,1))","v":""},{"$f":"IF(INDEX('Order Form'!$D:$D,ROW(D208)+9)>0,INDEX('Order Form'!$D:$D,ROW(D208)+9),\"\")","v":""},{"$f":"IF(INDEX('Order Form'!$E:$E,ROW(E208)+9)>0,INDEX('Order Form'!$E:$E,ROW(E208)+9),\"\")","v":""},{"$f":"IF(D208>\"\",IF('Order Form'!$B$7<>0,'Order Form'!$B$7,\"\"),\"\")","v":""},{"$f":"IF(D208<>\"\",IF('Order Form'!$B$4=\"\",\"\",'Order Form'!$B$4),\"\")","v":""},{"$f":"IF(D208<>\"\",IF('Order Form'!$B$5=\"\",\"\",'Order Form'!$B$5),\"\")","v":""},{"$f":"IF(D208<>\"\",IF('Order Form'!$B$6=\"\",\"\",'Order Form'!$B$6),\"\")","v":""}]
[{"$f":"IF(D209<>\"\",IF('Order Form'!$B$2=\"\",\"\",\"New Jersey\"),\"\")","v":""},{"$f":"IF(D209<>\"\",IF('Order Form'!$B$2=\"\",\"\",'Order Form'!$B$2),\"\")","v":""},{"$f":"IF(D209<>\"\",IF('Order Form'!$B$2=\"\",\"\",'Order Form'!$B$3),\"\")","v":""},{"$f":"IF(_xlfn.XLOOKUP(INDEX('Order Form'!$C:$C,ROW(D209)+9),lists!I:I,lists!C:C,\"\",0,1)=0,\"\",_xlfn.XLOOKUP(INDEX('Order Form'!$C:$C,ROW(D209)+9),lists!I:I,lists!C:C,\"\",0,1))","v":""},{"$f":"IF(INDEX('Order Form'!$D:$D,ROW(D209)+9)>0,INDEX('Order Form'!$D:$D,ROW(D209)+9),\"\")","v":""},{"$f":"IF(INDEX('Order Form'!$E:$E,ROW(E209)+9)>0,INDEX('Order Form'!$E:$E,ROW(E209)+9),\"\")","v":""},{"$f":"IF(D209>\"\",IF('Order Form'!$B$7<>0,'Order Form'!$B$7,\"\"),\"\")","v":""},{"$f":"IF(D209<>\"\",IF('Order Form'!$B$4=\"\",\"\",'Order Form'!$B$4),\"\")","v":""},{"$f":"IF(D209<>\"\",IF('Order Form'!$B$5=\"\",\"\",'Order Form'!$B$5),\"\")","v":""},{"$f":"IF(D209<>\"\",IF('Order Form'!$B$6=\"\",\"\",'Order Form'!$B$6),\"\")","v":""}]
[{"$f":"IF(D210<>\"\",IF('Order Form'!$B$2=\"\",\"\",\"New Jersey\"),\"\")","v":""},{"$f":"IF(D210<>\"\",IF('Order Form'!$B$2=\"\",\"\",'Order Form'!$B$2),\"\")","v":""},{"$f":"IF(D210<>\"\",IF('Order Form'!$B$2=\"\",\"\",'Order Form'!$B$3),\"\")","v":""},{"$f":"IF(_xlfn.XLOOKUP(INDEX('Order Form'!$C:$C,ROW(D210)+9),lists!I:I,lists!C:C,\"\",0,1)=0,\"\",_xlfn.XLOOKUP(INDEX('Order Form'!$C:$C,ROW(D210)+9),lists!I:I,lists!C:C,\"\",0,1))","v":""},{"$f":"IF(INDEX('Order Form'!$D:$D,ROW(D210)+9)>0,INDEX('Order Form'!$D:$D,ROW(D210)+9),\"\")","v":""},{"$f":"IF(INDEX('Order Form'!$E:$E,ROW(E210)+9)>0,INDEX('Order Form'!$E:$E,ROW(E210)+9),\"\")","v":""},{"$f":"IF(D210>\"\",IF('Order Form'!$B$7<>0,'Order Form'!$B$7,\"\"),\"\")","v":""},{"$f":"IF(D210<>\"\",IF('Order Form'!$B$4=\"\",\"\",'Order Form'!$B$4),\"\")","v":""},{"$f":"IF(D210<>\"\",IF('Order Form'!$B$5=\"\",\"\",'Order Form'!$B$5),\"\")","v":""},{"$f":"IF(D210<>\"\",IF('Order Form'!$B$6=\"\",\"\",'Order Form'!$B$6),\"\")","v":""}]
[{"$f":"IF(D211<>\"\",IF('Order Form'!$B$2=\"\",\"\",\"New Jersey\"),\"\")","v":""},{"$f":"IF(D211<>\"\",IF('Order Form'!$B$2=\"\",\"\",'Order Form'!$B$2),\"\")","v":""},{"$f":"IF(D211<>\"\",IF('Order Form'!$B$2=\"\",\"\",'Order Form'!$B$3),\"\")","v":""},{"$f":"IF(_xlfn.XLOOKUP(INDEX('Order Form'!$C:$C,ROW(D211)+9),lists!I:I,lists!C:C,\"\",0,1)=0,\"\",_xlfn.XLOOKUP(INDEX('Order Form'!$C:$C,ROW(D211)+9),lists!I:I,lists!C:C,\"\",0,1))","v":""},{"$f":"IF(INDEX('Order Form'!$D:$D,ROW(D211)+9)>0,INDEX('Order Form'!$D:$D,ROW(D211)+9),\"\")","v":""},{"$f":"IF(INDEX('Order Form'!$E:$E,ROW(E211)+9)>0,INDEX('Order Form'!$E:$E,ROW(E211)+9),\"\")","v":""},{"$f":"IF(D211>\"\",IF('Order Form'!$B$7<>0,'Order Form'!$B$7,\"\"),\"\")","v":""},{"$f":"IF(D211<>\"\",IF('Order Form'!$B$4=\"\",\"\",'Order Form'!$B$4),\"\")","v":""},{"$f":"IF(D211<>\"\",IF('Order Form'!$B$5=\"\",\"\",'Order Form'!$B$5),\"\")","v":""},{"$f":"IF(D211<>\"\",IF('Order Form'!$B$6=\"\",\"\",'Order Form'!$B$6),\"\")","v":""}]
[{"$f":"IF(D212<>\"\",IF('Order Form'!$B$2=\"\",\"\",\"New Jersey\"),\"\")","v":""},{"$f":"IF(D212<>\"\",IF('Order Form'!$B$2=\"\",\"\",'Order Form'!$B$2),\"\")","v":""},{"$f":"IF(D212<>\"\",IF('Order Form'!$B$2=\"\",\"\",'Order Form'!$B$3),\"\")","v":""},{"$f":"IF(_xlfn.XLOOKUP(INDEX('Order Form'!$C:$C,ROW(D212)+9),lists!I:I,lists!C:C,\"\",0,1)=0,\"\",_xlfn.XLOOKUP(INDEX('Order Form'!$C:$C,ROW(D212)+9),lists!I:I,lists!C:C,\"\",0,1))","v":""},{"$f":"IF(INDEX('Order Form'!$D:$D,ROW(D212)+9)>0,INDEX('Order Form'!$D:$D,ROW(D212)+9),\"\")","v":""},{"$f":"IF(INDEX('Order Form'!$E:$E,ROW(E212)+9)>0,INDEX('Order Form'!$E:$E,ROW(E212)+9),\"\")","v":""},{"$f":"IF(D212>\"\",IF('Order Form'!$B$7<>0,'Order Form'!$B$7,\"\"),\"\")","v":""},{"$f":"IF(D212<>\"\",IF('Order Form'!$B$4=\"\",\"\",'Order Form'!$B$4),\"\")","v":""},{"$f":"IF(D212<>\"\",IF('Order Form'!$B$5=\"\",\"\",'Order Form'!$B$5),\"\")","v":""},{"$f":"IF(D212<>\"\",IF('Order Form'!$B$6=\"\",\"\",'Order Form'!$B$6),\"\")","v":""}]
[{"$f":"IF(D213<>\"\",IF('Order Form'!$B$2=\"\",\"\",\"New Jersey\"),\"\")","v":""},{"$f":"IF(D213<>\"\",IF('Order Form'!$B$2=\"\",\"\",'Order Form'!$B$2),\"\")","v":""},{"$f":"IF(D213<>\"\",IF('Order Form'!$B$2=\"\",\"\",'Order Form'!$B$3),\"\")","v":""},{"$f":"IF(_xlfn.XLOOKUP(INDEX('Order Form'!$C:$C,ROW(D213)+9),lists!I:I,lists!C:C,\"\",0,1)=0,\"\",_xlfn.XLOOKUP(INDEX('Order Form'!$C:$C,ROW(D213)+9),lists!I:I,lists!C:C,\"\",0,1))","v":""},{"$f":"IF(INDEX('Order Form'!$D:$D,ROW(D213)+9)>0,INDEX('Order Form'!$D:$D,ROW(D213)+9),\"\")","v":""},{"$f":"IF(INDEX('Order Form'!$E:$E,ROW(E213)+9)>0,INDEX('Order Form'!$E:$E,ROW(E213)+9),\"\")","v":""},{"$f":"IF(D213>\"\",IF('Order Form'!$B$7<>0,'Order Form'!$B$7,\"\"),\"\")","v":""},{"$f":"IF(D213<>\"\",IF('Order Form'!$B$4=\"\",\"\",'Order Form'!$B$4),\"\")","v":""},{"$f":"IF(D213<>\"\",IF('Order Form'!$B$5=\"\",\"\",'Order Form'!$B$5),\"\")","v":""},{"$f":"IF(D213<>\"\",IF('Order Form'!$B$6=\"\",\"\",'Order Form'!$B$6),\"\")","v":""}]
[{"$f":"IF(D214<>\"\",IF('Order Form'!$B$2=\"\",\"\",\"New Jersey\"),\"\")","v":""},{"$f":"IF(D214<>\"\",IF('Order Form'!$B$2=\"\",\"\",'Order Form'!$B$2),\"\")","v":""},{"$f":"IF(D214<>\"\",IF('Order Form'!$B$2=\"\",\"\",'Order Form'!$B$3),\"\")","v":""},{"$f":"IF(_xlfn.XLOOKUP(INDEX('Order Form'!$C:$C,ROW(D214)+9),lists!I:I,lists!C:C,\"\",0,1)=0,\"\",_xlfn.XLOOKUP(INDEX('Order Form'!$C:$C,ROW(D214)+9),lists!I:I,lists!C:C,\"\",0,1))","v":""},{"$f":"IF(INDEX('Order Form'!$D:$D,ROW(D214)+9)>0,INDEX('Order Form'!$D:$D,ROW(D214)+9),\"\")","v":""},{"$f":"IF(INDEX('Order Form'!$E:$E,ROW(E214)+9)>0,INDEX('Order Form'!$E:$E,ROW(E214)+9),\"\")","v":""},{"$f":"IF(D214>\"\",IF('Order Form'!$B$7<>0,'Order Form'!$B$7,\"\"),\"\")","v":""},{"$f":"IF(D214<>\"\",IF('Order Form'!$B$4=\"\",\"\",'Order Form'!$B$4),\"\")","v":""},{"$f":"IF(D214<>\"\",IF('Order Form'!$B$5=\"\",\"\",'Order Form'!$B$5),\"\")","v":""},{"$f":"IF(D214<>\"\",IF('Order Form'!$B$6=\"\",\"\",'Order Form'!$B$6),\"\")","v":""}]
[{"$f":"IF(D215<>\"\",IF('Order Form'!$B$2=\"\",\"\",\"New Jersey\"),\"\")","v":""},{"$f":"IF(D215<>\"\",IF('Order Form'!$B$2=\"\",\"\",'Order Form'!$B$2),\"\")","v":""},{"$f":"IF(D215<>\"\",IF('Order Form'!$B$2=\"\",\"\",'Order Form'!$B$3),\"\")","v":""},{"$f":"IF(_xlfn.XLOOKUP(INDEX('Order Form'!$C:$C,ROW(D215)+9),lists!I:I,lists!C:C,\"\",0,1)=0,\"\",_xlfn.XLOOKUP(INDEX('Order Form'!$C:$C,ROW(D215)+9),lists!I:I,lists!C:C,\"\",0,1))","v":""},{"$f":"IF(INDEX('Order Form'!$D:$D,ROW(D215)+9)>0,INDEX('Order Form'!$D:$D,ROW(D215)+9),\"\")","v":""},{"$f":"IF(INDEX('Order Form'!$E:$E,ROW(E215)+9)>0,INDEX('Order Form'!$E:$E,ROW(E215)+9),\"\")","v":""},{"$f":"IF(D215>\"\",IF('Order Form'!$B$7<>0,'Order Form'!$B$7,\"\"),\"\")","v":""},{"$f":"IF(D215<>\"\",IF('Order Form'!$B$4=\"\",\"\",'Order Form'!$B$4),\"\")","v":""},{"$f":"IF(D215<>\"\",IF('Order Form'!$B$5=\"\",\"\",'Order Form'!$B$5),\"\")","v":""},{"$f":"IF(D215<>\"\",IF('Order Form'!$B$6=\"\",\"\",'Order Form'!$B$6),\"\")","v":""}]
[{"$f":"IF(D216<>\"\",IF('Order Form'!$B$2=\"\",\"\",\"New Jersey\"),\"\")","v":""},{"$f":"IF(D216<>\"\",IF('Order Form'!$B$2=\"\",\"\",'Order Form'!$B$2),\"\")","v":""},{"$f":"IF(D216<>\"\",IF('Order Form'!$B$2=\"\",\"\",'Order Form'!$B$3),\"\")","v":""},{"$f":"IF(_xlfn.XLOOKUP(INDEX('Order Form'!$C:$C,ROW(D216)+9),lists!I:I,lists!C:C,\"\",0,1)=0,\"\",_xlfn.XLOOKUP(INDEX('Order Form'!$C:$C,ROW(D216)+9),lists!I:I,lists!C:C,\"\",0,1))","v":""},{"$f":"IF(INDEX('Order Form'!$D:$D,ROW(D216)+9)>0,INDEX('Order Form'!$D:$D,ROW(D216)+9),\"\")","v":""},{"$f":"IF(INDEX('Order Form'!$E:$E,ROW(E216)+9)>0,INDEX('Order Form'!$E:$E,ROW(E216)+9),\"\")","v":""},{"$f":"IF(D216>\"\",IF('Order Form'!$B$7<>0,'Order Form'!$B$7,\"\"),\"\")","v":""},{"$f":"IF(D216<>\"\",IF('Order Form'!$B$4=\"\",\"\",'Order Form'!$B$4),\"\")","v":""},{"$f":"IF(D216<>\"\",IF('Order Form'!$B$5=\"\",\"\",'Order Form'!$B$5),\"\")","v":""},{"$f":"IF(D216<>\"\",IF('Order Form'!$B$6=\"\",\"\",'Order Form'!$B$6),\"\")","v":""}]
[{"$f":"IF(D217<>\"\",IF('Order Form'!$B$2=\"\",\"\",\"New Jersey\"),\"\")","v":""},{"$f":"IF(D217<>\"\",IF('Order Form'!$B$2=\"\",\"\",'Order Form'!$B$2),\"\")","v":""},{"$f":"IF(D217<>\"\",IF('Order Form'!$B$2=\"\",\"\",'Order Form'!$B$3),\"\")","v":""},{"$f":"IF(_xlfn.XLOOKUP(INDEX('Order Form'!$C:$C,ROW(D217)+9),lists!I:I,lists!C:C,\"\",0,1)=0,\"\",_xlfn.XLOOKUP(INDEX('Order Form'!$C:$C,ROW(D217)+9),lists!I:I,lists!C:C,\"\",0,1))","v":""},{"$f":"IF(INDEX('Order Form'!$D:$D,ROW(D217)+9)>0,INDEX('Order Form'!$D:$D,ROW(D217)+9),\"\")","v":""},{"$f":"IF(INDEX('Order Form'!$E:$E,ROW(E217)+9)>0,INDEX('Order Form'!$E:$E,ROW(E217)+9),\"\")","v":""},{"$f":"IF(D217>\"\",IF('Order Form'!$B$7<>0,'Order Form'!$B$7,\"\"),\"\")","v":""},{"$f":"IF(D217<>\"\",IF('Order Form'!$B$4=\"\",\"\",'Order Form'!$B$4),\"\")","v":""},{"$f":"IF(D217<>\"\",IF('Order Form'!$B$5=\"\",\"\",'Order Form'!$B$5),\"\")","v":""},{"$f":"IF(D217<>\"\",IF('Order Form'!$B$6=\"\",\"\",'Order Form'!$B$6),\"\")","v":""}]
[{"$f":"IF(D218<>\"\",IF('Order Form'!$B$2=\"\",\"\",\"New Jersey\"),\"\")","v":""},{"$f":"IF(D218<>\"\",IF('Order Form'!$B$2=\"\",\"\",'Order Form'!$B$2),\"\")","v":""},{"$f":"IF(D218<>\"\",IF('Order Form'!$B$2=\"\",\"\",'Order Form'!$B$3),\"\")","v":""},{"$f":"IF(_xlfn.XLOOKUP(INDEX('Order Form'!$C:$C,ROW(D218)+9),lists!I:I,lists!C:C,\"\",0,1)=0,\"\",_xlfn.XLOOKUP(INDEX('Order Form'!$C:$C,ROW(D218)+9),lists!I:I,lists!C:C,\"\",0,1))","v":""},{"$f":"IF(INDEX('Order Form'!$D:$D,ROW(D218)+9)>0,INDEX('Order Form'!$D:$D,ROW(D218)+9),\"\")","v":""},{"$f":"IF(INDEX('Order Form'!$E:$E,ROW(E218)+9)>0,INDEX('Order Form'!$E:$E,ROW(E218)+9),\"\")","v":""},{"$f":"IF(D218>\"\",IF('Order Form'!$B$7<>0,'Order Form'!$B$7,\"\"),\"\")","v":""},{"$f":"IF(D218<>\"\",IF('Order Form'!$B$4=\"\",\"\",'Order Form'!$B$4),\"\")","v":""},{"$f":"IF(D218<>\"\",IF('Order Form'!$B$5=\"\",\"\",'Order Form'!$B$5),\"\")","v":""},{"$f":"IF(D218<>\"\",IF('Order Form'!$B$6=\"\",\"\",'Order Form'!$B$6),\"\")","v":""}]
[{"$f":"IF(D219<>\"\",IF('Order Form'!$B$2=\"\",\"\",\"New Jersey\"),\"\")","v":""},{"$f":"IF(D219<>\"\",IF('Order Form'!$B$2=\"\",\"\",'Order Form'!$B$2),\"\")","v":""},{"$f":"IF(D219<>\"\",IF('Order Form'!$B$2=\"\",\"\",'Order Form'!$B$3),\"\")","v":""},{"$f":"IF(_xlfn.XLOOKUP(INDEX('Order Form'!$C:$C,ROW(D219)+9),lists!I:I,lists!C:C,\"\",0,1)=0,\"\",_xlfn.XLOOKUP(INDEX('Order Form'!$C:$C,ROW(D219)+9),lists!I:I,lists!C:C,\"\",0,1))","v":""},{"$f":"IF(INDEX('Order Form'!$D:$D,ROW(D219)+9)>0,INDEX('Order Form'!$D:$D,ROW(D219)+9),\"\")","v":""},{"$f":"IF(INDEX('Order Form'!$E:$E,ROW(E219)+9)>0,INDEX('Order Form'!$E:$E,ROW(E219)+9),\"\")","v":""},{"$f":"IF(D219>\"\",IF('Order Form'!$B$7<>0,'Order Form'!$B$7,\"\"),\"\")","v":""},{"$f":"IF(D219<>\"\",IF('Order Form'!$B$4=\"\",\"\",'Order Form'!$B$4),\"\")","v":""},{"$f":"IF(D219<>\"\",IF('Order Form'!$B$5=\"\",\"\",'Order Form'!$B$5),\"\")","v":""},{"$f":"IF(D219<>\"\",IF('Order Form'!$B$6=\"\",\"\",'Order Form'!$B$6),\"\")","v":""}]
[{"$f":"IF(D220<>\"\",IF('Order Form'!$B$2=\"\",\"\",\"New Jersey\"),\"\")","v":""},{"$f":"IF(D220<>\"\",IF('Order Form'!$B$2=\"\",\"\",'Order Form'!$B$2),\"\")","v":""},{"$f":"IF(D220<>\"\",IF('Order Form'!$B$2=\"\",\"\",'Order Form'!$B$3),\"\")","v":""},{"$f":"IF(_xlfn.XLOOKUP(INDEX('Order Form'!$C:$C,ROW(D220)+9),lists!I:I,lists!C:C,\"\",0,1)=0,\"\",_xlfn.XLOOKUP(INDEX('Order Form'!$C:$C,ROW(D220)+9),lists!I:I,lists!C:C,\"\",0,1))","v":""},{"$f":"IF(INDEX('Order Form'!$D:$D,ROW(D220)+9)>0,INDEX('Order Form'!$D:$D,ROW(D220)+9),\"\")","v":""},{"$f":"IF(INDEX('Order Form'!$E:$E,ROW(E220)+9)>0,INDEX('Order Form'!$E:$E,ROW(E220)+9),\"\")","v":""},{"$f":"IF(D220>\"\",IF('Order Form'!$B$7<>0,'Order Form'!$B$7,\"\"),\"\")","v":""},{"$f":"IF(D220<>\"\",IF('Order Form'!$B$4=\"\",\"\",'Order Form'!$B$4),\"\")","v":""},{"$f":"IF(D220<>\"\",IF('Order Form'!$B$5=\"\",\"\",'Order Form'!$B$5),\"\")","v":""},{"$f":"IF(D220<>\"\",IF('Order Form'!$B$6=\"\",\"\",'Order Form'!$B$6),\"\")","v":""}]
[{"$f":"IF(D221<>\"\",IF('Order Form'!$B$2=\"\",\"\",\"New Jersey\"),\"\")","v":""},{"$f":"IF(D221<>\"\",IF('Order Form'!$B$2=\"\",\"\",'Order Form'!$B$2),\"\")","v":""},{"$f":"IF(D221<>\"\",IF('Order Form'!$B$2=\"\",\"\",'Order Form'!$B$3),\"\")","v":""},{"$f":"IF(_xlfn.XLOOKUP(INDEX('Order Form'!$C:$C,ROW(D221)+9),lists!I:I,lists!C:C,\"\",0,1)=0,\"\",_xlfn.XLOOKUP(INDEX('Order Form'!$C:$C,ROW(D221)+9),lists!I:I,lists!C:C,\"\",0,1))","v":""},{"$f":"IF(INDEX('Order Form'!$D:$D,ROW(D221)+9)>0,INDEX('Order Form'!$D:$D,ROW(D221)+9),\"\")","v":""},{"$f":"IF(INDEX('Order Form'!$E:$E,ROW(E221)+9)>0,INDEX('Order Form'!$E:$E,ROW(E221)+9),\"\")","v":""},{"$f":"IF(D221>\"\",IF('Order Form'!$B$7<>0,'Order Form'!$B$7,\"\"),\"\")","v":""},{"$f":"IF(D221<>\"\",IF('Order Form'!$B$4=\"\",\"\",'Order Form'!$B$4),\"\")","v":""},{"$f":"IF(D221<>\"\",IF('Order Form'!$B$5=\"\",\"\",'Order Form'!$B$5),\"\")","v":""},{"$f":"IF(D221<>\"\",IF('Order Form'!$B$6=\"\",\"\",'Order Form'!$B$6),\"\")","v":""}]
[{"$f":"IF(D222<>\"\",IF('Order Form'!$B$2=\"\",\"\",\"New Jersey\"),\"\")","v":""},{"$f":"IF(D222<>\"\",IF('Order Form'!$B$2=\"\",\"\",'Order Form'!$B$2),\"\")","v":""},{"$f":"IF(D222<>\"\",IF('Order Form'!$B$2=\"\",\"\",'Order Form'!$B$3),\"\")","v":""},{"$f":"IF(_xlfn.XLOOKUP(INDEX('Order Form'!$C:$C,ROW(D222)+9),lists!I:I,lists!C:C,\"\",0,1)=0,\"\",_xlfn.XLOOKUP(INDEX('Order Form'!$C:$C,ROW(D222)+9),lists!I:I,lists!C:C,\"\",0,1))","v":""},{"$f":"IF(INDEX('Order Form'!$D:$D,ROW(D222)+9)>0,INDEX('Order Form'!$D:$D,ROW(D222)+9),\"\")","v":""},{"$f":"IF(INDEX('Order Form'!$E:$E,ROW(E222)+9)>0,INDEX('Order Form'!$E:$E,ROW(E222)+9),\"\")","v":""},{"$f":"IF(D222>\"\",IF('Order Form'!$B$7<>0,'Order Form'!$B$7,\"\"),\"\")","v":""},{"$f":"IF(D222<>\"\",IF('Order Form'!$B$4=\"\",\"\",'Order Form'!$B$4),\"\")","v":""},{"$f":"IF(D222<>\"\",IF('Order Form'!$B$5=\"\",\"\",'Order Form'!$B$5),\"\")","v":""},{"$f":"IF(D222<>\"\",IF('Order Form'!$B$6=\"\",\"\",'Order Form'!$B$6),\"\")","v":""}]
[{"$f":"IF(D223<>\"\",IF('Order Form'!$B$2=\"\",\"\",\"New Jersey\"),\"\")","v":""},{"$f":"IF(D223<>\"\",IF('Order Form'!$B$2=\"\",\"\",'Order Form'!$B$2),\"\")","v":""},{"$f":"IF(D223<>\"\",IF('Order Form'!$B$2=\"\",\"\",'Order Form'!$B$3),\"\")","v":""},{"$f":"IF(_xlfn.XLOOKUP(INDEX('Order Form'!$C:$C,ROW(D223)+9),lists!I:I,lists!C:C,\"\",0,1)=0,\"\",_xlfn.XLOOKUP(INDEX('Order Form'!$C:$C,ROW(D223)+9),lists!I:I,lists!C:C,\"\",0,1))","v":""},{"$f":"IF(INDEX('Order Form'!$D:$D,ROW(D223)+9)>0,INDEX('Order Form'!$D:$D,ROW(D223)+9),\"\")","v":""},{"$f":"IF(INDEX('Order Form'!$E:$E,ROW(E223)+9)>0,INDEX('Order Form'!$E:$E,ROW(E223)+9),\"\")","v":""},{"$f":"IF(D223>\"\",IF('Order Form'!$B$7<>0,'Order Form'!$B$7,\"\"),\"\")","v":""},{"$f":"IF(D223<>\"\",IF('Order Form'!$B$4=\"\",\"\",'Order Form'!$B$4),\"\")","v":""},{"$f":"IF(D223<>\"\",IF('Order Form'!$B$5=\"\",\"\",'Order Form'!$B$5),\"\")","v":""},{"$f":"IF(D223<>\"\",IF('Order Form'!$B$6=\"\",\"\",'Order Form'!$B$6),\"\")","v":""}]
[{"$f":"IF(D224<>\"\",IF('Order Form'!$B$2=\"\",\"\",\"New Jersey\"),\"\")","v":""},{"$f":"IF(D224<>\"\",IF('Order Form'!$B$2=\"\",\"\",'Order Form'!$B$2),\"\")","v":""},{"$f":"IF(D224<>\"\",IF('Order Form'!$B$2=\"\",\"\",'Order Form'!$B$3),\"\")","v":""},{"$f":"IF(_xlfn.XLOOKUP(INDEX('Order Form'!$C:$C,ROW(D224)+9),lists!I:I,lists!C:C,\"\",0,1)=0,\"\",_xlfn.XLOOKUP(INDEX('Order Form'!$C:$C,ROW(D224)+9),lists!I:I,lists!C:C,\"\",0,1))","v":""},{"$f":"IF(INDEX('Order Form'!$D:$D,ROW(D224)+9)>0,INDEX('Order Form'!$D:$D,ROW(D224)+9),\"\")","v":""},{"$f":"IF(INDEX('Order Form'!$E:$E,ROW(E224)+9)>0,INDEX('Order Form'!$E:$E,ROW(E224)+9),\"\")","v":""},{"$f":"IF(D224>\"\",IF('Order Form'!$B$7<>0,'Order Form'!$B$7,\"\"),\"\")","v":""},{"$f":"IF(D224<>\"\",IF('Order Form'!$B$4=\"\",\"\",'Order Form'!$B$4),\"\")","v":""},{"$f":"IF(D224<>\"\",IF('Order Form'!$B$5=\"\",\"\",'Order Form'!$B$5),\"\")","v":""},{"$f":"IF(D224<>\"\",IF('Order Form'!$B$6=\"\",\"\",'Order Form'!$B$6),\"\")","v":""}]
[{"$f":"IF(D225<>\"\",IF('Order Form'!$B$2=\"\",\"\",\"New Jersey\"),\"\")","v":""},{"$f":"IF(D225<>\"\",IF('Order Form'!$B$2=\"\",\"\",'Order Form'!$B$2),\"\")","v":""},{"$f":"IF(D225<>\"\",IF('Order Form'!$B$2=\"\",\"\",'Order Form'!$B$3),\"\")","v":""},{"$f":"IF(_xlfn.XLOOKUP(INDEX('Order Form'!$C:$C,ROW(D225)+9),lists!I:I,lists!C:C,\"\",0,1)=0,\"\",_xlfn.XLOOKUP(INDEX('Order Form'!$C:$C,ROW(D225)+9),lists!I:I,lists!C:C,\"\",0,1))","v":""},{"$f":"IF(INDEX('Order Form'!$D:$D,ROW(D225)+9)>0,INDEX('Order Form'!$D:$D,ROW(D225)+9),\"\")","v":""},{"$f":"IF(INDEX('Order Form'!$E:$E,ROW(E225)+9)>0,INDEX('Order Form'!$E:$E,ROW(E225)+9),\"\")","v":""},{"$f":"IF(D225>\"\",IF('Order Form'!$B$7<>0,'Order Form'!$B$7,\"\"),\"\")","v":""},{"$f":"IF(D225<>\"\",IF('Order Form'!$B$4=\"\",\"\",'Order Form'!$B$4),\"\")","v":""},{"$f":"IF(D225<>\"\",IF('Order Form'!$B$5=\"\",\"\",'Order Form'!$B$5),\"\")","v":""},{"$f":"IF(D225<>\"\",IF('Order Form'!$B$6=\"\",\"\",'Order Form'!$B$6),\"\")","v":""}]
[{"$f":"IF(D226<>\"\",IF('Order Form'!$B$2=\"\",\"\",\"New Jersey\"),\"\")","v":""},{"$f":"IF(D226<>\"\",IF('Order Form'!$B$2=\"\",\"\",'Order Form'!$B$2),\"\")","v":""},{"$f":"IF(D226<>\"\",IF('Order Form'!$B$2=\"\",\"\",'Order Form'!$B$3),\"\")","v":""},{"$f":"IF(_xlfn.XLOOKUP(INDEX('Order Form'!$C:$C,ROW(D226)+9),lists!I:I,lists!C:C,\"\",0,1)=0,\"\",_xlfn.XLOOKUP(INDEX('Order Form'!$C:$C,ROW(D226)+9),lists!I:I,lists!C:C,\"\",0,1))","v":""},{"$f":"IF(INDEX('Order Form'!$D:$D,ROW(D226)+9)>0,INDEX('Order Form'!$D:$D,ROW(D226)+9),\"\")","v":""},{"$f":"IF(INDEX('Order Form'!$E:$E,ROW(E226)+9)>0,INDEX('Order Form'!$E:$E,ROW(E226)+9),\"\")","v":""},{"$f":"IF(D226>\"\",IF('Order Form'!$B$7<>0,'Order Form'!$B$7,\"\"),\"\")","v":""},{"$f":"IF(D226<>\"\",IF('Order Form'!$B$4=\"\",\"\",'Order Form'!$B$4),\"\")","v":""},{"$f":"IF(D226<>\"\",IF('Order Form'!$B$5=\"\",\"\",'Order Form'!$B$5),\"\")","v":""},{"$f":"IF(D226<>\"\",IF('Order Form'!$B$6=\"\",\"\",'Order Form'!$B$6),\"\")","v":""}]
[{"$f":"IF(D227<>\"\",IF('Order Form'!$B$2=\"\",\"\",\"New Jersey\"),\"\")","v":""},{"$f":"IF(D227<>\"\",IF('Order Form'!$B$2=\"\",\"\",'Order Form'!$B$2),\"\")","v":""},{"$f":"IF(D227<>\"\",IF('Order Form'!$B$2=\"\",\"\",'Order Form'!$B$3),\"\")","v":""},{"$f":"IF(_xlfn.XLOOKUP(INDEX('Order Form'!$C:$C,ROW(D227)+9),lists!I:I,lists!C:C,\"\",0,1)=0,\"\",_xlfn.XLOOKUP(INDEX('Order Form'!$C:$C,ROW(D227)+9),lists!I:I,lists!C:C,\"\",0,1))","v":""},{"$f":"IF(INDEX('Order Form'!$D:$D,ROW(D227)+9)>0,INDEX('Order Form'!$D:$D,ROW(D227)+9),\"\")","v":""},{"$f":"IF(INDEX('Order Form'!$E:$E,ROW(E227)+9)>0,INDEX('Order Form'!$E:$E,ROW(E227)+9),\"\")","v":""},{"$f":"IF(D227>\"\",IF('Order Form'!$B$7<>0,'Order Form'!$B$7,\"\"),\"\")","v":""},{"$f":"IF(D227<>\"\",IF('Order Form'!$B$4=\"\",\"\",'Order Form'!$B$4),\"\")","v":""},{"$f":"IF(D227<>\"\",IF('Order Form'!$B$5=\"\",\"\",'Order Form'!$B$5),\"\")","v":""},{"$f":"IF(D227<>\"\",IF('Order Form'!$B$6=\"\",\"\",'Order Form'!$B$6),\"\")","v":""}]
[{"$f":"IF(D228<>\"\",IF('Order Form'!$B$2=\"\",\"\",\"New Jersey\"),\"\")","v":""},{"$f":"IF(D228<>\"\",IF('Order Form'!$B$2=\"\",\"\",'Order Form'!$B$2),\"\")","v":""},{"$f":"IF(D228<>\"\",IF('Order Form'!$B$2=\"\",\"\",'Order Form'!$B$3),\"\")","v":""},{"$f":"IF(_xlfn.XLOOKUP(INDEX('Order Form'!$C:$C,ROW(D228)+9),lists!I:I,lists!C:C,\"\",0,1)=0,\"\",_xlfn.XLOOKUP(INDEX('Order Form'!$C:$C,ROW(D228)+9),lists!I:I,lists!C:C,\"\",0,1))","v":""},{"$f":"IF(INDEX('Order Form'!$D:$D,ROW(D228)+9)>0,INDEX('Order Form'!$D:$D,ROW(D228)+9),\"\")","v":""},{"$f":"IF(INDEX('Order Form'!$E:$E,ROW(E228)+9)>0,INDEX('Order Form'!$E:$E,ROW(E228)+9),\"\")","v":""},{"$f":"IF(D228>\"\",IF('Order Form'!$B$7<>0,'Order Form'!$B$7,\"\"),\"\")","v":""},{"$f":"IF(D228<>\"\",IF('Order Form'!$B$4=\"\",\"\",'Order Form'!$B$4),\"\")","v":""},{"$f":"IF(D228<>\"\",IF('Order Form'!$B$5=\"\",\"\",'Order Form'!$B$5),\"\")","v":""},{"$f":"IF(D228<>\"\",IF('Order Form'!$B$6=\"\",\"\",'Order Form'!$B$6),\"\")","v":""}]
[{"$f":"IF(D229<>\"\",IF('Order Form'!$B$2=\"\",\"\",\"New Jersey\"),\"\")","v":""},{"$f":"IF(D229<>\"\",IF('Order Form'!$B$2=\"\",\"\",'Order Form'!$B$2),\"\")","v":""},{"$f":"IF(D229<>\"\",IF('Order Form'!$B$2=\"\",\"\",'Order Form'!$B$3),\"\")","v":""},{"$f":"IF(_xlfn.XLOOKUP(INDEX('Order Form'!$C:$C,ROW(D229)+9),lists!I:I,lists!C:C,\"\",0,1)=0,\"\",_xlfn.XLOOKUP(INDEX('Order Form'!$C:$C,ROW(D229)+9),lists!I:I,lists!C:C,\"\",0,1))","v":""},{"$f":"IF(INDEX('Order Form'!$D:$D,ROW(D229)+9)>0,INDEX('Order Form'!$D:$D,ROW(D229)+9),\"\")","v":""},{"$f":"IF(INDEX('Order Form'!$E:$E,ROW(E229)+9)>0,INDEX('Order Form'!$E:$E,ROW(E229)+9),\"\")","v":""},{"$f":"IF(D229>\"\",IF('Order Form'!$B$7<>0,'Order Form'!$B$7,\"\"),\"\")","v":""},{"$f":"IF(D229<>\"\",IF('Order Form'!$B$4=\"\",\"\",'Order Form'!$B$4),\"\")","v":""},{"$f":"IF(D229<>\"\",IF('Order Form'!$B$5=\"\",\"\",'Order Form'!$B$5),\"\")","v":""},{"$f":"IF(D229<>\"\",IF('Order Form'!$B$6=\"\",\"\",'Order Form'!$B$6),\"\")","v":""}]
[{"$f":"IF(D230<>\"\",IF('Order Form'!$B$2=\"\",\"\",\"New Jersey\"),\"\")","v":""},{"$f":"IF(D230<>\"\",IF('Order Form'!$B$2=\"\",\"\",'Order Form'!$B$2),\"\")","v":""},{"$f":"IF(D230<>\"\",IF('Order Form'!$B$2=\"\",\"\",'Order Form'!$B$3),\"\")","v":""},{"$f":"IF(_xlfn.XLOOKUP(INDEX('Order Form'!$C:$C,ROW(D230)+9),lists!I:I,lists!C:C,\"\",0,1)=0,\"\",_xlfn.XLOOKUP(INDEX('Order Form'!$C:$C,ROW(D230)+9),lists!I:I,lists!C:C,\"\",0,1))","v":""},{"$f":"IF(INDEX('Order Form'!$D:$D,ROW(D230)+9)>0,INDEX('Order Form'!$D:$D,ROW(D230)+9),\"\")","v":""},{"$f":"IF(INDEX('Order Form'!$E:$E,ROW(E230)+9)>0,INDEX('Order Form'!$E:$E,ROW(E230)+9),\"\")","v":""},{"$f":"IF(D230>\"\",IF('Order Form'!$B$7<>0,'Order Form'!$B$7,\"\"),\"\")","v":""},{"$f":"IF(D230<>\"\",IF('Order Form'!$B$4=\"\",\"\",'Order Form'!$B$4),\"\")","v":""},{"$f":"IF(D230<>\"\",IF('Order Form'!$B$5=\"\",\"\",'Order Form'!$B$5),\"\")","v":""},{"$f":"IF(D230<>\"\",IF('Order Form'!$B$6=\"\",\"\",'Order Form'!$B$6),\"\")","v":""}]
[{"$f":"IF(D231<>\"\",IF('Order Form'!$B$2=\"\",\"\",\"New Jersey\"),\"\")","v":""},{"$f":"IF(D231<>\"\",IF('Order Form'!$B$2=\"\",\"\",'Order Form'!$B$2),\"\")","v":""},{"$f":"IF(D231<>\"\",IF('Order Form'!$B$2=\"\",\"\",'Order Form'!$B$3),\"\")","v":""},{"$f":"IF(_xlfn.XLOOKUP(INDEX('Order Form'!$C:$C,ROW(D231)+9),lists!I:I,lists!C:C,\"\",0,1)=0,\"\",_xlfn.XLOOKUP(INDEX('Order Form'!$C:$C,ROW(D231)+9),lists!I:I,lists!C:C,\"\",0,1))","v":""},{"$f":"IF(INDEX('Order Form'!$D:$D,ROW(D231)+9)>0,INDEX('Order Form'!$D:$D,ROW(D231)+9),\"\")","v":""},{"$f":"IF(INDEX('Order Form'!$E:$E,ROW(E231)+9)>0,INDEX('Order Form'!$E:$E,ROW(E231)+9),\"\")","v":""},{"$f":"IF(D231>\"\",IF('Order Form'!$B$7<>0,'Order Form'!$B$7,\"\"),\"\")","v":""},{"$f":"IF(D231<>\"\",IF('Order Form'!$B$4=\"\",\"\",'Order Form'!$B$4),\"\")","v":""},{"$f":"IF(D231<>\"\",IF('Order Form'!$B$5=\"\",\"\",'Order Form'!$B$5),\"\")","v":""},{"$f":"IF(D231<>\"\",IF('Order Form'!$B$6=\"\",\"\",'Order Form'!$B$6),\"\")","v":""}]
[{"$f":"IF(D232<>\"\",IF('Order Form'!$B$2=\"\",\"\",\"New Jersey\"),\"\")","v":""},{"$f":"IF(D232<>\"\",IF('Order Form'!$B$2=\"\",\"\",'Order Form'!$B$2),\"\")","v":""},{"$f":"IF(D232<>\"\",IF('Order Form'!$B$2=\"\",\"\",'Order Form'!$B$3),\"\")","v":""},{"$f":"IF(_xlfn.XLOOKUP(INDEX('Order Form'!$C:$C,ROW(D232)+9),lists!I:I,lists!C:C,\"\",0,1)=0,\"\",_xlfn.XLOOKUP(INDEX('Order Form'!$C:$C,ROW(D232)+9),lists!I:I,lists!C:C,\"\",0,1))","v":""},{"$f":"IF(INDEX('Order Form'!$D:$D,ROW(D232)+9)>0,INDEX('Order Form'!$D:$D,ROW(D232)+9),\"\")","v":""},{"$f":"IF(INDEX('Order Form'!$E:$E,ROW(E232)+9)>0,INDEX('Order Form'!$E:$E,ROW(E232)+9),\"\")","v":""},{"$f":"IF(D232>\"\",IF('Order Form'!$B$7<>0,'Order Form'!$B$7,\"\"),\"\")","v":""},{"$f":"IF(D232<>\"\",IF('Order Form'!$B$4=\"\",\"\",'Order Form'!$B$4),\"\")","v":""},{"$f":"IF(D232<>\"\",IF('Order Form'!$B$5=\"\",\"\",'Order Form'!$B$5),\"\")","v":""},{"$f":"IF(D232<>\"\",IF('Order Form'!$B$6=\"\",\"\",'Order Form'!$B$6),\"\")","v":""}]
[{"$f":"IF(D233<>\"\",IF('Order Form'!$B$2=\"\",\"\",\"New Jersey\"),\"\")","v":""},{"$f":"IF(D233<>\"\",IF('Order Form'!$B$2=\"\",\"\",'Order Form'!$B$2),\"\")","v":""},{"$f":"IF(D233<>\"\",IF('Order Form'!$B$2=\"\",\"\",'Order Form'!$B$3),\"\")","v":""},{"$f":"IF(_xlfn.XLOOKUP(INDEX('Order Form'!$C:$C,ROW(D233)+9),lists!I:I,lists!C:C,\"\",0,1)=0,\"\",_xlfn.XLOOKUP(INDEX('Order Form'!$C:$C,ROW(D233)+9),lists!I:I,lists!C:C,\"\",0,1))","v":""},{"$f":"IF(INDEX('Order Form'!$D:$D,ROW(D233)+9)>0,INDEX('Order Form'!$D:$D,ROW(D233)+9),\"\")","v":""},{"$f":"IF(INDEX('Order Form'!$E:$E,ROW(E233)+9)>0,INDEX('Order Form'!$E:$E,ROW(E233)+9),\"\")","v":""},{"$f":"IF(D233>\"\",IF('Order Form'!$B$7<>0,'Order Form'!$B$7,\"\"),\"\")","v":""},{"$f":"IF(D233<>\"\",IF('Order Form'!$B$4=\"\",\"\",'Order Form'!$B$4),\"\")","v":""},{"$f":"IF(D233<>\"\",IF('Order Form'!$B$5=\"\",\"\",'Order Form'!$B$5),\"\")","v":""},{"$f":"IF(D233<>\"\",IF('Order Form'!$B$6=\"\",\"\",'Order Form'!$B$6),\"\")","v":""}]
[{"$f":"IF(D234<>\"\",IF('Order Form'!$B$2=\"\",\"\",\"New Jersey\"),\"\")","v":""},{"$f":"IF(D234<>\"\",IF('Order Form'!$B$2=\"\",\"\",'Order Form'!$B$2),\"\")","v":""},{"$f":"IF(D234<>\"\",IF('Order Form'!$B$2=\"\",\"\",'Order Form'!$B$3),\"\")","v":""},{"$f":"IF(_xlfn.XLOOKUP(INDEX('Order Form'!$C:$C,ROW(D234)+9),lists!I:I,lists!C:C,\"\",0,1)=0,\"\",_xlfn.XLOOKUP(INDEX('Order Form'!$C:$C,ROW(D234)+9),lists!I:I,lists!C:C,\"\",0,1))","v":""},{"$f":"IF(INDEX('Order Form'!$D:$D,ROW(D234)+9)>0,INDEX('Order Form'!$D:$D,ROW(D234)+9),\"\")","v":""},{"$f":"IF(INDEX('Order Form'!$E:$E,ROW(E234)+9)>0,INDEX('Order Form'!$E:$E,ROW(E234)+9),\"\")","v":""},{"$f":"IF(D234>\"\",IF('Order Form'!$B$7<>0,'Order Form'!$B$7,\"\"),\"\")","v":""},{"$f":"IF(D234<>\"\",IF('Order Form'!$B$4=\"\",\"\",'Order Form'!$B$4),\"\")","v":""},{"$f":"IF(D234<>\"\",IF('Order Form'!$B$5=\"\",\"\",'Order Form'!$B$5),\"\")","v":""},{"$f":"IF(D234<>\"\",IF('Order Form'!$B$6=\"\",\"\",'Order Form'!$B$6),\"\")","v":""}]
[{"$f":"IF(D235<>\"\",IF('Order Form'!$B$2=\"\",\"\",\"New Jersey\"),\"\")","v":""},{"$f":"IF(D235<>\"\",IF('Order Form'!$B$2=\"\",\"\",'Order Form'!$B$2),\"\")","v":""},{"$f":"IF(D235<>\"\",IF('Order Form'!$B$2=\"\",\"\",'Order Form'!$B$3),\"\")","v":""},{"$f":"IF(_xlfn.XLOOKUP(INDEX('Order Form'!$C:$C,ROW(D235)+9),lists!I:I,lists!C:C,\"\",0,1)=0,\"\",_xlfn.XLOOKUP(INDEX('Order Form'!$C:$C,ROW(D235)+9),lists!I:I,lists!C:C,\"\",0,1))","v":""},{"$f":"IF(INDEX('Order Form'!$D:$D,ROW(D235)+9)>0,INDEX('Order Form'!$D:$D,ROW(D235)+9),\"\")","v":""},{"$f":"IF(INDEX('Order Form'!$E:$E,ROW(E235)+9)>0,INDEX('Order Form'!$E:$E,ROW(E235)+9),\"\")","v":""},{"$f":"IF(D235>\"\",IF('Order Form'!$B$7<>0,'Order Form'!$B$7,\"\"),\"\")","v":""},{"$f":"IF(D235<>\"\",IF('Order Form'!$B$4=\"\",\"\",'Order Form'!$B$4),\"\")","v":""},{"$f":"IF(D235<>\"\",IF('Order Form'!$B$5=\"\",\"\",'Order Form'!$B$5),\"\")","v":""},{"$f":"IF(D235<>\"\",IF('Order Form'!$B$6=\"\",\"\",'Order Form'!$B$6),\"\")","v":""}]
[{"$f":"IF(D236<>\"\",IF('Order Form'!$B$2=\"\",\"\",\"New Jersey\"),\"\")","v":""},{"$f":"IF(D236<>\"\",IF('Order Form'!$B$2=\"\",\"\",'Order Form'!$B$2),\"\")","v":""},{"$f":"IF(D236<>\"\",IF('Order Form'!$B$2=\"\",\"\",'Order Form'!$B$3),\"\")","v":""},{"$f":"IF(_xlfn.XLOOKUP(INDEX('Order Form'!$C:$C,ROW(D236)+9),lists!I:I,lists!C:C,\"\",0,1)=0,\"\",_xlfn.XLOOKUP(INDEX('Order Form'!$C:$C,ROW(D236)+9),lists!I:I,lists!C:C,\"\",0,1))","v":""},{"$f":"IF(INDEX('Order Form'!$D:$D,ROW(D236)+9)>0,INDEX('Order Form'!$D:$D,ROW(D236)+9),\"\")","v":""},{"$f":"IF(INDEX('Order Form'!$E:$E,ROW(E236)+9)>0,INDEX('Order Form'!$E:$E,ROW(E236)+9),\"\")","v":""},{"$f":"IF(D236>\"\",IF('Order Form'!$B$7<>0,'Order Form'!$B$7,\"\"),\"\")","v":""},{"$f":"IF(D236<>\"\",IF('Order Form'!$B$4=\"\",\"\",'Order Form'!$B$4),\"\")","v":""},{"$f":"IF(D236<>\"\",IF('Order Form'!$B$5=\"\",\"\",'Order Form'!$B$5),\"\")","v":""},{"$f":"IF(D236<>\"\",IF('Order Form'!$B$6=\"\",\"\",'Order Form'!$B$6),\"\")","v":""}]
[{"$f":"IF(D237<>\"\",IF('Order Form'!$B$2=\"\",\"\",\"New Jersey\"),\"\")","v":""},{"$f":"IF(D237<>\"\",IF('Order Form'!$B$2=\"\",\"\",'Order Form'!$B$2),\"\")","v":""},{"$f":"IF(D237<>\"\",IF('Order Form'!$B$2=\"\",\"\",'Order Form'!$B$3),\"\")","v":""},{"$f":"IF(_xlfn.XLOOKUP(INDEX('Order Form'!$C:$C,ROW(D237)+9),lists!I:I,lists!C:C,\"\",0,1)=0,\"\",_xlfn.XLOOKUP(INDEX('Order Form'!$C:$C,ROW(D237)+9),lists!I:I,lists!C:C,\"\",0,1))","v":""},{"$f":"IF(INDEX('Order Form'!$D:$D,ROW(D237)+9)>0,INDEX('Order Form'!$D:$D,ROW(D237)+9),\"\")","v":""},{"$f":"IF(INDEX('Order Form'!$E:$E,ROW(E237)+9)>0,INDEX('Order Form'!$E:$E,ROW(E237)+9),\"\")","v":""},{"$f":"IF(D237>\"\",IF('Order Form'!$B$7<>0,'Order Form'!$B$7,\"\"),\"\")","v":""},{"$f":"IF(D237<>\"\",IF('Order Form'!$B$4=\"\",\"\",'Order Form'!$B$4),\"\")","v":""},{"$f":"IF(D237<>\"\",IF('Order Form'!$B$5=\"\",\"\",'Order Form'!$B$5),\"\")","v":""},{"$f":"IF(D237<>\"\",IF('Order Form'!$B$6=\"\",\"\",'Order Form'!$B$6),\"\")","v":""}]
[{"$f":"IF(D238<>\"\",IF('Order Form'!$B$2=\"\",\"\",\"New Jersey\"),\"\")","v":""},{"$f":"IF(D238<>\"\",IF('Order Form'!$B$2=\"\",\"\",'Order Form'!$B$2),\"\")","v":""},{"$f":"IF(D238<>\"\",IF('Order Form'!$B$2=\"\",\"\",'Order Form'!$B$3),\"\")","v":""},{"$f":"IF(_xlfn.XLOOKUP(INDEX('Order Form'!$C:$C,ROW(D238)+9),lists!I:I,lists!C:C,\"\",0,1)=0,\"\",_xlfn.XLOOKUP(INDEX('Order Form'!$C:$C,ROW(D238)+9),lists!I:I,lists!C:C,\"\",0,1))","v":""},{"$f":"IF(INDEX('Order Form'!$D:$D,ROW(D238)+9)>0,INDEX('Order Form'!$D:$D,ROW(D238)+9),\"\")","v":""},{"$f":"IF(INDEX('Order Form'!$E:$E,ROW(E238)+9)>0,INDEX('Order Form'!$E:$E,ROW(E238)+9),\"\")","v":""},{"$f":"IF(D238>\"\",IF('Order Form'!$B$7<>0,'Order Form'!$B$7,\"\"),\"\")","v":""},{"$f":"IF(D238<>\"\",IF('Order Form'!$B$4=\"\",\"\",'Order Form'!$B$4),\"\")","v":""},{"$f":"IF(D238<>\"\",IF('Order Form'!$B$5=\"\",\"\",'Order Form'!$B$5),\"\")","v":""},{"$f":"IF(D238<>\"\",IF('Order Form'!$B$6=\"\",\"\",'Order Form'!$B$6),\"\")","v":""}]
[{"$f":"IF(D239<>\"\",IF('Order Form'!$B$2=\"\",\"\",\"New Jersey\"),\"\")","v":""},{"$f":"IF(D239<>\"\",IF('Order Form'!$B$2=\"\",\"\",'Order Form'!$B$2),\"\")","v":""},{"$f":"IF(D239<>\"\",IF('Order Form'!$B$2=\"\",\"\",'Order Form'!$B$3),\"\")","v":""},{"$f":"IF(_xlfn.XLOOKUP(INDEX('Order Form'!$C:$C,ROW(D239)+9),lists!I:I,lists!C:C,\"\",0,1)=0,\"\",_xlfn.XLOOKUP(INDEX('Order Form'!$C:$C,ROW(D239)+9),lists!I:I,lists!C:C,\"\",0,1))","v":""},{"$f":"IF(INDEX('Order Form'!$D:$D,ROW(D239)+9)>0,INDEX('Order Form'!$D:$D,ROW(D239)+9),\"\")","v":""},{"$f":"IF(INDEX('Order Form'!$E:$E,ROW(E239)+9)>0,INDEX('Order Form'!$E:$E,ROW(E239)+9),\"\")","v":""},{"$f":"IF(D239>\"\",IF('Order Form'!$B$7<>0,'Order Form'!$B$7,\"\"),\"\")","v":""},{"$f":"IF(D239<>\"\",IF('Order Form'!$B$4=\"\",\"\",'Order Form'!$B$4),\"\")","v":""},{"$f":"IF(D239<>\"\",IF('Order Form'!$B$5=\"\",\"\",'Order Form'!$B$5),\"\")","v":""},{"$f":"IF(D239<>\"\",IF('Order Form'!$B$6=\"\",\"\",'Order Form'!$B$6),\"\")","v":""}]
[{"$f":"IF(D240<>\"\",IF('Order Form'!$B$2=\"\",\"\",\"New Jersey\"),\"\")","v":""},{"$f":"IF(D240<>\"\",IF('Order Form'!$B$2=\"\",\"\",'Order Form'!$B$2),\"\")","v":""},{"$f":"IF(D240<>\"\",IF('Order Form'!$B$2=\"\",\"\",'Order Form'!$B$3),\"\")","v":""},{"$f":"IF(_xlfn.XLOOKUP(INDEX('Order Form'!$C:$C,ROW(D240)+9),lists!I:I,lists!C:C,\"\",0,1)=0,\"\",_xlfn.XLOOKUP(INDEX('Order Form'!$C:$C,ROW(D240)+9),lists!I:I,lists!C:C,\"\",0,1))","v":""},{"$f":"IF(INDEX('Order Form'!$D:$D,ROW(D240)+9)>0,INDEX('Order Form'!$D:$D,ROW(D240)+9),\"\")","v":""},{"$f":"IF(INDEX('Order Form'!$E:$E,ROW(E240)+9)>0,INDEX('Order Form'!$E:$E,ROW(E240)+9),\"\")","v":""},{"$f":"IF(D240>\"\",IF('Order Form'!$B$7<>0,'Order Form'!$B$7,\"\"),\"\")","v":""},{"$f":"IF(D240<>\"\",IF('Order Form'!$B$4=\"\",\"\",'Order Form'!$B$4),\"\")","v":""},{"$f":"IF(D240<>\"\",IF('Order Form'!$B$5=\"\",\"\",'Order Form'!$B$5),\"\")","v":""},{"$f":"IF(D240<>\"\",IF('Order Form'!$B$6=\"\",\"\",'Order Form'!$B$6),\"\")","v":""}]
[{"$f":"IF(D241<>\"\",IF('Order Form'!$B$2=\"\",\"\",\"New Jersey\"),\"\")","v":""},{"$f":"IF(D241<>\"\",IF('Order Form'!$B$2=\"\",\"\",'Order Form'!$B$2),\"\")","v":""},{"$f":"IF(D241<>\"\",IF('Order Form'!$B$2=\"\",\"\",'Order Form'!$B$3),\"\")","v":""},{"$f":"IF(_xlfn.XLOOKUP(INDEX('Order Form'!$C:$C,ROW(D241)+9),lists!I:I,lists!C:C,\"\",0,1)=0,\"\",_xlfn.XLOOKUP(INDEX('Order Form'!$C:$C,ROW(D241)+9),lists!I:I,lists!C:C,\"\",0,1))","v":""},{"$f":"IF(INDEX('Order Form'!$D:$D,ROW(D241)+9)>0,INDEX('Order Form'!$D:$D,ROW(D241)+9),\"\")","v":""},{"$f":"IF(INDEX('Order Form'!$E:$E,ROW(E241)+9)>0,INDEX('Order Form'!$E:$E,ROW(E241)+9),\"\")","v":""},{"$f":"IF(D241>\"\",IF('Order Form'!$B$7<>0,'Order Form'!$B$7,\"\"),\"\")","v":""},{"$f":"IF(D241<>\"\",IF('Order Form'!$B$4=\"\",\"\",'Order Form'!$B$4),\"\")","v":""},{"$f":"IF(D241<>\"\",IF('Order Form'!$B$5=\"\",\"\",'Order Form'!$B$5),\"\")","v":""},{"$f":"IF(D241<>\"\",IF('Order Form'!$B$6=\"\",\"\",'Order Form'!$B$6),\"\")","v":""}]
[{"$f":"IF(D242<>\"\",IF('Order Form'!$B$2=\"\",\"\",\"New Jersey\"),\"\")","v":""},{"$f":"IF(D242<>\"\",IF('Order Form'!$B$2=\"\",\"\",'Order Form'!$B$2),\"\")","v":""},{"$f":"IF(D242<>\"\",IF('Order Form'!$B$2=\"\",\"\",'Order Form'!$B$3),\"\")","v":""},{"$f":"IF(_xlfn.XLOOKUP(INDEX('Order Form'!$C:$C,ROW(D242)+9),lists!I:I,lists!C:C,\"\",0,1)=0,\"\",_xlfn.XLOOKUP(INDEX('Order Form'!$C:$C,ROW(D242)+9),lists!I:I,lists!C:C,\"\",0,1))","v":""},{"$f":"IF(INDEX('Order Form'!$D:$D,ROW(D242)+9)>0,INDEX('Order Form'!$D:$D,ROW(D242)+9),\"\")","v":""},{"$f":"IF(INDEX('Order Form'!$E:$E,ROW(E242)+9)>0,INDEX('Order Form'!$E:$E,ROW(E242)+9),\"\")","v":""},{"$f":"IF(D242>\"\",IF('Order Form'!$B$7<>0,'Order Form'!$B$7,\"\"),\"\")","v":""},{"$f":"IF(D242<>\"\",IF('Order Form'!$B$4=\"\",\"\",'Order Form'!$B$4),\"\")","v":""},{"$f":"IF(D242<>\"\",IF('Order Form'!$B$5=\"\",\"\",'Order Form'!$B$5),\"\")","v":""},{"$f":"IF(D242<>\"\",IF('Order Form'!$B$6=\"\",\"\",'Order Form'!$B$6),\"\")","v":""}]
[{"$f":"IF(D243<>\"\",IF('Order Form'!$B$2=\"\",\"\",\"New Jersey\"),\"\")","v":""},{"$f":"IF(D243<>\"\",IF('Order Form'!$B$2=\"\",\"\",'Order Form'!$B$2),\"\")","v":""},{"$f":"IF(D243<>\"\",IF('Order Form'!$B$2=\"\",\"\",'Order Form'!$B$3),\"\")","v":""},{"$f":"IF(_xlfn.XLOOKUP(INDEX('Order Form'!$C:$C,ROW(D243)+9),lists!I:I,lists!C:C,\"\",0,1)=0,\"\",_xlfn.XLOOKUP(INDEX('Order Form'!$C:$C,ROW(D243)+9),lists!I:I,lists!C:C,\"\",0,1))","v":""},{"$f":"IF(INDEX('Order Form'!$D:$D,ROW(D243)+9)>0,INDEX('Order Form'!$D:$D,ROW(D243)+9),\"\")","v":""},{"$f":"IF(INDEX('Order Form'!$E:$E,ROW(E243)+9)>0,INDEX('Order Form'!$E:$E,ROW(E243)+9),\"\")","v":""},{"$f":"IF(D243>\"\",IF('Order Form'!$B$7<>0,'Order Form'!$B$7,\"\"),\"\")","v":""},{"$f":"IF(D243<>\"\",IF('Order Form'!$B$4=\"\",\"\",'Order Form'!$B$4),\"\")","v":""},{"$f":"IF(D243<>\"\",IF('Order Form'!$B$5=\"\",\"\",'Order Form'!$B$5),\"\")","v":""},{"$f":"IF(D243<>\"\",IF('Order Form'!$B$6=\"\",\"\",'Order Form'!$B$6),\"\")","v":""}]
[{"$f":"IF(D244<>\"\",IF('Order Form'!$B$2=\"\",\"\",\"New Jersey\"),\"\")","v":""},{"$f":"IF(D244<>\"\",IF('Order Form'!$B$2=\"\",\"\",'Order Form'!$B$2),\"\")","v":""},{"$f":"IF(D244<>\"\",IF('Order Form'!$B$2=\"\",\"\",'Order Form'!$B$3),\"\")","v":""},{"$f":"IF(_xlfn.XLOOKUP(INDEX('Order Form'!$C:$C,ROW(D244)+9),lists!I:I,lists!C:C,\"\",0,1)=0,\"\",_xlfn.XLOOKUP(INDEX('Order Form'!$C:$C,ROW(D244)+9),lists!I:I,lists!C:C,\"\",0,1))","v":""},{"$f":"IF(INDEX('Order Form'!$D:$D,ROW(D244)+9)>0,INDEX('Order Form'!$D:$D,ROW(D244)+9),\"\")","v":""},{"$f":"IF(INDEX('Order Form'!$E:$E,ROW(E244)+9)>0,INDEX('Order Form'!$E:$E,ROW(E244)+9),\"\")","v":""},{"$f":"IF(D244>\"\",IF('Order Form'!$B$7<>0,'Order Form'!$B$7,\"\"),\"\")","v":""},{"$f":"IF(D244<>\"\",IF('Order Form'!$B$4=\"\",\"\",'Order Form'!$B$4),\"\")","v":""},{"$f":"IF(D244<>\"\",IF('Order Form'!$B$5=\"\",\"\",'Order Form'!$B$5),\"\")","v":""},{"$f":"IF(D244<>\"\",IF('Order Form'!$B$6=\"\",\"\",'Order Form'!$B$6),\"\")","v":""}]
[{"$f":"IF(D245<>\"\",IF('Order Form'!$B$2=\"\",\"\",\"New Jersey\"),\"\")","v":""},{"$f":"IF(D245<>\"\",IF('Order Form'!$B$2=\"\",\"\",'Order Form'!$B$2),\"\")","v":""},{"$f":"IF(D245<>\"\",IF('Order Form'!$B$2=\"\",\"\",'Order Form'!$B$3),\"\")","v":""},{"$f":"IF(_xlfn.XLOOKUP(INDEX('Order Form'!$C:$C,ROW(D245)+9),lists!I:I,lists!C:C,\"\",0,1)=0,\"\",_xlfn.XLOOKUP(INDEX('Order Form'!$C:$C,ROW(D245)+9),lists!I:I,lists!C:C,\"\",0,1))","v":""},{"$f":"IF(INDEX('Order Form'!$D:$D,ROW(D245)+9)>0,INDEX('Order Form'!$D:$D,ROW(D245)+9),\"\")","v":""},{"$f":"IF(INDEX('Order Form'!$E:$E,ROW(E245)+9)>0,INDEX('Order Form'!$E:$E,ROW(E245)+9),\"\")","v":""},{"$f":"IF(D245>\"\",IF('Order Form'!$B$7<>0,'Order Form'!$B$7,\"\"),\"\")","v":""},{"$f":"IF(D245<>\"\",IF('Order Form'!$B$4=\"\",\"\",'Order Form'!$B$4),\"\")","v":""},{"$f":"IF(D245<>\"\",IF('Order Form'!$B$5=\"\",\"\",'Order Form'!$B$5),\"\")","v":""},{"$f":"IF(D245<>\"\",IF('Order Form'!$B$6=\"\",\"\",'Order Form'!$B$6),\"\")","v":""}]
[{"$f":"IF(D246<>\"\",IF('Order Form'!$B$2=\"\",\"\",\"New Jersey\"),\"\")","v":""},{"$f":"IF(D246<>\"\",IF('Order Form'!$B$2=\"\",\"\",'Order Form'!$B$2),\"\")","v":""},{"$f":"IF(D246<>\"\",IF('Order Form'!$B$2=\"\",\"\",'Order Form'!$B$3),\"\")","v":""},{"$f":"IF(_xlfn.XLOOKUP(INDEX('Order Form'!$C:$C,ROW(D246)+9),lists!I:I,lists!C:C,\"\",0,1)=0,\"\",_xlfn.XLOOKUP(INDEX('Order Form'!$C:$C,ROW(D246)+9),lists!I:I,lists!C:C,\"\",0,1))","v":""},{"$f":"IF(INDEX('Order Form'!$D:$D,ROW(D246)+9)>0,INDEX('Order Form'!$D:$D,ROW(D246)+9),\"\")","v":""},{"$f":"IF(INDEX('Order Form'!$E:$E,ROW(E246)+9)>0,INDEX('Order Form'!$E:$E,ROW(E246)+9),\"\")","v":""},{"$f":"IF(D246>\"\",IF('Order Form'!$B$7<>0,'Order Form'!$B$7,\"\"),\"\")","v":""},{"$f":"IF(D246<>\"\",IF('Order Form'!$B$4=\"\",\"\",'Order Form'!$B$4),\"\")","v":""},{"$f":"IF(D246<>\"\",IF('Order Form'!$B$5=\"\",\"\",'Order Form'!$B$5),\"\")","v":""},{"$f":"IF(D246<>\"\",IF('Order Form'!$B$6=\"\",\"\",'Order Form'!$B$6),\"\")","v":""}]
[{"$f":"IF(D247<>\"\",IF('Order Form'!$B$2=\"\",\"\",\"New Jersey\"),\"\")","v":""},{"$f":"IF(D247<>\"\",IF('Order Form'!$B$2=\"\",\"\",'Order Form'!$B$2),\"\")","v":""},{"$f":"IF(D247<>\"\",IF('Order Form'!$B$2=\"\",\"\",'Order Form'!$B$3),\"\")","v":""},{"$f":"IF(_xlfn.XLOOKUP(INDEX('Order Form'!$C:$C,ROW(D247)+9),lists!I:I,lists!C:C,\"\",0,1)=0,\"\",_xlfn.XLOOKUP(INDEX('Order Form'!$C:$C,ROW(D247)+9),lists!I:I,lists!C:C,\"\",0,1))","v":""},{"$f":"IF(INDEX('Order Form'!$D:$D,ROW(D247)+9)>0,INDEX('Order Form'!$D:$D,ROW(D247)+9),\"\")","v":""},{"$f":"IF(INDEX('Order Form'!$E:$E,ROW(E247)+9)>0,INDEX('Order Form'!$E:$E,ROW(E247)+9),\"\")","v":""},{"$f":"IF(D247>\"\",IF('Order Form'!$B$7<>0,'Order Form'!$B$7,\"\"),\"\")","v":""},{"$f":"IF(D247<>\"\",IF('Order Form'!$B$4=\"\",\"\",'Order Form'!$B$4),\"\")","v":""},{"$f":"IF(D247<>\"\",IF('Order Form'!$B$5=\"\",\"\",'Order Form'!$B$5),\"\")","v":""},{"$f":"IF(D247<>\"\",IF('Order Form'!$B$6=\"\",\"\",'Order Form'!$B$6),\"\")","v":""}]
[{"$f":"IF(D248<>\"\",IF('Order Form'!$B$2=\"\",\"\",\"New Jersey\"),\"\")","v":""},{"$f":"IF(D248<>\"\",IF('Order Form'!$B$2=\"\",\"\",'Order Form'!$B$2),\"\")","v":""},{"$f":"IF(D248<>\"\",IF('Order Form'!$B$2=\"\",\"\",'Order Form'!$B$3),\"\")","v":""},{"$f":"IF(_xlfn.XLOOKUP(INDEX('Order Form'!$C:$C,ROW(D248)+9),lists!I:I,lists!C:C,\"\",0,1)=0,\"\",_xlfn.XLOOKUP(INDEX('Order Form'!$C:$C,ROW(D248)+9),lists!I:I,lists!C:C,\"\",0,1))","v":""},{"$f":"IF(INDEX('Order Form'!$D:$D,ROW(D248)+9)>0,INDEX('Order Form'!$D:$D,ROW(D248)+9),\"\")","v":""},{"$f":"IF(INDEX('Order Form'!$E:$E,ROW(E248)+9)>0,INDEX('Order Form'!$E:$E,ROW(E248)+9),\"\")","v":""},{"$f":"IF(D248>\"\",IF('Order Form'!$B$7<>0,'Order Form'!$B$7,\"\"),\"\")","v":""},{"$f":"IF(D248<>\"\",IF('Order Form'!$B$4=\"\",\"\",'Order Form'!$B$4),\"\")","v":""},{"$f":"IF(D248<>\"\",IF('Order Form'!$B$5=\"\",\"\",'Order Form'!$B$5),\"\")","v":""},{"$f":"IF(D248<>\"\",IF('Order Form'!$B$6=\"\",\"\",'Order Form'!$B$6),\"\")","v":""}]
[{"$f":"IF(D249<>\"\",IF('Order Form'!$B$2=\"\",\"\",\"New Jersey\"),\"\")","v":""},{"$f":"IF(D249<>\"\",IF('Order Form'!$B$2=\"\",\"\",'Order Form'!$B$2),\"\")","v":""},{"$f":"IF(D249<>\"\",IF('Order Form'!$B$2=\"\",\"\",'Order Form'!$B$3),\"\")","v":""},{"$f":"IF(_xlfn.XLOOKUP(INDEX('Order Form'!$C:$C,ROW(D249)+9),lists!I:I,lists!C:C,\"\",0,1)=0,\"\",_xlfn.XLOOKUP(INDEX('Order Form'!$C:$C,ROW(D249)+9),lists!I:I,lists!C:C,\"\",0,1))","v":""},{"$f":"IF(INDEX('Order Form'!$D:$D,ROW(D249)+9)>0,INDEX('Order Form'!$D:$D,ROW(D249)+9),\"\")","v":""},{"$f":"IF(INDEX('Order Form'!$E:$E,ROW(E249)+9)>0,INDEX('Order Form'!$E:$E,ROW(E249)+9),\"\")","v":""},{"$f":"IF(D249>\"\",IF('Order Form'!$B$7<>0,'Order Form'!$B$7,\"\"),\"\")","v":""},{"$f":"IF(D249<>\"\",IF('Order Form'!$B$4=\"\",\"\",'Order Form'!$B$4),\"\")","v":""},{"$f":"IF(D249<>\"\",IF('Order Form'!$B$5=\"\",\"\",'Order Form'!$B$5),\"\")","v":""},{"$f":"IF(D249<>\"\",IF('Order Form'!$B$6=\"\",\"\",'Order Form'!$B$6),\"\")","v":""}]
[{"$f":"IF(D250<>\"\",IF('Order Form'!$B$2=\"\",\"\",\"New Jersey\"),\"\")","v":""},{"$f":"IF(D250<>\"\",IF('Order Form'!$B$2=\"\",\"\",'Order Form'!$B$2),\"\")","v":""},{"$f":"IF(D250<>\"\",IF('Order Form'!$B$2=\"\",\"\",'Order Form'!$B$3),\"\")","v":""},{"$f":"IF(_xlfn.XLOOKUP(INDEX('Order Form'!$C:$C,ROW(D250)+9),lists!I:I,lists!C:C,\"\",0,1)=0,\"\",_xlfn.XLOOKUP(INDEX('Order Form'!$C:$C,ROW(D250)+9),lists!I:I,lists!C:C,\"\",0,1))","v":""},{"$f":"IF(INDEX('Order Form'!$D:$D,ROW(D250)+9)>0,INDEX('Order Form'!$D:$D,ROW(D250)+9),\"\")","v":""},{"$f":"IF(INDEX('Order Form'!$E:$E,ROW(E250)+9)>0,INDEX('Order Form'!$E:$E,ROW(E250)+9),\"\")","v":""},{"$f":"IF(D250>\"\",IF('Order Form'!$B$7<>0,'Order Form'!$B$7,\"\"),\"\")","v":""},{"$f":"IF(D250<>\"\",IF('Order Form'!$B$4=\"\",\"\",'Order Form'!$B$4),\"\")","v":""},{"$f":"IF(D250<>\"\",IF('Order Form'!$B$5=\"\",\"\",'Order Form'!$B$5),\"\")","v":""},{"$f":"IF(D250<>\"\",IF('Order Form'!$B$6=\"\",\"\",'Order Form'!$B$6),\"\")","v":""}]
[{"$f":"IF(D251<>\"\",IF('Order Form'!$B$2=\"\",\"\",\"New Jersey\"),\"\")","v":""},{"$f":"IF(D251<>\"\",IF('Order Form'!$B$2=\"\",\"\",'Order Form'!$B$2),\"\")","v":""},{"$f":"IF(D251<>\"\",IF('Order Form'!$B$2=\"\",\"\",'Order Form'!$B$3),\"\")","v":""},{"$f":"IF(_xlfn.XLOOKUP(INDEX('Order Form'!$C:$C,ROW(D251)+9),lists!I:I,lists!C:C,\"\",0,1)=0,\"\",_xlfn.XLOOKUP(INDEX('Order Form'!$C:$C,ROW(D251)+9),lists!I:I,lists!C:C,\"\",0,1))","v":""},{"$f":"IF(INDEX('Order Form'!$D:$D,ROW(D251)+9)>0,INDEX('Order Form'!$D:$D,ROW(D251)+9),\"\")","v":""},{"$f":"IF(INDEX('Order Form'!$E:$E,ROW(E251)+9)>0,INDEX('Order Form'!$E:$E,ROW(E251)+9),\"\")","v":""},{"$f":"IF(D251>\"\",IF('Order Form'!$B$7<>0,'Order Form'!$B$7,\"\"),\"\")","v":""},{"$f":"IF(D251<>\"\",IF('Order Form'!$B$4=\"\",\"\",'Order Form'!$B$4),\"\")","v":""},{"$f":"IF(D251<>\"\",IF('Order Form'!$B$5=\"\",\"\",'Order Form'!$B$5),\"\")","v":""},{"$f":"IF(D251<>\"\",IF('Order Form'!$B$6=\"\",\"\",'Order Form'!$B$6),\"\")","v":""}]
[{"$f":"IF(D252<>\"\",IF('Order Form'!$B$2=\"\",\"\",\"New Jersey\"),\"\")","v":""},{"$f":"IF(D252<>\"\",IF('Order Form'!$B$2=\"\",\"\",'Order Form'!$B$2),\"\")","v":""},{"$f":"IF(D252<>\"\",IF('Order Form'!$B$2=\"\",\"\",'Order Form'!$B$3),\"\")","v":""},{"$f":"IF(_xlfn.XLOOKUP(INDEX('Order Form'!$C:$C,ROW(D252)+9),lists!I:I,lists!C:C,\"\",0,1)=0,\"\",_xlfn.XLOOKUP(INDEX('Order Form'!$C:$C,ROW(D252)+9),lists!I:I,lists!C:C,\"\",0,1))","v":""},{"$f":"IF(INDEX('Order Form'!$D:$D,ROW(D252)+9)>0,INDEX('Order Form'!$D:$D,ROW(D252)+9),\"\")","v":""},{"$f":"IF(INDEX('Order Form'!$E:$E,ROW(E252)+9)>0,INDEX('Order Form'!$E:$E,ROW(E252)+9),\"\")","v":""},{"$f":"IF(D252>\"\",IF('Order Form'!$B$7<>0,'Order Form'!$B$7,\"\"),\"\")","v":""},{"$f":"IF(D252<>\"\",IF('Order Form'!$B$4=\"\",\"\",'Order Form'!$B$4),\"\")","v":""},{"$f":"IF(D252<>\"\",IF('Order Form'!$B$5=\"\",\"\",'Order Form'!$B$5),\"\")","v":""},{"$f":"IF(D252<>\"\",IF('Order Form'!$B$6=\"\",\"\",'Order Form'!$B$6),\"\")","v":""}]
[{"$f":"IF(D253<>\"\",IF('Order Form'!$B$2=\"\",\"\",\"New Jersey\"),\"\")","v":""},{"$f":"IF(D253<>\"\",IF('Order Form'!$B$2=\"\",\"\",'Order Form'!$B$2),\"\")","v":""},{"$f":"IF(D253<>\"\",IF('Order Form'!$B$2=\"\",\"\",'Order Form'!$B$3),\"\")","v":""},{"$f":"IF(_xlfn.XLOOKUP(INDEX('Order Form'!$C:$C,ROW(D253)+9),lists!I:I,lists!C:C,\"\",0,1)=0,\"\",_xlfn.XLOOKUP(INDEX('Order Form'!$C:$C,ROW(D253)+9),lists!I:I,lists!C:C,\"\",0,1))","v":""},{"$f":"IF(INDEX('Order Form'!$D:$D,ROW(D253)+9)>0,INDEX('Order Form'!$D:$D,ROW(D253)+9),\"\")","v":""},{"$f":"IF(INDEX('Order Form'!$E:$E,ROW(E253)+9)>0,INDEX('Order Form'!$E:$E,ROW(E253)+9),\"\")","v":""},{"$f":"IF(D253>\"\",IF('Order Form'!$B$7<>0,'Order Form'!$B$7,\"\"),\"\")","v":""},{"$f":"IF(D253<>\"\",IF('Order Form'!$B$4=\"\",\"\",'Order Form'!$B$4),\"\")","v":""},{"$f":"IF(D253<>\"\",IF('Order Form'!$B$5=\"\",\"\",'Order Form'!$B$5),\"\")","v":""},{"$f":"IF(D253<>\"\",IF('Order Form'!$B$6=\"\",\"\",'Order Form'!$B$6),\"\")","v":""}]
[{"$f":"IF(D254<>\"\",IF('Order Form'!$B$2=\"\",\"\",\"New Jersey\"),\"\")","v":""},{"$f":"IF(D254<>\"\",IF('Order Form'!$B$2=\"\",\"\",'Order Form'!$B$2),\"\")","v":""},{"$f":"IF(D254<>\"\",IF('Order Form'!$B$2=\"\",\"\",'Order Form'!$B$3),\"\")","v":""},{"$f":"IF(_xlfn.XLOOKUP(INDEX('Order Form'!$C:$C,ROW(D254)+9),lists!I:I,lists!C:C,\"\",0,1)=0,\"\",_xlfn.XLOOKUP(INDEX('Order Form'!$C:$C,ROW(D254)+9),lists!I:I,lists!C:C,\"\",0,1))","v":""},{"$f":"IF(INDEX('Order Form'!$D:$D,ROW(D254)+9)>0,INDEX('Order Form'!$D:$D,ROW(D254)+9),\"\")","v":""},{"$f":"IF(INDEX('Order Form'!$E:$E,ROW(E254)+9)>0,INDEX('Order Form'!$E:$E,ROW(E254)+9),\"\")","v":""},{"$f":"IF(D254>\"\",IF('Order Form'!$B$7<>0,'Order Form'!$B$7,\"\"),\"\")","v":""},{"$f":"IF(D254<>\"\",IF('Order Form'!$B$4=\"\",\"\",'Order Form'!$B$4),\"\")","v":""},{"$f":"IF(D254<>\"\",IF('Order Form'!$B$5=\"\",\"\",'Order Form'!$B$5),\"\")","v":""},{"$f":"IF(D254<>\"\",IF('Order Form'!$B$6=\"\",\"\",'Order Form'!$B$6),\"\")","v":""}]
[{"$f":"IF(D255<>\"\",IF('Order Form'!$B$2=\"\",\"\",\"New Jersey\"),\"\")","v":""},{"$f":"IF(D255<>\"\",IF('Order Form'!$B$2=\"\",\"\",'Order Form'!$B$2),\"\")","v":""},{"$f":"IF(D255<>\"\",IF('Order Form'!$B$2=\"\",\"\",'Order Form'!$B$3),\"\")","v":""},{"$f":"IF(_xlfn.XLOOKUP(INDEX('Order Form'!$C:$C,ROW(D255)+9),lists!I:I,lists!C:C,\"\",0,1)=0,\"\",_xlfn.XLOOKUP(INDEX('Order Form'!$C:$C,ROW(D255)+9),lists!I:I,lists!C:C,\"\",0,1))","v":""},{"$f":"IF(INDEX('Order Form'!$D:$D,ROW(D255)+9)>0,INDEX('Order Form'!$D:$D,ROW(D255)+9),\"\")","v":""},{"$f":"IF(INDEX('Order Form'!$E:$E,ROW(E255)+9)>0,INDEX('Order Form'!$E:$E,ROW(E255)+9),\"\")","v":""},{"$f":"IF(D255>\"\",IF('Order Form'!$B$7<>0,'Order Form'!$B$7,\"\"),\"\")","v":""},{"$f":"IF(D255<>\"\",IF('Order Form'!$B$4=\"\",\"\",'Order Form'!$B$4),\"\")","v":""},{"$f":"IF(D255<>\"\",IF('Order Form'!$B$5=\"\",\"\",'Order Form'!$B$5),\"\")","v":""},{"$f":"IF(D255<>\"\",IF('Order Form'!$B$6=\"\",\"\",'Order Form'!$B$6),\"\")","v":""}]
[{"$f":"IF(D256<>\"\",IF('Order Form'!$B$2=\"\",\"\",\"New Jersey\"),\"\")","v":""},{"$f":"IF(D256<>\"\",IF('Order Form'!$B$2=\"\",\"\",'Order Form'!$B$2),\"\")","v":""},{"$f":"IF(D256<>\"\",IF('Order Form'!$B$2=\"\",\"\",'Order Form'!$B$3),\"\")","v":""},{"$f":"IF(_xlfn.XLOOKUP(INDEX('Order Form'!$C:$C,ROW(D256)+9),lists!I:I,lists!C:C,\"\",0,1)=0,\"\",_xlfn.XLOOKUP(INDEX('Order Form'!$C:$C,ROW(D256)+9),lists!I:I,lists!C:C,\"\",0,1))","v":""},{"$f":"IF(INDEX('Order Form'!$D:$D,ROW(D256)+9)>0,INDEX('Order Form'!$D:$D,ROW(D256)+9),\"\")","v":""},{"$f":"IF(INDEX('Order Form'!$E:$E,ROW(E256)+9)>0,INDEX('Order Form'!$E:$E,ROW(E256)+9),\"\")","v":""},{"$f":"IF(D256>\"\",IF('Order Form'!$B$7<>0,'Order Form'!$B$7,\"\"),\"\")","v":""},{"$f":"IF(D256<>\"\",IF('Order Form'!$B$4=\"\",\"\",'Order Form'!$B$4),\"\")","v":""},{"$f":"IF(D256<>\"\",IF('Order Form'!$B$5=\"\",\"\",'Order Form'!$B$5),\"\")","v":""},{"$f":"IF(D256<>\"\",IF('Order Form'!$B$6=\"\",\"\",'Order Form'!$B$6),\"\")","v":""}]
[{"$f":"IF(D257<>\"\",IF('Order Form'!$B$2=\"\",\"\",\"New Jersey\"),\"\")","v":""},{"$f":"IF(D257<>\"\",IF('Order Form'!$B$2=\"\",\"\",'Order Form'!$B$2),\"\")","v":""},{"$f":"IF(D257<>\"\",IF('Order Form'!$B$2=\"\",\"\",'Order Form'!$B$3),\"\")","v":""},{"$f":"IF(_xlfn.XLOOKUP(INDEX('Order Form'!$C:$C,ROW(D257)+9),lists!I:I,lists!C:C,\"\",0,1)=0,\"\",_xlfn.XLOOKUP(INDEX('Order Form'!$C:$C,ROW(D257)+9),lists!I:I,lists!C:C,\"\",0,1))","v":""},{"$f":"IF(INDEX('Order Form'!$D:$D,ROW(D257)+9)>0,INDEX('Order Form'!$D:$D,ROW(D257)+9),\"\")","v":""},{"$f":"IF(INDEX('Order Form'!$E:$E,ROW(E257)+9)>0,INDEX('Order Form'!$E:$E,ROW(E257)+9),\"\")","v":""},{"$f":"IF(D257>\"\",IF('Order Form'!$B$7<>0,'Order Form'!$B$7,\"\"),\"\")","v":""},{"$f":"IF(D257<>\"\",IF('Order Form'!$B$4=\"\",\"\",'Order Form'!$B$4),\"\")","v":""},{"$f":"IF(D257<>\"\",IF('Order Form'!$B$5=\"\",\"\",'Order Form'!$B$5),\"\")","v":""},{"$f":"IF(D257<>\"\",IF('Order Form'!$B$6=\"\",\"\",'Order Form'!$B$6),\"\")","v":""}]
[{"$f":"IF(D258<>\"\",IF('Order Form'!$B$2=\"\",\"\",\"New Jersey\"),\"\")","v":""},{"$f":"IF(D258<>\"\",IF('Order Form'!$B$2=\"\",\"\",'Order Form'!$B$2),\"\")","v":""},{"$f":"IF(D258<>\"\",IF('Order Form'!$B$2=\"\",\"\",'Order Form'!$B$3),\"\")","v":""},{"$f":"IF(_xlfn.XLOOKUP(INDEX('Order Form'!$C:$C,ROW(D258)+9),lists!I:I,lists!C:C,\"\",0,1)=0,\"\",_xlfn.XLOOKUP(INDEX('Order Form'!$C:$C,ROW(D258)+9),lists!I:I,lists!C:C,\"\",0,1))","v":""},{"$f":"IF(INDEX('Order Form'!$D:$D,ROW(D258)+9)>0,INDEX('Order Form'!$D:$D,ROW(D258)+9),\"\")","v":""},{"$f":"IF(INDEX('Order Form'!$E:$E,ROW(E258)+9)>0,INDEX('Order Form'!$E:$E,ROW(E258)+9),\"\")","v":""},{"$f":"IF(D258>\"\",IF('Order Form'!$B$7<>0,'Order Form'!$B$7,\"\"),\"\")","v":""},{"$f":"IF(D258<>\"\",IF('Order Form'!$B$4=\"\",\"\",'Order Form'!$B$4),\"\")","v":""},{"$f":"IF(D258<>\"\",IF('Order Form'!$B$5=\"\",\"\",'Order Form'!$B$5),\"\")","v":""},{"$f":"IF(D258<>\"\",IF('Order Form'!$B$6=\"\",\"\",'Order Form'!$B$6),\"\")","v":""}]
[{"$f":"IF(D259<>\"\",IF('Order Form'!$B$2=\"\",\"\",\"New Jersey\"),\"\")","v":""},{"$f":"IF(D259<>\"\",IF('Order Form'!$B$2=\"\",\"\",'Order Form'!$B$2),\"\")","v":""},{"$f":"IF(D259<>\"\",IF('Order Form'!$B$2=\"\",\"\",'Order Form'!$B$3),\"\")","v":""},{"$f":"IF(_xlfn.XLOOKUP(INDEX('Order Form'!$C:$C,ROW(D259)+9),lists!I:I,lists!C:C,\"\",0,1)=0,\"\",_xlfn.XLOOKUP(INDEX('Order Form'!$C:$C,ROW(D259)+9),lists!I:I,lists!C:C,\"\",0,1))","v":""},{"$f":"IF(INDEX('Order Form'!$D:$D,ROW(D259)+9)>0,INDEX('Order Form'!$D:$D,ROW(D259)+9),\"\")","v":""},{"$f":"IF(INDEX('Order Form'!$E:$E,ROW(E259)+9)>0,INDEX('Order Form'!$E:$E,ROW(E259)+9),\"\")","v":""},{"$f":"IF(D259>\"\",IF('Order Form'!$B$7<>0,'Order Form'!$B$7,\"\"),\"\")","v":""},{"$f":"IF(D259<>\"\",IF('Order Form'!$B$4=\"\",\"\",'Order Form'!$B$4),\"\")","v":""},{"$f":"IF(D259<>\"\",IF('Order Form'!$B$5=\"\",\"\",'Order Form'!$B$5),\"\")","v":""},{"$f":"IF(D259<>\"\",IF('Order Form'!$B$6=\"\",\"\",'Order Form'!$B$6),\"\")","v":""}]
[{"$f":"IF(D260<>\"\",IF('Order Form'!$B$2=\"\",\"\",\"New Jersey\"),\"\")","v":""},{"$f":"IF(D260<>\"\",IF('Order Form'!$B$2=\"\",\"\",'Order Form'!$B$2),\"\")","v":""},{"$f":"IF(D260<>\"\",IF('Order Form'!$B$2=\"\",\"\",'Order Form'!$B$3),\"\")","v":""},{"$f":"IF(_xlfn.XLOOKUP(INDEX('Order Form'!$C:$C,ROW(D260)+9),lists!I:I,lists!C:C,\"\",0,1)=0,\"\",_xlfn.XLOOKUP(INDEX('Order Form'!$C:$C,ROW(D260)+9),lists!I:I,lists!C:C,\"\",0,1))","v":""},{"$f":"IF(INDEX('Order Form'!$D:$D,ROW(D260)+9)>0,INDEX('Order Form'!$D:$D,ROW(D260)+9),\"\")","v":""},{"$f":"IF(INDEX('Order Form'!$E:$E,ROW(E260)+9)>0,INDEX('Order Form'!$E:$E,ROW(E260)+9),\"\")","v":""},{"$f":"IF(D260>\"\",IF('Order Form'!$B$7<>0,'Order Form'!$B$7,\"\"),\"\")","v":""},{"$f":"IF(D260<>\"\",IF('Order Form'!$B$4=\"\",\"\",'Order Form'!$B$4),\"\")","v":""},{"$f":"IF(D260<>\"\",IF('Order Form'!$B$5=\"\",\"\",'Order Form'!$B$5),\"\")","v":""},{"$f":"IF(D260<>\"\",IF('Order Form'!$B$6=\"\",\"\",'Order Form'!$B$6),\"\")","v":""}]
[{"$f":"IF(D261<>\"\",IF('Order Form'!$B$2=\"\",\"\",\"New Jersey\"),\"\")","v":""},{"$f":"IF(D261<>\"\",IF('Order Form'!$B$2=\"\",\"\",'Order Form'!$B$2),\"\")","v":""},{"$f":"IF(D261<>\"\",IF('Order Form'!$B$2=\"\",\"\",'Order Form'!$B$3),\"\")","v":""},{"$f":"IF(_xlfn.XLOOKUP(INDEX('Order Form'!$C:$C,ROW(D261)+9),lists!I:I,lists!C:C,\"\",0,1)=0,\"\",_xlfn.XLOOKUP(INDEX('Order Form'!$C:$C,ROW(D261)+9),lists!I:I,lists!C:C,\"\",0,1))","v":""},{"$f":"IF(INDEX('Order Form'!$D:$D,ROW(D261)+9)>0,INDEX('Order Form'!$D:$D,ROW(D261)+9),\"\")","v":""},{"$f":"IF(INDEX('Order Form'!$E:$E,ROW(E261)+9)>0,INDEX('Order Form'!$E:$E,ROW(E261)+9),\"\")","v":""},{"$f":"IF(D261>\"\",IF('Order Form'!$B$7<>0,'Order Form'!$B$7,\"\"),\"\")","v":""},{"$f":"IF(D261<>\"\",IF('Order Form'!$B$4=\"\",\"\",'Order Form'!$B$4),\"\")","v":""},{"$f":"IF(D261<>\"\",IF('Order Form'!$B$5=\"\",\"\",'Order Form'!$B$5),\"\")","v":""},{"$f":"IF(D261<>\"\",IF('Order Form'!$B$6=\"\",\"\",'Order Form'!$B$6),\"\")","v":""}]
[{"$f":"IF(D262<>\"\",IF('Order Form'!$B$2=\"\",\"\",\"New Jersey\"),\"\")","v":""},{"$f":"IF(D262<>\"\",IF('Order Form'!$B$2=\"\",\"\",'Order Form'!$B$2),\"\")","v":""},{"$f":"IF(D262<>\"\",IF('Order Form'!$B$2=\"\",\"\",'Order Form'!$B$3),\"\")","v":""},{"$f":"IF(_xlfn.XLOOKUP(INDEX('Order Form'!$C:$C,ROW(D262)+9),lists!I:I,lists!C:C,\"\",0,1)=0,\"\",_xlfn.XLOOKUP(INDEX('Order Form'!$C:$C,ROW(D262)+9),lists!I:I,lists!C:C,\"\",0,1))","v":""},{"$f":"IF(INDEX('Order Form'!$D:$D,ROW(D262)+9)>0,INDEX('Order Form'!$D:$D,ROW(D262)+9),\"\")","v":""},{"$f":"IF(INDEX('Order Form'!$E:$E,ROW(E262)+9)>0,INDEX('Order Form'!$E:$E,ROW(E262)+9),\"\")","v":""},{"$f":"IF(D262>\"\",IF('Order Form'!$B$7<>0,'Order Form'!$B$7,\"\"),\"\")","v":""},{"$f":"IF(D262<>\"\",IF('Order Form'!$B$4=\"\",\"\",'Order Form'!$B$4),\"\")","v":""},{"$f":"IF(D262<>\"\",IF('Order Form'!$B$5=\"\",\"\",'Order Form'!$B$5),\"\")","v":""},{"$f":"IF(D262<>\"\",IF('Order Form'!$B$6=\"\",\"\",'Order Form'!$B$6),\"\")","v":""}]
[{"$f":"IF(D263<>\"\",IF('Order Form'!$B$2=\"\",\"\",\"New Jersey\"),\"\")","v":""},{"$f":"IF(D263<>\"\",IF('Order Form'!$B$2=\"\",\"\",'Order Form'!$B$2),\"\")","v":""},{"$f":"IF(D263<>\"\",IF('Order Form'!$B$2=\"\",\"\",'Order Form'!$B$3),\"\")","v":""},{"$f":"IF(_xlfn.XLOOKUP(INDEX('Order Form'!$C:$C,ROW(D263)+9),lists!I:I,lists!C:C,\"\",0,1)=0,\"\",_xlfn.XLOOKUP(INDEX('Order Form'!$C:$C,ROW(D263)+9),lists!I:I,lists!C:C,\"\",0,1))","v":""},{"$f":"IF(INDEX('Order Form'!$D:$D,ROW(D263)+9)>0,INDEX('Order Form'!$D:$D,ROW(D263)+9),\"\")","v":""},{"$f":"IF(INDEX('Order Form'!$E:$E,ROW(E263)+9)>0,INDEX('Order Form'!$E:$E,ROW(E263)+9),\"\")","v":""},{"$f":"IF(D263>\"\",IF('Order Form'!$B$7<>0,'Order Form'!$B$7,\"\"),\"\")","v":""},{"$f":"IF(D263<>\"\",IF('Order Form'!$B$4=\"\",\"\",'Order Form'!$B$4),\"\")","v":""},{"$f":"IF(D263<>\"\",IF('Order Form'!$B$5=\"\",\"\",'Order Form'!$B$5),\"\")","v":""},{"$f":"IF(D263<>\"\",IF('Order Form'!$B$6=\"\",\"\",'Order Form'!$B$6),\"\")","v":""}]
[{"$f":"IF(D264<>\"\",IF('Order Form'!$B$2=\"\",\"\",\"New Jersey\"),\"\")","v":""},{"$f":"IF(D264<>\"\",IF('Order Form'!$B$2=\"\",\"\",'Order Form'!$B$2),\"\")","v":""},{"$f":"IF(D264<>\"\",IF('Order Form'!$B$2=\"\",\"\",'Order Form'!$B$3),\"\")","v":""},{"$f":"IF(_xlfn.XLOOKUP(INDEX('Order Form'!$C:$C,ROW(D264)+9),lists!I:I,lists!C:C,\"\",0,1)=0,\"\",_xlfn.XLOOKUP(INDEX('Order Form'!$C:$C,ROW(D264)+9),lists!I:I,lists!C:C,\"\",0,1))","v":""},{"$f":"IF(INDEX('Order Form'!$D:$D,ROW(D264)+9)>0,INDEX('Order Form'!$D:$D,ROW(D264)+9),\"\")","v":""},{"$f":"IF(INDEX('Order Form'!$E:$E,ROW(E264)+9)>0,INDEX('Order Form'!$E:$E,ROW(E264)+9),\"\")","v":""},{"$f":"IF(D264>\"\",IF('Order Form'!$B$7<>0,'Order Form'!$B$7,\"\"),\"\")","v":""},{"$f":"IF(D264<>\"\",IF('Order Form'!$B$4=\"\",\"\",'Order Form'!$B$4),\"\")","v":""},{"$f":"IF(D264<>\"\",IF('Order Form'!$B$5=\"\",\"\",'Order Form'!$B$5),\"\")","v":""},{"$f":"IF(D264<>\"\",IF('Order Form'!$B$6=\"\",\"\",'Order Form'!$B$6),\"\")","v":""}]
[{"$f":"IF(D265<>\"\",IF('Order Form'!$B$2=\"\",\"\",\"New Jersey\"),\"\")","v":""},{"$f":"IF(D265<>\"\",IF('Order Form'!$B$2=\"\",\"\",'Order Form'!$B$2),\"\")","v":""},{"$f":"IF(D265<>\"\",IF('Order Form'!$B$2=\"\",\"\",'Order Form'!$B$3),\"\")","v":""},{"$f":"IF(_xlfn.XLOOKUP(INDEX('Order Form'!$C:$C,ROW(D265)+9),lists!I:I,lists!C:C,\"\",0,1)=0,\"\",_xlfn.XLOOKUP(INDEX('Order Form'!$C:$C,ROW(D265)+9),lists!I:I,lists!C:C,\"\",0,1))","v":""},{"$f":"IF(INDEX('Order Form'!$D:$D,ROW(D265)+9)>0,INDEX('Order Form'!$D:$D,ROW(D265)+9),\"\")","v":""},{"$f":"IF(INDEX('Order Form'!$E:$E,ROW(E265)+9)>0,INDEX('Order Form'!$E:$E,ROW(E265)+9),\"\")","v":""},{"$f":"IF(D265>\"\",IF('Order Form'!$B$7<>0,'Order Form'!$B$7,\"\"),\"\")","v":""},{"$f":"IF(D265<>\"\",IF('Order Form'!$B$4=\"\",\"\",'Order Form'!$B$4),\"\")","v":""},{"$f":"IF(D265<>\"\",IF('Order Form'!$B$5=\"\",\"\",'Order Form'!$B$5),\"\")","v":""},{"$f":"IF(D265<>\"\",IF('Order Form'!$B$6=\"\",\"\",'Order Form'!$B$6),\"\")","v":""}]
[{"$f":"IF(D266<>\"\",IF('Order Form'!$B$2=\"\",\"\",\"New Jersey\"),\"\")","v":""},{"$f":"IF(D266<>\"\",IF('Order Form'!$B$2=\"\",\"\",'Order Form'!$B$2),\"\")","v":""},{"$f":"IF(D266<>\"\",IF('Order Form'!$B$2=\"\",\"\",'Order Form'!$B$3),\"\")","v":""},{"$f":"IF(_xlfn.XLOOKUP(INDEX('Order Form'!$C:$C,ROW(D266)+9),lists!I:I,lists!C:C,\"\",0,1)=0,\"\",_xlfn.XLOOKUP(INDEX('Order Form'!$C:$C,ROW(D266)+9),lists!I:I,lists!C:C,\"\",0,1))","v":""},{"$f":"IF(INDEX('Order Form'!$D:$D,ROW(D266)+9)>0,INDEX('Order Form'!$D:$D,ROW(D266)+9),\"\")","v":""},{"$f":"IF(INDEX('Order Form'!$E:$E,ROW(E266)+9)>0,INDEX('Order Form'!$E:$E,ROW(E266)+9),\"\")","v":""},{"$f":"IF(D266>\"\",IF('Order Form'!$B$7<>0,'Order Form'!$B$7,\"\"),\"\")","v":""},{"$f":"IF(D266<>\"\",IF('Order Form'!$B$4=\"\",\"\",'Order Form'!$B$4),\"\")","v":""},{"$f":"IF(D266<>\"\",IF('Order Form'!$B$5=\"\",\"\",'Order Form'!$B$5),\"\")","v":""},{"$f":"IF(D266<>\"\",IF('Order Form'!$B$6=\"\",\"\",'Order Form'!$B$6),\"\")","v":""}]
[{"$f":"IF(D267<>\"\",IF('Order Form'!$B$2=\"\",\"\",\"New Jersey\"),\"\")","v":""},{"$f":"IF(D267<>\"\",IF('Order Form'!$B$2=\"\",\"\",'Order Form'!$B$2),\"\")","v":""},{"$f":"IF(D267<>\"\",IF('Order Form'!$B$2=\"\",\"\",'Order Form'!$B$3),\"\")","v":""},{"$f":"IF(_xlfn.XLOOKUP(INDEX('Order Form'!$C:$C,ROW(D267)+9),lists!I:I,lists!C:C,\"\",0,1)=0,\"\",_xlfn.XLOOKUP(INDEX('Order Form'!$C:$C,ROW(D267)+9),lists!I:I,lists!C:C,\"\",0,1))","v":""},{"$f":"IF(INDEX('Order Form'!$D:$D,ROW(D267)+9)>0,INDEX('Order Form'!$D:$D,ROW(D267)+9),\"\")","v":""},{"$f":"IF(INDEX('Order Form'!$E:$E,ROW(E267)+9)>0,INDEX('Order Form'!$E:$E,ROW(E267)+9),\"\")","v":""},{"$f":"IF(D267>\"\",IF('Order Form'!$B$7<>0,'Order Form'!$B$7,\"\"),\"\")","v":""},{"$f":"IF(D267<>\"\",IF('Order Form'!$B$4=\"\",\"\",'Order Form'!$B$4),\"\")","v":""},{"$f":"IF(D267<>\"\",IF('Order Form'!$B$5=\"\",\"\",'Order Form'!$B$5),\"\")","v":""},{"$f":"IF(D267<>\"\",IF('Order Form'!$B$6=\"\",\"\",'Order Form'!$B$6),\"\")","v":""}]
[{"$f":"IF(D268<>\"\",IF('Order Form'!$B$2=\"\",\"\",\"New Jersey\"),\"\")","v":""},{"$f":"IF(D268<>\"\",IF('Order Form'!$B$2=\"\",\"\",'Order Form'!$B$2),\"\")","v":""},{"$f":"IF(D268<>\"\",IF('Order Form'!$B$2=\"\",\"\",'Order Form'!$B$3),\"\")","v":""},{"$f":"IF(_xlfn.XLOOKUP(INDEX('Order Form'!$C:$C,ROW(D268)+9),lists!I:I,lists!C:C,\"\",0,1)=0,\"\",_xlfn.XLOOKUP(INDEX('Order Form'!$C:$C,ROW(D268)+9),lists!I:I,lists!C:C,\"\",0,1))","v":""},{"$f":"IF(INDEX('Order Form'!$D:$D,ROW(D268)+9)>0,INDEX('Order Form'!$D:$D,ROW(D268)+9),\"\")","v":""},{"$f":"IF(INDEX('Order Form'!$E:$E,ROW(E268)+9)>0,INDEX('Order Form'!$E:$E,ROW(E268)+9),\"\")","v":""},{"$f":"IF(D268>\"\",IF('Order Form'!$B$7<>0,'Order Form'!$B$7,\"\"),\"\")","v":""},{"$f":"IF(D268<>\"\",IF('Order Form'!$B$4=\"\",\"\",'Order Form'!$B$4),\"\")","v":""},{"$f":"IF(D268<>\"\",IF('Order Form'!$B$5=\"\",\"\",'Order Form'!$B$5),\"\")","v":""},{"$f":"IF(D268<>\"\",IF('Order Form'!$B$6=\"\",\"\",'Order Form'!$B$6),\"\")","v":""}]
[{"$f":"IF(D269<>\"\",IF('Order Form'!$B$2=\"\",\"\",\"New Jersey\"),\"\")","v":""},{"$f":"IF(D269<>\"\",IF('Order Form'!$B$2=\"\",\"\",'Order Form'!$B$2),\"\")","v":""},{"$f":"IF(D269<>\"\",IF('Order Form'!$B$2=\"\",\"\",'Order Form'!$B$3),\"\")","v":""},{"$f":"IF(_xlfn.XLOOKUP(INDEX('Order Form'!$C:$C,ROW(D269)+9),lists!I:I,lists!C:C,\"\",0,1)=0,\"\",_xlfn.XLOOKUP(INDEX('Order Form'!$C:$C,ROW(D269)+9),lists!I:I,lists!C:C,\"\",0,1))","v":""},{"$f":"IF(INDEX('Order Form'!$D:$D,ROW(D269)+9)>0,INDEX('Order Form'!$D:$D,ROW(D269)+9),\"\")","v":""},{"$f":"IF(INDEX('Order Form'!$E:$E,ROW(E269)+9)>0,INDEX('Order Form'!$E:$E,ROW(E269)+9),\"\")","v":""},{"$f":"IF(D269>\"\",IF('Order Form'!$B$7<>0,'Order Form'!$B$7,\"\"),\"\")","v":""},{"$f":"IF(D269<>\"\",IF('Order Form'!$B$4=\"\",\"\",'Order Form'!$B$4),\"\")","v":""},{"$f":"IF(D269<>\"\",IF('Order Form'!$B$5=\"\",\"\",'Order Form'!$B$5),\"\")","v":""},{"$f":"IF(D269<>\"\",IF('Order Form'!$B$6=\"\",\"\",'Order Form'!$B$6),\"\")","v":""}]
[{"$f":"IF(D270<>\"\",IF('Order Form'!$B$2=\"\",\"\",\"New Jersey\"),\"\")","v":""},{"$f":"IF(D270<>\"\",IF('Order Form'!$B$2=\"\",\"\",'Order Form'!$B$2),\"\")","v":""},{"$f":"IF(D270<>\"\",IF('Order Form'!$B$2=\"\",\"\",'Order Form'!$B$3),\"\")","v":""},{"$f":"IF(_xlfn.XLOOKUP(INDEX('Order Form'!$C:$C,ROW(D270)+9),lists!I:I,lists!C:C,\"\",0,1)=0,\"\",_xlfn.XLOOKUP(INDEX('Order Form'!$C:$C,ROW(D270)+9),lists!I:I,lists!C:C,\"\",0,1))","v":""},{"$f":"IF(INDEX('Order Form'!$D:$D,ROW(D270)+9)>0,INDEX('Order Form'!$D:$D,ROW(D270)+9),\"\")","v":""},{"$f":"IF(INDEX('Order Form'!$E:$E,ROW(E270)+9)>0,INDEX('Order Form'!$E:$E,ROW(E270)+9),\"\")","v":""},{"$f":"IF(D270>\"\",IF('Order Form'!$B$7<>0,'Order Form'!$B$7,\"\"),\"\")","v":""},{"$f":"IF(D270<>\"\",IF('Order Form'!$B$4=\"\",\"\",'Order Form'!$B$4),\"\")","v":""},{"$f":"IF(D270<>\"\",IF('Order Form'!$B$5=\"\",\"\",'Order Form'!$B$5),\"\")","v":""},{"$f":"IF(D270<>\"\",IF('Order Form'!$B$6=\"\",\"\",'Order Form'!$B$6),\"\")","v":""}]
[{"$f":"IF(D271<>\"\",IF('Order Form'!$B$2=\"\",\"\",\"New Jersey\"),\"\")","v":""},{"$f":"IF(D271<>\"\",IF('Order Form'!$B$2=\"\",\"\",'Order Form'!$B$2),\"\")","v":""},{"$f":"IF(D271<>\"\",IF('Order Form'!$B$2=\"\",\"\",'Order Form'!$B$3),\"\")","v":""},{"$f":"IF(_xlfn.XLOOKUP(INDEX('Order Form'!$C:$C,ROW(D271)+9),lists!I:I,lists!C:C,\"\",0,1)=0,\"\",_xlfn.XLOOKUP(INDEX('Order Form'!$C:$C,ROW(D271)+9),lists!I:I,lists!C:C,\"\",0,1))","v":""},{"$f":"IF(INDEX('Order Form'!$D:$D,ROW(D271)+9)>0,INDEX('Order Form'!$D:$D,ROW(D271)+9),\"\")","v":""},{"$f":"IF(INDEX('Order Form'!$E:$E,ROW(E271)+9)>0,INDEX('Order Form'!$E:$E,ROW(E271)+9),\"\")","v":""},{"$f":"IF(D271>\"\",IF('Order Form'!$B$7<>0,'Order Form'!$B$7,\"\"),\"\")","v":""},{"$f":"IF(D271<>\"\",IF('Order Form'!$B$4=\"\",\"\",'Order Form'!$B$4),\"\")","v":""},{"$f":"IF(D271<>\"\",IF('Order Form'!$B$5=\"\",\"\",'Order Form'!$B$5),\"\")","v":""},{"$f":"IF(D271<>\"\",IF('Order Form'!$B$6=\"\",\"\",'Order Form'!$B$6),\"\")","v":""}]
[{"$f":"IF(D272<>\"\",IF('Order Form'!$B$2=\"\",\"\",\"New Jersey\"),\"\")","v":""},{"$f":"IF(D272<>\"\",IF('Order Form'!$B$2=\"\",\"\",'Order Form'!$B$2),\"\")","v":""},{"$f":"IF(D272<>\"\",IF('Order Form'!$B$2=\"\",\"\",'Order Form'!$B$3),\"\")","v":""},{"$f":"IF(_xlfn.XLOOKUP(INDEX('Order Form'!$C:$C,ROW(D272)+9),lists!I:I,lists!C:C,\"\",0,1)=0,\"\",_xlfn.XLOOKUP(INDEX('Order Form'!$C:$C,ROW(D272)+9),lists!I:I,lists!C:C,\"\",0,1))","v":""},{"$f":"IF(INDEX('Order Form'!$D:$D,ROW(D272)+9)>0,INDEX('Order Form'!$D:$D,ROW(D272)+9),\"\")","v":""},{"$f":"IF(INDEX('Order Form'!$E:$E,ROW(E272)+9)>0,INDEX('Order Form'!$E:$E,ROW(E272)+9),\"\")","v":""},{"$f":"IF(D272>\"\",IF('Order Form'!$B$7<>0,'Order Form'!$B$7,\"\"),\"\")","v":""},{"$f":"IF(D272<>\"\",IF('Order Form'!$B$4=\"\",\"\",'Order Form'!$B$4),\"\")","v":""},{"$f":"IF(D272<>\"\",IF('Order Form'!$B$5=\"\",\"\",'Order Form'!$B$5),\"\")","v":""},{"$f":"IF(D272<>\"\",IF('Order Form'!$B$6=\"\",\"\",'Order Form'!$B$6),\"\")","v":""}]
[{"$f":"IF(D273<>\"\",IF('Order Form'!$B$2=\"\",\"\",\"New Jersey\"),\"\")","v":""},{"$f":"IF(D273<>\"\",IF('Order Form'!$B$2=\"\",\"\",'Order Form'!$B$2),\"\")","v":""},{"$f":"IF(D273<>\"\",IF('Order Form'!$B$2=\"\",\"\",'Order Form'!$B$3),\"\")","v":""},{"$f":"IF(_xlfn.XLOOKUP(INDEX('Order Form'!$C:$C,ROW(D273)+9),lists!I:I,lists!C:C,\"\",0,1)=0,\"\",_xlfn.XLOOKUP(INDEX('Order Form'!$C:$C,ROW(D273)+9),lists!I:I,lists!C:C,\"\",0,1))","v":""},{"$f":"IF(INDEX('Order Form'!$D:$D,ROW(D273)+9)>0,INDEX('Order Form'!$D:$D,ROW(D273)+9),\"\")","v":""},{"$f":"IF(INDEX('Order Form'!$E:$E,ROW(E273)+9)>0,INDEX('Order Form'!$E:$E,ROW(E273)+9),\"\")","v":""},{"$f":"IF(D273>\"\",IF('Order Form'!$B$7<>0,'Order Form'!$B$7,\"\"),\"\")","v":""},{"$f":"IF(D273<>\"\",IF('Order Form'!$B$4=\"\",\"\",'Order Form'!$B$4),\"\")","v":""},{"$f":"IF(D273<>\"\",IF('Order Form'!$B$5=\"\",\"\",'Order Form'!$B$5),\"\")","v":""},{"$f":"IF(D273<>\"\",IF('Order Form'!$B$6=\"\",\"\",'Order Form'!$B$6),\"\")","v":""}]
[{"$f":"IF(D274<>\"\",IF('Order Form'!$B$2=\"\",\"\",\"New Jersey\"),\"\")","v":""},{"$f":"IF(D274<>\"\",IF('Order Form'!$B$2=\"\",\"\",'Order Form'!$B$2),\"\")","v":""},{"$f":"IF(D274<>\"\",IF('Order Form'!$B$2=\"\",\"\",'Order Form'!$B$3),\"\")","v":""},{"$f":"IF(_xlfn.XLOOKUP(INDEX('Order Form'!$C:$C,ROW(D274)+9),lists!I:I,lists!C:C,\"\",0,1)=0,\"\",_xlfn.XLOOKUP(INDEX('Order Form'!$C:$C,ROW(D274)+9),lists!I:I,lists!C:C,\"\",0,1))","v":""},{"$f":"IF(INDEX('Order Form'!$D:$D,ROW(D274)+9)>0,INDEX('Order Form'!$D:$D,ROW(D274)+9),\"\")","v":""},{"$f":"IF(INDEX('Order Form'!$E:$E,ROW(E274)+9)>0,INDEX('Order Form'!$E:$E,ROW(E274)+9),\"\")","v":""},{"$f":"IF(D274>\"\",IF('Order Form'!$B$7<>0,'Order Form'!$B$7,\"\"),\"\")","v":""},{"$f":"IF(D274<>\"\",IF('Order Form'!$B$4=\"\",\"\",'Order Form'!$B$4),\"\")","v":""},{"$f":"IF(D274<>\"\",IF('Order Form'!$B$5=\"\",\"\",'Order Form'!$B$5),\"\")","v":""},{"$f":"IF(D274<>\"\",IF('Order Form'!$B$6=\"\",\"\",'Order Form'!$B$6),\"\")","v":""}]
[{"$f":"IF(D275<>\"\",IF('Order Form'!$B$2=\"\",\"\",\"New Jersey\"),\"\")","v":""},{"$f":"IF(D275<>\"\",IF('Order Form'!$B$2=\"\",\"\",'Order Form'!$B$2),\"\")","v":""},{"$f":"IF(D275<>\"\",IF('Order Form'!$B$2=\"\",\"\",'Order Form'!$B$3),\"\")","v":""},{"$f":"IF(_xlfn.XLOOKUP(INDEX('Order Form'!$C:$C,ROW(D275)+9),lists!I:I,lists!C:C,\"\",0,1)=0,\"\",_xlfn.XLOOKUP(INDEX('Order Form'!$C:$C,ROW(D275)+9),lists!I:I,lists!C:C,\"\",0,1))","v":""},{"$f":"IF(INDEX('Order Form'!$D:$D,ROW(D275)+9)>0,INDEX('Order Form'!$D:$D,ROW(D275)+9),\"\")","v":""},{"$f":"IF(INDEX('Order Form'!$E:$E,ROW(E275)+9)>0,INDEX('Order Form'!$E:$E,ROW(E275)+9),\"\")","v":""},{"$f":"IF(D275>\"\",IF('Order Form'!$B$7<>0,'Order Form'!$B$7,\"\"),\"\")","v":""},{"$f":"IF(D275<>\"\",IF('Order Form'!$B$4=\"\",\"\",'Order Form'!$B$4),\"\")","v":""},{"$f":"IF(D275<>\"\",IF('Order Form'!$B$5=\"\",\"\",'Order Form'!$B$5),\"\")","v":""},{"$f":"IF(D275<>\"\",IF('Order Form'!$B$6=\"\",\"\",'Order Form'!$B$6),\"\")","v":""}]
[{"$f":"IF(D276<>\"\",IF('Order Form'!$B$2=\"\",\"\",\"New Jersey\"),\"\")","v":""},{"$f":"IF(D276<>\"\",IF('Order Form'!$B$2=\"\",\"\",'Order Form'!$B$2),\"\")","v":""},{"$f":"IF(D276<>\"\",IF('Order Form'!$B$2=\"\",\"\",'Order Form'!$B$3),\"\")","v":""},{"$f":"IF(_xlfn.XLOOKUP(INDEX('Order Form'!$C:$C,ROW(D276)+9),lists!I:I,lists!C:C,\"\",0,1)=0,\"\",_xlfn.XLOOKUP(INDEX('Order Form'!$C:$C,ROW(D276)+9),lists!I:I,lists!C:C,\"\",0,1))","v":""},{"$f":"IF(INDEX('Order Form'!$D:$D,ROW(D276)+9)>0,INDEX('Order Form'!$D:$D,ROW(D276)+9),\"\")","v":""},{"$f":"IF(INDEX('Order Form'!$E:$E,ROW(E276)+9)>0,INDEX('Order Form'!$E:$E,ROW(E276)+9),\"\")","v":""},{"$f":"IF(D276>\"\",IF('Order Form'!$B$7<>0,'Order Form'!$B$7,\"\"),\"\")","v":""},{"$f":"IF(D276<>\"\",IF('Order Form'!$B$4=\"\",\"\",'Order Form'!$B$4),\"\")","v":""},{"$f":"IF(D276<>\"\",IF('Order Form'!$B$5=\"\",\"\",'Order Form'!$B$5),\"\")","v":""},{"$f":"IF(D276<>\"\",IF('Order Form'!$B$6=\"\",\"\",'Order Form'!$B$6),\"\")","v":""}]
[{"$f":"IF(D277<>\"\",IF('Order Form'!$B$2=\"\",\"\",\"New Jersey\"),\"\")","v":""},{"$f":"IF(D277<>\"\",IF('Order Form'!$B$2=\"\",\"\",'Order Form'!$B$2),\"\")","v":""},{"$f":"IF(D277<>\"\",IF('Order Form'!$B$2=\"\",\"\",'Order Form'!$B$3),\"\")","v":""},{"$f":"IF(_xlfn.XLOOKUP(INDEX('Order Form'!$C:$C,ROW(D277)+9),lists!I:I,lists!C:C,\"\",0,1)=0,\"\",_xlfn.XLOOKUP(INDEX('Order Form'!$C:$C,ROW(D277)+9),lists!I:I,lists!C:C,\"\",0,1))","v":""},{"$f":"IF(INDEX('Order Form'!$D:$D,ROW(D277)+9)>0,INDEX('Order Form'!$D:$D,ROW(D277)+9),\"\")","v":""},{"$f":"IF(INDEX('Order Form'!$E:$E,ROW(E277)+9)>0,INDEX('Order Form'!$E:$E,ROW(E277)+9),\"\")","v":""},{"$f":"IF(D277>\"\",IF('Order Form'!$B$7<>0,'Order Form'!$B$7,\"\"),\"\")","v":""},{"$f":"IF(D277<>\"\",IF('Order Form'!$B$4=\"\",\"\",'Order Form'!$B$4),\"\")","v":""},{"$f":"IF(D277<>\"\",IF('Order Form'!$B$5=\"\",\"\",'Order Form'!$B$5),\"\")","v":""},{"$f":"IF(D277<>\"\",IF('Order Form'!$B$6=\"\",\"\",'Order Form'!$B$6),\"\")","v":""}]
[{"$f":"IF(D278<>\"\",IF('Order Form'!$B$2=\"\",\"\",\"New Jersey\"),\"\")","v":""},{"$f":"IF(D278<>\"\",IF('Order Form'!$B$2=\"\",\"\",'Order Form'!$B$2),\"\")","v":""},{"$f":"IF(D278<>\"\",IF('Order Form'!$B$2=\"\",\"\",'Order Form'!$B$3),\"\")","v":""},{"$f":"IF(_xlfn.XLOOKUP(INDEX('Order Form'!$C:$C,ROW(D278)+9),lists!I:I,lists!C:C,\"\",0,1)=0,\"\",_xlfn.XLOOKUP(INDEX('Order Form'!$C:$C,ROW(D278)+9),lists!I:I,lists!C:C,\"\",0,1))","v":""},{"$f":"IF(INDEX('Order Form'!$D:$D,ROW(D278)+9)>0,INDEX('Order Form'!$D:$D,ROW(D278)+9),\"\")","v":""},{"$f":"IF(INDEX('Order Form'!$E:$E,ROW(E278)+9)>0,INDEX('Order Form'!$E:$E,ROW(E278)+9),\"\")","v":""},{"$f":"IF(D278>\"\",IF('Order Form'!$B$7<>0,'Order Form'!$B$7,\"\"),\"\")","v":""},{"$f":"IF(D278<>\"\",IF('Order Form'!$B$4=\"\",\"\",'Order Form'!$B$4),\"\")","v":""},{"$f":"IF(D278<>\"\",IF('Order Form'!$B$5=\"\",\"\",'Order Form'!$B$5),\"\")","v":""},{"$f":"IF(D278<>\"\",IF('Order Form'!$B$6=\"\",\"\",'Order Form'!$B$6),\"\")","v":""}]
[{"$f":"IF(D279<>\"\",IF('Order Form'!$B$2=\"\",\"\",\"New Jersey\"),\"\")","v":""},{"$f":"IF(D279<>\"\",IF('Order Form'!$B$2=\"\",\"\",'Order Form'!$B$2),\"\")","v":""},{"$f":"IF(D279<>\"\",IF('Order Form'!$B$2=\"\",\"\",'Order Form'!$B$3),\"\")","v":""},{"$f":"IF(_xlfn.XLOOKUP(INDEX('Order Form'!$C:$C,ROW(D279)+9),lists!I:I,lists!C:C,\"\",0,1)=0,\"\",_xlfn.XLOOKUP(INDEX('Order Form'!$C:$C,ROW(D279)+9),lists!I:I,lists!C:C,\"\",0,1))","v":""},{"$f":"IF(INDEX('Order Form'!$D:$D,ROW(D279)+9)>0,INDEX('Order Form'!$D:$D,ROW(D279)+9),\"\")","v":""},{"$f":"IF(INDEX('Order Form'!$E:$E,ROW(E279)+9)>0,INDEX('Order Form'!$E:$E,ROW(E279)+9),\"\")","v":""},{"$f":"IF(D279>\"\",IF('Order Form'!$B$7<>0,'Order Form'!$B$7,\"\"),\"\")","v":""},{"$f":"IF(D279<>\"\",IF('Order Form'!$B$4=\"\",\"\",'Order Form'!$B$4),\"\")","v":""},{"$f":"IF(D279<>\"\",IF('Order Form'!$B$5=\"\",\"\",'Order Form'!$B$5),\"\")","v":""},{"$f":"IF(D279<>\"\",IF('Order Form'!$B$6=\"\",\"\",'Order Form'!$B$6),\"\")","v":""}]
[{"$f":"IF(D280<>\"\",IF('Order Form'!$B$2=\"\",\"\",\"New Jersey\"),\"\")","v":""},{"$f":"IF(D280<>\"\",IF('Order Form'!$B$2=\"\",\"\",'Order Form'!$B$2),\"\")","v":""},{"$f":"IF(D280<>\"\",IF('Order Form'!$B$2=\"\",\"\",'Order Form'!$B$3),\"\")","v":""},{"$f":"IF(_xlfn.XLOOKUP(INDEX('Order Form'!$C:$C,ROW(D280)+9),lists!I:I,lists!C:C,\"\",0,1)=0,\"\",_xlfn.XLOOKUP(INDEX('Order Form'!$C:$C,ROW(D280)+9),lists!I:I,lists!C:C,\"\",0,1))","v":""},{"$f":"IF(INDEX('Order Form'!$D:$D,ROW(D280)+9)>0,INDEX('Order Form'!$D:$D,ROW(D280)+9),\"\")","v":""},{"$f":"IF(INDEX('Order Form'!$E:$E,ROW(E280)+9)>0,INDEX('Order Form'!$E:$E,ROW(E280)+9),\"\")","v":""},{"$f":"IF(D280>\"\",IF('Order Form'!$B$7<>0,'Order Form'!$B$7,\"\"),\"\")","v":""},{"$f":"IF(D280<>\"\",IF('Order Form'!$B$4=\"\",\"\",'Order Form'!$B$4),\"\")","v":""},{"$f":"IF(D280<>\"\",IF('Order Form'!$B$5=\"\",\"\",'Order Form'!$B$5),\"\")","v":""},{"$f":"IF(D280<>\"\",IF('Order Form'!$B$6=\"\",\"\",'Order Form'!$B$6),\"\")","v":""}]
[{"$f":"IF(D281<>\"\",IF('Order Form'!$B$2=\"\",\"\",\"New Jersey\"),\"\")","v":""},{"$f":"IF(D281<>\"\",IF('Order Form'!$B$2=\"\",\"\",'Order Form'!$B$2),\"\")","v":""},{"$f":"IF(D281<>\"\",IF('Order Form'!$B$2=\"\",\"\",'Order Form'!$B$3),\"\")","v":""},{"$f":"IF(_xlfn.XLOOKUP(INDEX('Order Form'!$C:$C,ROW(D281)+9),lists!I:I,lists!C:C,\"\",0,1)=0,\"\",_xlfn.XLOOKUP(INDEX('Order Form'!$C:$C,ROW(D281)+9),lists!I:I,lists!C:C,\"\",0,1))","v":""},{"$f":"IF(INDEX('Order Form'!$D:$D,ROW(D281)+9)>0,INDEX('Order Form'!$D:$D,ROW(D281)+9),\"\")","v":""},{"$f":"IF(INDEX('Order Form'!$E:$E,ROW(E281)+9)>0,INDEX('Order Form'!$E:$E,ROW(E281)+9),\"\")","v":""},{"$f":"IF(D281>\"\",IF('Order Form'!$B$7<>0,'Order Form'!$B$7,\"\"),\"\")","v":""},{"$f":"IF(D281<>\"\",IF('Order Form'!$B$4=\"\",\"\",'Order Form'!$B$4),\"\")","v":""},{"$f":"IF(D281<>\"\",IF('Order Form'!$B$5=\"\",\"\",'Order Form'!$B$5),\"\")","v":""},{"$f":"IF(D281<>\"\",IF('Order Form'!$B$6=\"\",\"\",'Order Form'!$B$6),\"\")","v":""}]
[{"$f":"IF(D282<>\"\",IF('Order Form'!$B$2=\"\",\"\",\"New Jersey\"),\"\")","v":""},{"$f":"IF(D282<>\"\",IF('Order Form'!$B$2=\"\",\"\",'Order Form'!$B$2),\"\")","v":""},{"$f":"IF(D282<>\"\",IF('Order Form'!$B$2=\"\",\"\",'Order Form'!$B$3),\"\")","v":""},{"$f":"IF(_xlfn.XLOOKUP(INDEX('Order Form'!$C:$C,ROW(D282)+9),lists!I:I,lists!C:C,\"\",0,1)=0,\"\",_xlfn.XLOOKUP(INDEX('Order Form'!$C:$C,ROW(D282)+9),lists!I:I,lists!C:C,\"\",0,1))","v":""},{"$f":"IF(INDEX('Order Form'!$D:$D,ROW(D282)+9)>0,INDEX('Order Form'!$D:$D,ROW(D282)+9),\"\")","v":""},{"$f":"IF(INDEX('Order Form'!$E:$E,ROW(E282)+9)>0,INDEX('Order Form'!$E:$E,ROW(E282)+9),\"\")","v":""},{"$f":"IF(D282>\"\",IF('Order Form'!$B$7<>0,'Order Form'!$B$7,\"\"),\"\")","v":""},{"$f":"IF(D282<>\"\",IF('Order Form'!$B$4=\"\",\"\",'Order Form'!$B$4),\"\")","v":""},{"$f":"IF(D282<>\"\",IF('Order Form'!$B$5=\"\",\"\",'Order Form'!$B$5),\"\")","v":""},{"$f":"IF(D282<>\"\",IF('Order Form'!$B$6=\"\",\"\",'Order Form'!$B$6),\"\")","v":""}]
[{"$f":"IF(D283<>\"\",IF('Order Form'!$B$2=\"\",\"\",\"New Jersey\"),\"\")","v":""},{"$f":"IF(D283<>\"\",IF('Order Form'!$B$2=\"\",\"\",'Order Form'!$B$2),\"\")","v":""},{"$f":"IF(D283<>\"\",IF('Order Form'!$B$2=\"\",\"\",'Order Form'!$B$3),\"\")","v":""},{"$f":"IF(_xlfn.XLOOKUP(INDEX('Order Form'!$C:$C,ROW(D283)+9),lists!I:I,lists!C:C,\"\",0,1)=0,\"\",_xlfn.XLOOKUP(INDEX('Order Form'!$C:$C,ROW(D283)+9),lists!I:I,lists!C:C,\"\",0,1))","v":""},{"$f":"IF(INDEX('Order Form'!$D:$D,ROW(D283)+9)>0,INDEX('Order Form'!$D:$D,ROW(D283)+9),\"\")","v":""},{"$f":"IF(INDEX('Order Form'!$E:$E,ROW(E283)+9)>0,INDEX('Order Form'!$E:$E,ROW(E283)+9),\"\")","v":""},{"$f":"IF(D283>\"\",IF('Order Form'!$B$7<>0,'Order Form'!$B$7,\"\"),\"\")","v":""},{"$f":"IF(D283<>\"\",IF('Order Form'!$B$4=\"\",\"\",'Order Form'!$B$4),\"\")","v":""},{"$f":"IF(D283<>\"\",IF('Order Form'!$B$5=\"\",\"\",'Order Form'!$B$5),\"\")","v":""},{"$f":"IF(D283<>\"\",IF('Order Form'!$B$6=\"\",\"\",'Order Form'!$B$6),\"\")","v":""}]
[{"$f":"IF(D284<>\"\",IF('Order Form'!$B$2=\"\",\"\",\"New Jersey\"),\"\")","v":""},{"$f":"IF(D284<>\"\",IF('Order Form'!$B$2=\"\",\"\",'Order Form'!$B$2),\"\")","v":""},{"$f":"IF(D284<>\"\",IF('Order Form'!$B$2=\"\",\"\",'Order Form'!$B$3),\"\")","v":""},{"$f":"IF(_xlfn.XLOOKUP(INDEX('Order Form'!$C:$C,ROW(D284)+9),lists!I:I,lists!C:C,\"\",0,1)=0,\"\",_xlfn.XLOOKUP(INDEX('Order Form'!$C:$C,ROW(D284)+9),lists!I:I,lists!C:C,\"\",0,1))","v":""},{"$f":"IF(INDEX('Order Form'!$D:$D,ROW(D284)+9)>0,INDEX('Order Form'!$D:$D,ROW(D284)+9),\"\")","v":""},{"$f":"IF(INDEX('Order Form'!$E:$E,ROW(E284)+9)>0,INDEX('Order Form'!$E:$E,ROW(E284)+9),\"\")","v":""},{"$f":"IF(D284>\"\",IF('Order Form'!$B$7<>0,'Order Form'!$B$7,\"\"),\"\")","v":""},{"$f":"IF(D284<>\"\",IF('Order Form'!$B$4=\"\",\"\",'Order Form'!$B$4),\"\")","v":""},{"$f":"IF(D284<>\"\",IF('Order Form'!$B$5=\"\",\"\",'Order Form'!$B$5),\"\")","v":""},{"$f":"IF(D284<>\"\",IF('Order Form'!$B$6=\"\",\"\",'Order Form'!$B$6),\"\")","v":""}]
[{"$f":"IF(D285<>\"\",IF('Order Form'!$B$2=\"\",\"\",\"New Jersey\"),\"\")","v":""},{"$f":"IF(D285<>\"\",IF('Order Form'!$B$2=\"\",\"\",'Order Form'!$B$2),\"\")","v":""},{"$f":"IF(D285<>\"\",IF('Order Form'!$B$2=\"\",\"\",'Order Form'!$B$3),\"\")","v":""},{"$f":"IF(_xlfn.XLOOKUP(INDEX('Order Form'!$C:$C,ROW(D285)+9),lists!I:I,lists!C:C,\"\",0,1)=0,\"\",_xlfn.XLOOKUP(INDEX('Order Form'!$C:$C,ROW(D285)+9),lists!I:I,lists!C:C,\"\",0,1))","v":""},{"$f":"IF(INDEX('Order Form'!$D:$D,ROW(D285)+9)>0,INDEX('Order Form'!$D:$D,ROW(D285)+9),\"\")","v":""},{"$f":"IF(INDEX('Order Form'!$E:$E,ROW(E285)+9)>0,INDEX('Order Form'!$E:$E,ROW(E285)+9),\"\")","v":""},{"$f":"IF(D285>\"\",IF('Order Form'!$B$7<>0,'Order Form'!$B$7,\"\"),\"\")","v":""},{"$f":"IF(D285<>\"\",IF('Order Form'!$B$4=\"\",\"\",'Order Form'!$B$4),\"\")","v":""},{"$f":"IF(D285<>\"\",IF('Order Form'!$B$5=\"\",\"\",'Order Form'!$B$5),\"\")","v":""},{"$f":"IF(D285<>\"\",IF('Order Form'!$B$6=\"\",\"\",'Order Form'!$B$6),\"\")","v":""}]
[{"$f":"IF(D286<>\"\",IF('Order Form'!$B$2=\"\",\"\",\"New Jersey\"),\"\")","v":""},{"$f":"IF(D286<>\"\",IF('Order Form'!$B$2=\"\",\"\",'Order Form'!$B$2),\"\")","v":""},{"$f":"IF(D286<>\"\",IF('Order Form'!$B$2=\"\",\"\",'Order Form'!$B$3),\"\")","v":""},{"$f":"IF(_xlfn.XLOOKUP(INDEX('Order Form'!$C:$C,ROW(D286)+9),lists!I:I,lists!C:C,\"\",0,1)=0,\"\",_xlfn.XLOOKUP(INDEX('Order Form'!$C:$C,ROW(D286)+9),lists!I:I,lists!C:C,\"\",0,1))","v":""},{"$f":"IF(INDEX('Order Form'!$D:$D,ROW(D286)+9)>0,INDEX('Order Form'!$D:$D,ROW(D286)+9),\"\")","v":""},{"$f":"IF(INDEX('Order Form'!$E:$E,ROW(E286)+9)>0,INDEX('Order Form'!$E:$E,ROW(E286)+9),\"\")","v":""},{"$f":"IF(D286>\"\",IF('Order Form'!$B$7<>0,'Order Form'!$B$7,\"\"),\"\")","v":""},{"$f":"IF(D286<>\"\",IF('Order Form'!$B$4=\"\",\"\",'Order Form'!$B$4),\"\")","v":""},{"$f":"IF(D286<>\"\",IF('Order Form'!$B$5=\"\",\"\",'Order Form'!$B$5),\"\")","v":""},{"$f":"IF(D286<>\"\",IF('Order Form'!$B$6=\"\",\"\",'Order Form'!$B$6),\"\")","v":""}]
[{"$f":"IF(D287<>\"\",IF('Order Form'!$B$2=\"\",\"\",\"New Jersey\"),\"\")","v":""},{"$f":"IF(D287<>\"\",IF('Order Form'!$B$2=\"\",\"\",'Order Form'!$B$2),\"\")","v":""},{"$f":"IF(D287<>\"\",IF('Order Form'!$B$2=\"\",\"\",'Order Form'!$B$3),\"\")","v":""},{"$f":"IF(_xlfn.XLOOKUP(INDEX('Order Form'!$C:$C,ROW(D287)+9),lists!I:I,lists!C:C,\"\",0,1)=0,\"\",_xlfn.XLOOKUP(INDEX('Order Form'!$C:$C,ROW(D287)+9),lists!I:I,lists!C:C,\"\",0,1))","v":""},{"$f":"IF(INDEX('Order Form'!$D:$D,ROW(D287)+9)>0,INDEX('Order Form'!$D:$D,ROW(D287)+9),\"\")","v":""},{"$f":"IF(INDEX('Order Form'!$E:$E,ROW(E287)+9)>0,INDEX('Order Form'!$E:$E,ROW(E287)+9),\"\")","v":""},{"$f":"IF(D287>\"\",IF('Order Form'!$B$7<>0,'Order Form'!$B$7,\"\"),\"\")","v":""},{"$f":"IF(D287<>\"\",IF('Order Form'!$B$4=\"\",\"\",'Order Form'!$B$4),\"\")","v":""},{"$f":"IF(D287<>\"\",IF('Order Form'!$B$5=\"\",\"\",'Order Form'!$B$5),\"\")","v":""},{"$f":"IF(D287<>\"\",IF('Order Form'!$B$6=\"\",\"\",'Order Form'!$B$6),\"\")","v":""}]
[{"$f":"IF(D288<>\"\",IF('Order Form'!$B$2=\"\",\"\",\"New Jersey\"),\"\")","v":""},{"$f":"IF(D288<>\"\",IF('Order Form'!$B$2=\"\",\"\",'Order Form'!$B$2),\"\")","v":""},{"$f":"IF(D288<>\"\",IF('Order Form'!$B$2=\"\",\"\",'Order Form'!$B$3),\"\")","v":""},{"$f":"IF(_xlfn.XLOOKUP(INDEX('Order Form'!$C:$C,ROW(D288)+9),lists!I:I,lists!C:C,\"\",0,1)=0,\"\",_xlfn.XLOOKUP(INDEX('Order Form'!$C:$C,ROW(D288)+9),lists!I:I,lists!C:C,\"\",0,1))","v":""},{"$f":"IF(INDEX('Order Form'!$D:$D,ROW(D288)+9)>0,INDEX('Order Form'!$D:$D,ROW(D288)+9),\"\")","v":""},{"$f":"IF(INDEX('Order Form'!$E:$E,ROW(E288)+9)>0,INDEX('Order Form'!$E:$E,ROW(E288)+9),\"\")","v":""},{"$f":"IF(D288>\"\",IF('Order Form'!$B$7<>0,'Order Form'!$B$7,\"\"),\"\")","v":""},{"$f":"IF(D288<>\"\",IF('Order Form'!$B$4=\"\",\"\",'Order Form'!$B$4),\"\")","v":""},{"$f":"IF(D288<>\"\",IF('Order Form'!$B$5=\"\",\"\",'Order Form'!$B$5),\"\")","v":""},{"$f":"IF(D288<>\"\",IF('Order Form'!$B$6=\"\",\"\",'Order Form'!$B$6),\"\")","v":""}]
[{"$f":"IF(D289<>\"\",IF('Order Form'!$B$2=\"\",\"\",\"New Jersey\"),\"\")","v":""},{"$f":"IF(D289<>\"\",IF('Order Form'!$B$2=\"\",\"\",'Order Form'!$B$2),\"\")","v":""},{"$f":"IF(D289<>\"\",IF('Order Form'!$B$2=\"\",\"\",'Order Form'!$B$3),\"\")","v":""},{"$f":"IF(_xlfn.XLOOKUP(INDEX('Order Form'!$C:$C,ROW(D289)+9),lists!I:I,lists!C:C,\"\",0,1)=0,\"\",_xlfn.XLOOKUP(INDEX('Order Form'!$C:$C,ROW(D289)+9),lists!I:I,lists!C:C,\"\",0,1))","v":""},{"$f":"IF(INDEX('Order Form'!$D:$D,ROW(D289)+9)>0,INDEX('Order Form'!$D:$D,ROW(D289)+9),\"\")","v":""},{"$f":"IF(INDEX('Order Form'!$E:$E,ROW(E289)+9)>0,INDEX('Order Form'!$E:$E,ROW(E289)+9),\"\")","v":""},{"$f":"IF(D289>\"\",IF('Order Form'!$B$7<>0,'Order Form'!$B$7,\"\"),\"\")","v":""},{"$f":"IF(D289<>\"\",IF('Order Form'!$B$4=\"\",\"\",'Order Form'!$B$4),\"\")","v":""},{"$f":"IF(D289<>\"\",IF('Order Form'!$B$5=\"\",\"\",'Order Form'!$B$5),\"\")","v":""},{"$f":"IF(D289<>\"\",IF('Order Form'!$B$6=\"\",\"\",'Order Form'!$B$6),\"\")","v":""}]
[{"$f":"IF(D290<>\"\",IF('Order Form'!$B$2=\"\",\"\",\"New Jersey\"),\"\")","v":""},{"$f":"IF(D290<>\"\",IF('Order Form'!$B$2=\"\",\"\",'Order Form'!$B$2),\"\")","v":""},{"$f":"IF(D290<>\"\",IF('Order Form'!$B$2=\"\",\"\",'Order Form'!$B$3),\"\")","v":""},{"$f":"IF(_xlfn.XLOOKUP(INDEX('Order Form'!$C:$C,ROW(D290)+9),lists!I:I,lists!C:C,\"\",0,1)=0,\"\",_xlfn.XLOOKUP(INDEX('Order Form'!$C:$C,ROW(D290)+9),lists!I:I,lists!C:C,\"\",0,1))","v":""},{"$f":"IF(INDEX('Order Form'!$D:$D,ROW(D290)+9)>0,INDEX('Order Form'!$D:$D,ROW(D290)+9),\"\")","v":""},{"$f":"IF(INDEX('Order Form'!$E:$E,ROW(E290)+9)>0,INDEX('Order Form'!$E:$E,ROW(E290)+9),\"\")","v":""},{"$f":"IF(D290>\"\",IF('Order Form'!$B$7<>0,'Order Form'!$B$7,\"\"),\"\")","v":""},{"$f":"IF(D290<>\"\",IF('Order Form'!$B$4=\"\",\"\",'Order Form'!$B$4),\"\")","v":""},{"$f":"IF(D290<>\"\",IF('Order Form'!$B$5=\"\",\"\",'Order Form'!$B$5),\"\")","v":""},{"$f":"IF(D290<>\"\",IF('Order Form'!$B$6=\"\",\"\",'Order Form'!$B$6),\"\")","v":""}]
[{"$f":"IF(D291<>\"\",IF('Order Form'!$B$2=\"\",\"\",\"New Jersey\"),\"\")","v":""},{"$f":"IF(D291<>\"\",IF('Order Form'!$B$2=\"\",\"\",'Order Form'!$B$2),\"\")","v":""},{"$f":"IF(D291<>\"\",IF('Order Form'!$B$2=\"\",\"\",'Order Form'!$B$3),\"\")","v":""},{"$f":"IF(_xlfn.XLOOKUP(INDEX('Order Form'!$C:$C,ROW(D291)+9),lists!I:I,lists!C:C,\"\",0,1)=0,\"\",_xlfn.XLOOKUP(INDEX('Order Form'!$C:$C,ROW(D291)+9),lists!I:I,lists!C:C,\"\",0,1))","v":""},{"$f":"IF(INDEX('Order Form'!$D:$D,ROW(D291)+9)>0,INDEX('Order Form'!$D:$D,ROW(D291)+9),\"\")","v":""},{"$f":"IF(INDEX('Order Form'!$E:$E,ROW(E291)+9)>0,INDEX('Order Form'!$E:$E,ROW(E291)+9),\"\")","v":""},{"$f":"IF(D291>\"\",IF('Order Form'!$B$7<>0,'Order Form'!$B$7,\"\"),\"\")","v":""},{"$f":"IF(D291<>\"\",IF('Order Form'!$B$4=\"\",\"\",'Order Form'!$B$4),\"\")","v":""},{"$f":"IF(D291<>\"\",IF('Order Form'!$B$5=\"\",\"\",'Order Form'!$B$5),\"\")","v":""},{"$f":"IF(D291<>\"\",IF('Order Form'!$B$6=\"\",\"\",'Order Form'!$B$6),\"\")","v":""}]
[{"$f":"IF(D292<>\"\",IF('Order Form'!$B$2=\"\",\"\",\"New Jersey\"),\"\")","v":""},{"$f":"IF(D292<>\"\",IF('Order Form'!$B$2=\"\",\"\",'Order Form'!$B$2),\"\")","v":""},{"$f":"IF(D292<>\"\",IF('Order Form'!$B$2=\"\",\"\",'Order Form'!$B$3),\"\")","v":""},{"$f":"IF(_xlfn.XLOOKUP(INDEX('Order Form'!$C:$C,ROW(D292)+9),lists!I:I,lists!C:C,\"\",0,1)=0,\"\",_xlfn.XLOOKUP(INDEX('Order Form'!$C:$C,ROW(D292)+9),lists!I:I,lists!C:C,\"\",0,1))","v":""},{"$f":"IF(INDEX('Order Form'!$D:$D,ROW(D292)+9)>0,INDEX('Order Form'!$D:$D,ROW(D292)+9),\"\")","v":""},{"$f":"IF(INDEX('Order Form'!$E:$E,ROW(E292)+9)>0,INDEX('Order Form'!$E:$E,ROW(E292)+9),\"\")","v":""},{"$f":"IF(D292>\"\",IF('Order Form'!$B$7<>0,'Order Form'!$B$7,\"\"),\"\")","v":""},{"$f":"IF(D292<>\"\",IF('Order Form'!$B$4=\"\",\"\",'Order Form'!$B$4),\"\")","v":""},{"$f":"IF(D292<>\"\",IF('Order Form'!$B$5=\"\",\"\",'Order Form'!$B$5),\"\")","v":""},{"$f":"IF(D292<>\"\",IF('Order Form'!$B$6=\"\",\"\",'Order Form'!$B$6),\"\")","v":""}]
[{"$f":"IF(D293<>\"\",IF('Order Form'!$B$2=\"\",\"\",\"New Jersey\"),\"\")","v":""},{"$f":"IF(D293<>\"\",IF('Order Form'!$B$2=\"\",\"\",'Order Form'!$B$2),\"\")","v":""},{"$f":"IF(D293<>\"\",IF('Order Form'!$B$2=\"\",\"\",'Order Form'!$B$3),\"\")","v":""},{"$f":"IF(_xlfn.XLOOKUP(INDEX('Order Form'!$C:$C,ROW(D293)+9),lists!I:I,lists!C:C,\"\",0,1)=0,\"\",_xlfn.XLOOKUP(INDEX('Order Form'!$C:$C,ROW(D293)+9),lists!I:I,lists!C:C,\"\",0,1))","v":""},{"$f":"IF(INDEX('Order Form'!$D:$D,ROW(D293)+9)>0,INDEX('Order Form'!$D:$D,ROW(D293)+9),\"\")","v":""},{"$f":"IF(INDEX('Order Form'!$E:$E,ROW(E293)+9)>0,INDEX('Order Form'!$E:$E,ROW(E293)+9),\"\")","v":""},{"$f":"IF(D293>\"\",IF('Order Form'!$B$7<>0,'Order Form'!$B$7,\"\"),\"\")","v":""},{"$f":"IF(D293<>\"\",IF('Order Form'!$B$4=\"\",\"\",'Order Form'!$B$4),\"\")","v":""},{"$f":"IF(D293<>\"\",IF('Order Form'!$B$5=\"\",\"\",'Order Form'!$B$5),\"\")","v":""},{"$f":"IF(D293<>\"\",IF('Order Form'!$B$6=\"\",\"\",'Order Form'!$B$6),\"\")","v":""}]
[{"$f":"IF(D294<>\"\",IF('Order Form'!$B$2=\"\",\"\",\"New Jersey\"),\"\")","v":""},{"$f":"IF(D294<>\"\",IF('Order Form'!$B$2=\"\",\"\",'Order Form'!$B$2),\"\")","v":""},{"$f":"IF(D294<>\"\",IF('Order Form'!$B$2=\"\",\"\",'Order Form'!$B$3),\"\")","v":""},{"$f":"IF(_xlfn.XLOOKUP(INDEX('Order Form'!$C:$C,ROW(D294)+9),lists!I:I,lists!C:C,\"\",0,1)=0,\"\",_xlfn.XLOOKUP(INDEX('Order Form'!$C:$C,ROW(D294)+9),lists!I:I,lists!C:C,\"\",0,1))","v":""},{"$f":"IF(INDEX('Order Form'!$D:$D,ROW(D294)+9)>0,INDEX('Order Form'!$D:$D,ROW(D294)+9),\"\")","v":""},{"$f":"IF(INDEX('Order Form'!$E:$E,ROW(E294)+9)>0,INDEX('Order Form'!$E:$E,ROW(E294)+9),\"\")","v":""},{"$f":"IF(D294>\"\",IF('Order Form'!$B$7<>0,'Order Form'!$B$7,\"\"),\"\")","v":""},{"$f":"IF(D294<>\"\",IF('Order Form'!$B$4=\"\",\"\",'Order Form'!$B$4),\"\")","v":""},{"$f":"IF(D294<>\"\",IF('Order Form'!$B$5=\"\",\"\",'Order Form'!$B$5),\"\")","v":""},{"$f":"IF(D294<>\"\",IF('Order Form'!$B$6=\"\",\"\",'Order Form'!$B$6),\"\")","v":""}]
[{"$f":"IF(D295<>\"\",IF('Order Form'!$B$2=\"\",\"\",\"New Jersey\"),\"\")","v":""},{"$f":"IF(D295<>\"\",IF('Order Form'!$B$2=\"\",\"\",'Order Form'!$B$2),\"\")","v":""},{"$f":"IF(D295<>\"\",IF('Order Form'!$B$2=\"\",\"\",'Order Form'!$B$3),\"\")","v":""},{"$f":"IF(_xlfn.XLOOKUP(INDEX('Order Form'!$C:$C,ROW(D295)+9),lists!I:I,lists!C:C,\"\",0,1)=0,\"\",_xlfn.XLOOKUP(INDEX('Order Form'!$C:$C,ROW(D295)+9),lists!I:I,lists!C:C,\"\",0,1))","v":""},{"$f":"IF(INDEX('Order Form'!$D:$D,ROW(D295)+9)>0,INDEX('Order Form'!$D:$D,ROW(D295)+9),\"\")","v":""},{"$f":"IF(INDEX('Order Form'!$E:$E,ROW(E295)+9)>0,INDEX('Order Form'!$E:$E,ROW(E295)+9),\"\")","v":""},{"$f":"IF(D295>\"\",IF('Order Form'!$B$7<>0,'Order Form'!$B$7,\"\"),\"\")","v":""},{"$f":"IF(D295<>\"\",IF('Order Form'!$B$4=\"\",\"\",'Order Form'!$B$4),\"\")","v":""},{"$f":"IF(D295<>\"\",IF('Order Form'!$B$5=\"\",\"\",'Order Form'!$B$5),\"\")","v":""},{"$f":"IF(D295<>\"\",IF('Order Form'!$B$6=\"\",\"\",'Order Form'!$B$6),\"\")","v":""}]
[{"$f":"IF(D296<>\"\",IF('Order Form'!$B$2=\"\",\"\",\"New Jersey\"),\"\")","v":""},{"$f":"IF(D296<>\"\",IF('Order Form'!$B$2=\"\",\"\",'Order Form'!$B$2),\"\")","v":""},{"$f":"IF(D296<>\"\",IF('Order Form'!$B$2=\"\",\"\",'Order Form'!$B$3),\"\")","v":""},{"$f":"IF(_xlfn.XLOOKUP(INDEX('Order Form'!$C:$C,ROW(D296)+9),lists!I:I,lists!C:C,\"\",0,1)=0,\"\",_xlfn.XLOOKUP(INDEX('Order Form'!$C:$C,ROW(D296)+9),lists!I:I,lists!C:C,\"\",0,1))","v":""},{"$f":"IF(INDEX('Order Form'!$D:$D,ROW(D296)+9)>0,INDEX('Order Form'!$D:$D,ROW(D296)+9),\"\")","v":""},{"$f":"IF(INDEX('Order Form'!$E:$E,ROW(E296)+9)>0,INDEX('Order Form'!$E:$E,ROW(E296)+9),\"\")","v":""},{"$f":"IF(D296>\"\",IF('Order Form'!$B$7<>0,'Order Form'!$B$7,\"\"),\"\")","v":""},{"$f":"IF(D296<>\"\",IF('Order Form'!$B$4=\"\",\"\",'Order Form'!$B$4),\"\")","v":""},{"$f":"IF(D296<>\"\",IF('Order Form'!$B$5=\"\",\"\",'Order Form'!$B$5),\"\")","v":""},{"$f":"IF(D296<>\"\",IF('Order Form'!$B$6=\"\",\"\",'Order Form'!$B$6),\"\")","v":""}]
[{"$f":"IF(D297<>\"\",IF('Order Form'!$B$2=\"\",\"\",\"New Jersey\"),\"\")","v":""},{"$f":"IF(D297<>\"\",IF('Order Form'!$B$2=\"\",\"\",'Order Form'!$B$2),\"\")","v":""},{"$f":"IF(D297<>\"\",IF('Order Form'!$B$2=\"\",\"\",'Order Form'!$B$3),\"\")","v":""},{"$f":"IF(_xlfn.XLOOKUP(INDEX('Order Form'!$C:$C,ROW(D297)+9),lists!I:I,lists!C:C,\"\",0,1)=0,\"\",_xlfn.XLOOKUP(INDEX('Order Form'!$C:$C,ROW(D297)+9),lists!I:I,lists!C:C,\"\",0,1))","v":""},{"$f":"IF(INDEX('Order Form'!$D:$D,ROW(D297)+9)>0,INDEX('Order Form'!$D:$D,ROW(D297)+9),\"\")","v":""},{"$f":"IF(INDEX('Order Form'!$E:$E,ROW(E297)+9)>0,INDEX('Order Form'!$E:$E,ROW(E297)+9),\"\")","v":""},{"$f":"IF(D297>\"\",IF('Order Form'!$B$7<>0,'Order Form'!$B$7,\"\"),\"\")","v":""},{"$f":"IF(D297<>\"\",IF('Order Form'!$B$4=\"\",\"\",'Order Form'!$B$4),\"\")","v":""},{"$f":"IF(D297<>\"\",IF('Order Form'!$B$5=\"\",\"\",'Order Form'!$B$5),\"\")","v":""},{"$f":"IF(D297<>\"\",IF('Order Form'!$B$6=\"\",\"\",'Order Form'!$B$6),\"\")","v":""}]
[{"$f":"IF(D298<>\"\",IF('Order Form'!$B$2=\"\",\"\",\"New Jersey\"),\"\")","v":""},{"$f":"IF(D298<>\"\",IF('Order Form'!$B$2=\"\",\"\",'Order Form'!$B$2),\"\")","v":""},{"$f":"IF(D298<>\"\",IF('Order Form'!$B$2=\"\",\"\",'Order Form'!$B$3),\"\")","v":""},{"$f":"IF(_xlfn.XLOOKUP(INDEX('Order Form'!$C:$C,ROW(D298)+9),lists!I:I,lists!C:C,\"\",0,1)=0,\"\",_xlfn.XLOOKUP(INDEX('Order Form'!$C:$C,ROW(D298)+9),lists!I:I,lists!C:C,\"\",0,1))","v":""},{"$f":"IF(INDEX('Order Form'!$D:$D,ROW(D298)+9)>0,INDEX('Order Form'!$D:$D,ROW(D298)+9),\"\")","v":""},{"$f":"IF(INDEX('Order Form'!$E:$E,ROW(E298)+9)>0,INDEX('Order Form'!$E:$E,ROW(E298)+9),\"\")","v":""},{"$f":"IF(D298>\"\",IF('Order Form'!$B$7<>0,'Order Form'!$B$7,\"\"),\"\")","v":""},{"$f":"IF(D298<>\"\",IF('Order Form'!$B$4=\"\",\"\",'Order Form'!$B$4),\"\")","v":""},{"$f":"IF(D298<>\"\",IF('Order Form'!$B$5=\"\",\"\",'Order Form'!$B$5),\"\")","v":""},{"$f":"IF(D298<>\"\",IF('Order Form'!$B$6=\"\",\"\",'Order Form'!$B$6),\"\")","v":""}]
[{"$f":"IF(D299<>\"\",IF('Order Form'!$B$2=\"\",\"\",\"New Jersey\"),\"\")","v":""},{"$f":"IF(D299<>\"\",IF('Order Form'!$B$2=\"\",\"\",'Order Form'!$B$2),\"\")","v":""},{"$f":"IF(D299<>\"\",IF('Order Form'!$B$2=\"\",\"\",'Order Form'!$B$3),\"\")","v":""},{"$f":"IF(_xlfn.XLOOKUP(INDEX('Order Form'!$C:$C,ROW(D299)+9),lists!I:I,lists!C:C,\"\",0,1)=0,\"\",_xlfn.XLOOKUP(INDEX('Order Form'!$C:$C,ROW(D299)+9),lists!I:I,lists!C:C,\"\",0,1))","v":""},{"$f":"IF(INDEX('Order Form'!$D:$D,ROW(D299)+9)>0,INDEX('Order Form'!$D:$D,ROW(D299)+9),\"\")","v":""},{"$f":"IF(INDEX('Order Form'!$E:$E,ROW(E299)+9)>0,INDEX('Order Form'!$E:$E,ROW(E299)+9),\"\")","v":""},{"$f":"IF(D299>\"\",IF('Order Form'!$B$7<>0,'Order Form'!$B$7,\"\"),\"\")","v":""},{"$f":"IF(D299<>\"\",IF('Order Form'!$B$4=\"\",\"\",'Order Form'!$B$4),\"\")","v":""},{"$f":"IF(D299<>\"\",IF('Order Form'!$B$5=\"\",\"\",'Order Form'!$B$5),\"\")","v":""},{"$f":"IF(D299<>\"\",IF('Order Form'!$B$6=\"\",\"\",'Order Form'!$B$6),\"\")","v":""}]
[{"$f":"IF(D300<>\"\",IF('Order Form'!$B$2=\"\",\"\",\"New Jersey\"),\"\")","v":""},{"$f":"IF(D300<>\"\",IF('Order Form'!$B$2=\"\",\"\",'Order Form'!$B$2),\"\")","v":""},{"$f":"IF(D300<>\"\",IF('Order Form'!$B$2=\"\",\"\",'Order Form'!$B$3),\"\")","v":""},{"$f":"IF(_xlfn.XLOOKUP(INDEX('Order Form'!$C:$C,ROW(D300)+9),lists!I:I,lists!C:C,\"\",0,1)=0,\"\",_xlfn.XLOOKUP(INDEX('Order Form'!$C:$C,ROW(D300)+9),lists!I:I,lists!C:C,\"\",0,1))","v":""},{"$f":"IF(INDEX('Order Form'!$D:$D,ROW(D300)+9)>0,INDEX('Order Form'!$D:$D,ROW(D300)+9),\"\")","v":""},{"$f":"IF(INDEX('Order Form'!$E:$E,ROW(E300)+9)>0,INDEX('Order Form'!$E:$E,ROW(E300)+9),\"\")","v":""},{"$f":"IF(D300>\"\",IF('Order Form'!$B$7<>0,'Order Form'!$B$7,\"\"),\"\")","v":""},{"$f":"IF(D300<>\"\",IF('Order Form'!$B$4=\"\",\"\",'Order Form'!$B$4),\"\")","v":""},{"$f":"IF(D300<>\"\",IF('Order Form'!$B$5=\"\",\"\",'Order Form'!$B$5),\"\")","v":""},{"$f":"IF(D300<>\"\",IF('Order Form'!$B$6=\"\",\"\",'Order Form'!$B$6),\"\")","v":""}]
[{"$f":"IF(D301<>\"\",IF('Order Form'!$B$2=\"\",\"\",\"New Jersey\"),\"\")","v":""},{"$f":"IF(D301<>\"\",IF('Order Form'!$B$2=\"\",\"\",'Order Form'!$B$2),\"\")","v":""},{"$f":"IF(D301<>\"\",IF('Order Form'!$B$2=\"\",\"\",'Order Form'!$B$3),\"\")","v":""},{"$f":"IF(_xlfn.XLOOKUP(INDEX('Order Form'!$C:$C,ROW(D301)+9),lists!I:I,lists!C:C,\"\",0,1)=0,\"\",_xlfn.XLOOKUP(INDEX('Order Form'!$C:$C,ROW(D301)+9),lists!I:I,lists!C:C,\"\",0,1))","v":""},{"$f":"IF(INDEX('Order Form'!$D:$D,ROW(D301)+9)>0,INDEX('Order Form'!$D:$D,ROW(D301)+9),\"\")","v":""},{"$f":"IF(INDEX('Order Form'!$E:$E,ROW(E301)+9)>0,INDEX('Order Form'!$E:$E,ROW(E301)+9),\"\")","v":""},{"$f":"IF(D301>\"\",IF('Order Form'!$B$7<>0,'Order Form'!$B$7,\"\"),\"\")","v":""},{"$f":"IF(D301<>\"\",IF('Order Form'!$B$4=\"\",\"\",'Order Form'!$B$4),\"\")","v":""},{"$f":"IF(D301<>\"\",IF('Order Form'!$B$5=\"\",\"\",'Order Form'!$B$5),\"\")","v":""},{"$f":"IF(D301<>\"\",IF('Order Form'!$B$6=\"\",\"\",'Order Form'!$B$6),\"\")","v":""}]
[{"$f":"IF(D302<>\"\",IF('Order Form'!$B$2=\"\",\"\",\"New Jersey\"),\"\")","v":""},{"$f":"IF(D302<>\"\",IF('Order Form'!$B$2=\"\",\"\",'Order Form'!$B$2),\"\")","v":""},{"$f":"IF(D302<>\"\",IF('Order Form'!$B$2=\"\",\"\",'Order Form'!$B$3),\"\")","v":""},{"$f":"IF(_xlfn.XLOOKUP(INDEX('Order Form'!$C:$C,ROW(D302)+9),lists!I:I,lists!C:C,\"\",0,1)=0,\"\",_xlfn.XLOOKUP(INDEX('Order Form'!$C:$C,ROW(D302)+9),lists!I:I,lists!C:C,\"\",0,1))","v":""},{"$f":"IF(INDEX('Order Form'!$D:$D,ROW(D302)+9)>0,INDEX('Order Form'!$D:$D,ROW(D302)+9),\"\")","v":""},{"$f":"IF(INDEX('Order Form'!$E:$E,ROW(E302)+9)>0,INDEX('Order Form'!$E:$E,ROW(E302)+9),\"\")","v":""},{"$f":"IF(D302>\"\",IF('Order Form'!$B$7<>0,'Order Form'!$B$7,\"\"),\"\")","v":""},{"$f":"IF(D302<>\"\",IF('Order Form'!$B$4=\"\",\"\",'Order Form'!$B$4),\"\")","v":""},{"$f":"IF(D302<>\"\",IF('Order Form'!$B$5=\"\",\"\",'Order Form'!$B$5),\"\")","v":""},{"$f":"IF(D302<>\"\",IF('Order Form'!$B$6=\"\",\"\",'Order Form'!$B$6),\"\")","v":""}]
[{"$f":"IF(D303<>\"\",IF('Order Form'!$B$2=\"\",\"\",\"New Jersey\"),\"\")","v":""},{"$f":"IF(D303<>\"\",IF('Order Form'!$B$2=\"\",\"\",'Order Form'!$B$2),\"\")","v":""},{"$f":"IF(D303<>\"\",IF('Order Form'!$B$2=\"\",\"\",'Order Form'!$B$3),\"\")","v":""},{"$f":"IF(_xlfn.XLOOKUP(INDEX('Order Form'!$C:$C,ROW(D303)+9),lists!I:I,lists!C:C,\"\",0,1)=0,\"\",_xlfn.XLOOKUP(INDEX('Order Form'!$C:$C,ROW(D303)+9),lists!I:I,lists!C:C,\"\",0,1))","v":""},{"$f":"IF(INDEX('Order Form'!$D:$D,ROW(D303)+9)>0,INDEX('Order Form'!$D:$D,ROW(D303)+9),\"\")","v":""},{"$f":"IF(INDEX('Order Form'!$E:$E,ROW(E303)+9)>0,INDEX('Order Form'!$E:$E,ROW(E303)+9),\"\")","v":""},{"$f":"IF(D303>\"\",IF('Order Form'!$B$7<>0,'Order Form'!$B$7,\"\"),\"\")","v":""},{"$f":"IF(D303<>\"\",IF('Order Form'!$B$4=\"\",\"\",'Order Form'!$B$4),\"\")","v":""},{"$f":"IF(D303<>\"\",IF('Order Form'!$B$5=\"\",\"\",'Order Form'!$B$5),\"\")","v":""},{"$f":"IF(D303<>\"\",IF('Order Form'!$B$6=\"\",\"\",'Order Form'!$B$6),\"\")","v":""}]
[{"$f":"IF(D304<>\"\",IF('Order Form'!$B$2=\"\",\"\",\"New Jersey\"),\"\")","v":""},{"$f":"IF(D304<>\"\",IF('Order Form'!$B$2=\"\",\"\",'Order Form'!$B$2),\"\")","v":""},{"$f":"IF(D304<>\"\",IF('Order Form'!$B$2=\"\",\"\",'Order Form'!$B$3),\"\")","v":""},{"$f":"IF(_xlfn.XLOOKUP(INDEX('Order Form'!$C:$C,ROW(D304)+9),lists!I:I,lists!C:C,\"\",0,1)=0,\"\",_xlfn.XLOOKUP(INDEX('Order Form'!$C:$C,ROW(D304)+9),lists!I:I,lists!C:C,\"\",0,1))","v":""},{"$f":"IF(INDEX('Order Form'!$D:$D,ROW(D304)+9)>0,INDEX('Order Form'!$D:$D,ROW(D304)+9),\"\")","v":""},{"$f":"IF(INDEX('Order Form'!$E:$E,ROW(E304)+9)>0,INDEX('Order Form'!$E:$E,ROW(E304)+9),\"\")","v":""},{"$f":"IF(D304>\"\",IF('Order Form'!$B$7<>0,'Order Form'!$B$7,\"\"),\"\")","v":""},{"$f":"IF(D304<>\"\",IF('Order Form'!$B$4=\"\",\"\",'Order Form'!$B$4),\"\")","v":""},{"$f":"IF(D304<>\"\",IF('Order Form'!$B$5=\"\",\"\",'Order Form'!$B$5),\"\")","v":""},{"$f":"IF(D304<>\"\",IF('Order Form'!$B$6=\"\",\"\",'Order Form'!$B$6),\"\")","v":""}]
[{"$f":"IF(D305<>\"\",IF('Order Form'!$B$2=\"\",\"\",\"New Jersey\"),\"\")","v":""},{"$f":"IF(D305<>\"\",IF('Order Form'!$B$2=\"\",\"\",'Order Form'!$B$2),\"\")","v":""},{"$f":"IF(D305<>\"\",IF('Order Form'!$B$2=\"\",\"\",'Order Form'!$B$3),\"\")","v":""},{"$f":"IF(_xlfn.XLOOKUP(INDEX('Order Form'!$C:$C,ROW(D305)+9),lists!I:I,lists!C:C,\"\",0,1)=0,\"\",_xlfn.XLOOKUP(INDEX('Order Form'!$C:$C,ROW(D305)+9),lists!I:I,lists!C:C,\"\",0,1))","v":""},{"$f":"IF(INDEX('Order Form'!$D:$D,ROW(D305)+9)>0,INDEX('Order Form'!$D:$D,ROW(D305)+9),\"\")","v":""},{"$f":"IF(INDEX('Order Form'!$E:$E,ROW(E305)+9)>0,INDEX('Order Form'!$E:$E,ROW(E305)+9),\"\")","v":""},{"$f":"IF(D305>\"\",IF('Order Form'!$B$7<>0,'Order Form'!$B$7,\"\"),\"\")","v":""},{"$f":"IF(D305<>\"\",IF('Order Form'!$B$4=\"\",\"\",'Order Form'!$B$4),\"\")","v":""},{"$f":"IF(D305<>\"\",IF('Order Form'!$B$5=\"\",\"\",'Order Form'!$B$5),\"\")","v":""},{"$f":"IF(D305<>\"\",IF('Order Form'!$B$6=\"\",\"\",'Order Form'!$B$6),\"\")","v":""}]
[{"$f":"IF(D306<>\"\",IF('Order Form'!$B$2=\"\",\"\",\"New Jersey\"),\"\")","v":""},{"$f":"IF(D306<>\"\",IF('Order Form'!$B$2=\"\",\"\",'Order Form'!$B$2),\"\")","v":""},{"$f":"IF(D306<>\"\",IF('Order Form'!$B$2=\"\",\"\",'Order Form'!$B$3),\"\")","v":""},{"$f":"IF(_xlfn.XLOOKUP(INDEX('Order Form'!$C:$C,ROW(D306)+9),lists!I:I,lists!C:C,\"\",0,1)=0,\"\",_xlfn.XLOOKUP(INDEX('Order Form'!$C:$C,ROW(D306)+9),lists!I:I,lists!C:C,\"\",0,1))","v":""},{"$f":"IF(INDEX('Order Form'!$D:$D,ROW(D306)+9)>0,INDEX('Order Form'!$D:$D,ROW(D306)+9),\"\")","v":""},{"$f":"IF(INDEX('Order Form'!$E:$E,ROW(E306)+9)>0,INDEX('Order Form'!$E:$E,ROW(E306)+9),\"\")","v":""},{"$f":"IF(D306>\"\",IF('Order Form'!$B$7<>0,'Order Form'!$B$7,\"\"),\"\")","v":""},{"$f":"IF(D306<>\"\",IF('Order Form'!$B$4=\"\",\"\",'Order Form'!$B$4),\"\")","v":""},{"$f":"IF(D306<>\"\",IF('Order Form'!$B$5=\"\",\"\",'Order Form'!$B$5),\"\")","v":""},{"$f":"IF(D306<>\"\",IF('Order Form'!$B$6=\"\",\"\",'Order Form'!$B$6),\"\")","v":""}]
[{"$f":"IF(D307<>\"\",IF('Order Form'!$B$2=\"\",\"\",\"New Jersey\"),\"\")","v":""},{"$f":"IF(D307<>\"\",IF('Order Form'!$B$2=\"\",\"\",'Order Form'!$B$2),\"\")","v":""},{"$f":"IF(D307<>\"\",IF('Order Form'!$B$2=\"\",\"\",'Order Form'!$B$3),\"\")","v":""},{"$f":"IF(_xlfn.XLOOKUP(INDEX('Order Form'!$C:$C,ROW(D307)+9),lists!I:I,lists!C:C,\"\",0,1)=0,\"\",_xlfn.XLOOKUP(INDEX('Order Form'!$C:$C,ROW(D307)+9),lists!I:I,lists!C:C,\"\",0,1))","v":""},{"$f":"IF(INDEX('Order Form'!$D:$D,ROW(D307)+9)>0,INDEX('Order Form'!$D:$D,ROW(D307)+9),\"\")","v":""},{"$f":"IF(INDEX('Order Form'!$E:$E,ROW(E307)+9)>0,INDEX('Order Form'!$E:$E,ROW(E307)+9),\"\")","v":""},{"$f":"IF(D307>\"\",IF('Order Form'!$B$7<>0,'Order Form'!$B$7,\"\"),\"\")","v":""},{"$f":"IF(D307<>\"\",IF('Order Form'!$B$4=\"\",\"\",'Order Form'!$B$4),\"\")","v":""},{"$f":"IF(D307<>\"\",IF('Order Form'!$B$5=\"\",\"\",'Order Form'!$B$5),\"\")","v":""},{"$f":"IF(D307<>\"\",IF('Order Form'!$B$6=\"\",\"\",'Order Form'!$B$6),\"\")","v":""}]
[{"$f":"IF(D308<>\"\",IF('Order Form'!$B$2=\"\",\"\",\"New Jersey\"),\"\")","v":""},{"$f":"IF(D308<>\"\",IF('Order Form'!$B$2=\"\",\"\",'Order Form'!$B$2),\"\")","v":""},{"$f":"IF(D308<>\"\",IF('Order Form'!$B$2=\"\",\"\",'Order Form'!$B$3),\"\")","v":""},{"$f":"IF(_xlfn.XLOOKUP(INDEX('Order Form'!$C:$C,ROW(D308)+9),lists!I:I,lists!C:C,\"\",0,1)=0,\"\",_xlfn.XLOOKUP(INDEX('Order Form'!$C:$C,ROW(D308)+9),lists!I:I,lists!C:C,\"\",0,1))","v":""},{"$f":"IF(INDEX('Order Form'!$D:$D,ROW(D308)+9)>0,INDEX('Order Form'!$D:$D,ROW(D308)+9),\"\")","v":""},{"$f":"IF(INDEX('Order Form'!$E:$E,ROW(E308)+9)>0,INDEX('Order Form'!$E:$E,ROW(E308)+9),\"\")","v":""},{"$f":"IF(D308>\"\",IF('Order Form'!$B$7<>0,'Order Form'!$B$7,\"\"),\"\")","v":""},{"$f":"IF(D308<>\"\",IF('Order Form'!$B$4=\"\",\"\",'Order Form'!$B$4),\"\")","v":""},{"$f":"IF(D308<>\"\",IF('Order Form'!$B$5=\"\",\"\",'Order Form'!$B$5),\"\")","v":""},{"$f":"IF(D308<>\"\",IF('Order Form'!$B$6=\"\",\"\",'Order Form'!$B$6),\"\")","v":""}]
[{"$f":"IF(D309<>\"\",IF('Order Form'!$B$2=\"\",\"\",\"New Jersey\"),\"\")","v":""},{"$f":"IF(D309<>\"\",IF('Order Form'!$B$2=\"\",\"\",'Order Form'!$B$2),\"\")","v":""},{"$f":"IF(D309<>\"\",IF('Order Form'!$B$2=\"\",\"\",'Order Form'!$B$3),\"\")","v":""},{"$f":"IF(_xlfn.XLOOKUP(INDEX('Order Form'!$C:$C,ROW(D309)+9),lists!I:I,lists!C:C,\"\",0,1)=0,\"\",_xlfn.XLOOKUP(INDEX('Order Form'!$C:$C,ROW(D309)+9),lists!I:I,lists!C:C,\"\",0,1))","v":""},{"$f":"IF(INDEX('Order Form'!$D:$D,ROW(D309)+9)>0,INDEX('Order Form'!$D:$D,ROW(D309)+9),\"\")","v":""},{"$f":"IF(INDEX('Order Form'!$E:$E,ROW(E309)+9)>0,INDEX('Order Form'!$E:$E,ROW(E309)+9),\"\")","v":""},{"$f":"IF(D309>\"\",IF('Order Form'!$B$7<>0,'Order Form'!$B$7,\"\"),\"\")","v":""},{"$f":"IF(D309<>\"\",IF('Order Form'!$B$4=\"\",\"\",'Order Form'!$B$4),\"\")","v":""},{"$f":"IF(D309<>\"\",IF('Order Form'!$B$5=\"\",\"\",'Order Form'!$B$5),\"\")","v":""},{"$f":"IF(D309<>\"\",IF('Order Form'!$B$6=\"\",\"\",'Order Form'!$B$6),\"\")","v":""}]
[{"$f":"IF(D310<>\"\",IF('Order Form'!$B$2=\"\",\"\",\"New Jersey\"),\"\")","v":""},{"$f":"IF(D310<>\"\",IF('Order Form'!$B$2=\"\",\"\",'Order Form'!$B$2),\"\")","v":""},{"$f":"IF(D310<>\"\",IF('Order Form'!$B$2=\"\",\"\",'Order Form'!$B$3),\"\")","v":""},{"$f":"IF(_xlfn.XLOOKUP(INDEX('Order Form'!$C:$C,ROW(D310)+9),lists!I:I,lists!C:C,\"\",0,1)=0,\"\",_xlfn.XLOOKUP(INDEX('Order Form'!$C:$C,ROW(D310)+9),lists!I:I,lists!C:C,\"\",0,1))","v":""},{"$f":"IF(INDEX('Order Form'!$D:$D,ROW(D310)+9)>0,INDEX('Order Form'!$D:$D,ROW(D310)+9),\"\")","v":""},{"$f":"IF(INDEX('Order Form'!$E:$E,ROW(E310)+9)>0,INDEX('Order Form'!$E:$E,ROW(E310)+9),\"\")","v":""},{"$f":"IF(D310>\"\",IF('Order Form'!$B$7<>0,'Order Form'!$B$7,\"\"),\"\")","v":""},{"$f":"IF(D310<>\"\",IF('Order Form'!$B$4=\"\",\"\",'Order Form'!$B$4),\"\")","v":""},{"$f":"IF(D310<>\"\",IF('Order Form'!$B$5=\"\",\"\",'Order Form'!$B$5),\"\")","v":""},{"$f":"IF(D310<>\"\",IF('Order Form'!$B$6=\"\",\"\",'Order Form'!$B$6),\"\")","v":""}]
[{"$f":"IF(D311<>\"\",IF('Order Form'!$B$2=\"\",\"\",\"New Jersey\"),\"\")","v":""},{"$f":"IF(D311<>\"\",IF('Order Form'!$B$2=\"\",\"\",'Order Form'!$B$2),\"\")","v":""},{"$f":"IF(D311<>\"\",IF('Order Form'!$B$2=\"\",\"\",'Order Form'!$B$3),\"\")","v":""},{"$f":"IF(_xlfn.XLOOKUP(INDEX('Order Form'!$C:$C,ROW(D311)+9),lists!I:I,lists!C:C,\"\",0,1)=0,\"\",_xlfn.XLOOKUP(INDEX('Order Form'!$C:$C,ROW(D311)+9),lists!I:I,lists!C:C,\"\",0,1))","v":""},{"$f":"IF(INDEX('Order Form'!$D:$D,ROW(D311)+9)>0,INDEX('Order Form'!$D:$D,ROW(D311)+9),\"\")","v":""},{"$f":"IF(INDEX('Order Form'!$E:$E,ROW(E311)+9)>0,INDEX('Order Form'!$E:$E,ROW(E311)+9),\"\")","v":""},{"$f":"IF(D311>\"\",IF('Order Form'!$B$7<>0,'Order Form'!$B$7,\"\"),\"\")","v":""},{"$f":"IF(D311<>\"\",IF('Order Form'!$B$4=\"\",\"\",'Order Form'!$B$4),\"\")","v":""},{"$f":"IF(D311<>\"\",IF('Order Form'!$B$5=\"\",\"\",'Order Form'!$B$5),\"\")","v":""},{"$f":"IF(D311<>\"\",IF('Order Form'!$B$6=\"\",\"\",'Order Form'!$B$6),\"\")","v":""}]
[{"$f":"IF(D312<>\"\",IF('Order Form'!$B$2=\"\",\"\",\"New Jersey\"),\"\")","v":""},{"$f":"IF(D312<>\"\",IF('Order Form'!$B$2=\"\",\"\",'Order Form'!$B$2),\"\")","v":""},{"$f":"IF(D312<>\"\",IF('Order Form'!$B$2=\"\",\"\",'Order Form'!$B$3),\"\")","v":""},{"$f":"IF(_xlfn.XLOOKUP(INDEX('Order Form'!$C:$C,ROW(D312)+9),lists!I:I,lists!C:C,\"\",0,1)=0,\"\",_xlfn.XLOOKUP(INDEX('Order Form'!$C:$C,ROW(D312)+9),lists!I:I,lists!C:C,\"\",0,1))","v":""},{"$f":"IF(INDEX('Order Form'!$D:$D,ROW(D312)+9)>0,INDEX('Order Form'!$D:$D,ROW(D312)+9),\"\")","v":""},{"$f":"IF(INDEX('Order Form'!$E:$E,ROW(E312)+9)>0,INDEX('Order Form'!$E:$E,ROW(E312)+9),\"\")","v":""},{"$f":"IF(D312>\"\",IF('Order Form'!$B$7<>0,'Order Form'!$B$7,\"\"),\"\")","v":""},{"$f":"IF(D312<>\"\",IF('Order Form'!$B$4=\"\",\"\",'Order Form'!$B$4),\"\")","v":""},{"$f":"IF(D312<>\"\",IF('Order Form'!$B$5=\"\",\"\",'Order Form'!$B$5),\"\")","v":""},{"$f":"IF(D312<>\"\",IF('Order Form'!$B$6=\"\",\"\",'Order Form'!$B$6),\"\")","v":""}]
[{"$f":"IF(D313<>\"\",IF('Order Form'!$B$2=\"\",\"\",\"New Jersey\"),\"\")","v":""},{"$f":"IF(D313<>\"\",IF('Order Form'!$B$2=\"\",\"\",'Order Form'!$B$2),\"\")","v":""},{"$f":"IF(D313<>\"\",IF('Order Form'!$B$2=\"\",\"\",'Order Form'!$B$3),\"\")","v":""},{"$f":"IF(_xlfn.XLOOKUP(INDEX('Order Form'!$C:$C,ROW(D313)+9),lists!I:I,lists!C:C,\"\",0,1)=0,\"\",_xlfn.XLOOKUP(INDEX('Order Form'!$C:$C,ROW(D313)+9),lists!I:I,lists!C:C,\"\",0,1))","v":""},{"$f":"IF(INDEX('Order Form'!$D:$D,ROW(D313)+9)>0,INDEX('Order Form'!$D:$D,ROW(D313)+9),\"\")","v":""},{"$f":"IF(INDEX('Order Form'!$E:$E,ROW(E313)+9)>0,INDEX('Order Form'!$E:$E,ROW(E313)+9),\"\")","v":""},{"$f":"IF(D313>\"\",IF('Order Form'!$B$7<>0,'Order Form'!$B$7,\"\"),\"\")","v":""},{"$f":"IF(D313<>\"\",IF('Order Form'!$B$4=\"\",\"\",'Order Form'!$B$4),\"\")","v":""},{"$f":"IF(D313<>\"\",IF('Order Form'!$B$5=\"\",\"\",'Order Form'!$B$5),\"\")","v":""},{"$f":"IF(D313<>\"\",IF('Order Form'!$B$6=\"\",\"\",'Order Form'!$B$6),\"\")","v":""}]
[{"$f":"IF(D314<>\"\",IF('Order Form'!$B$2=\"\",\"\",\"New Jersey\"),\"\")","v":""},{"$f":"IF(D314<>\"\",IF('Order Form'!$B$2=\"\",\"\",'Order Form'!$B$2),\"\")","v":""},{"$f":"IF(D314<>\"\",IF('Order Form'!$B$2=\"\",\"\",'Order Form'!$B$3),\"\")","v":""},{"$f":"IF(_xlfn.XLOOKUP(INDEX('Order Form'!$C:$C,ROW(D314)+9),lists!I:I,lists!C:C,\"\",0,1)=0,\"\",_xlfn.XLOOKUP(INDEX('Order Form'!$C:$C,ROW(D314)+9),lists!I:I,lists!C:C,\"\",0,1))","v":""},{"$f":"IF(INDEX('Order Form'!$D:$D,ROW(D314)+9)>0,INDEX('Order Form'!$D:$D,ROW(D314)+9),\"\")","v":""},{"$f":"IF(INDEX('Order Form'!$E:$E,ROW(E314)+9)>0,INDEX('Order Form'!$E:$E,ROW(E314)+9),\"\")","v":""},{"$f":"IF(D314>\"\",IF('Order Form'!$B$7<>0,'Order Form'!$B$7,\"\"),\"\")","v":""},{"$f":"IF(D314<>\"\",IF('Order Form'!$B$4=\"\",\"\",'Order Form'!$B$4),\"\")","v":""},{"$f":"IF(D314<>\"\",IF('Order Form'!$B$5=\"\",\"\",'Order Form'!$B$5),\"\")","v":""},{"$f":"IF(D314<>\"\",IF('Order Form'!$B$6=\"\",\"\",'Order Form'!$B$6),\"\")","v":""}]
[{"$f":"IF(D315<>\"\",IF('Order Form'!$B$2=\"\",\"\",\"New Jersey\"),\"\")","v":""},{"$f":"IF(D315<>\"\",IF('Order Form'!$B$2=\"\",\"\",'Order Form'!$B$2),\"\")","v":""},{"$f":"IF(D315<>\"\",IF('Order Form'!$B$2=\"\",\"\",'Order Form'!$B$3),\"\")","v":""},{"$f":"IF(_xlfn.XLOOKUP(INDEX('Order Form'!$C:$C,ROW(D315)+9),lists!I:I,lists!C:C,\"\",0,1)=0,\"\",_xlfn.XLOOKUP(INDEX('Order Form'!$C:$C,ROW(D315)+9),lists!I:I,lists!C:C,\"\",0,1))","v":""},{"$f":"IF(INDEX('Order Form'!$D:$D,ROW(D315)+9)>0,INDEX('Order Form'!$D:$D,ROW(D315)+9),\"\")","v":""},{"$f":"IF(INDEX('Order Form'!$E:$E,ROW(E315)+9)>0,INDEX('Order Form'!$E:$E,ROW(E315)+9),\"\")","v":""},{"$f":"IF(D315>\"\",IF('Order Form'!$B$7<>0,'Order Form'!$B$7,\"\"),\"\")","v":""},{"$f":"IF(D315<>\"\",IF('Order Form'!$B$4=\"\",\"\",'Order Form'!$B$4),\"\")","v":""},{"$f":"IF(D315<>\"\",IF('Order Form'!$B$5=\"\",\"\",'Order Form'!$B$5),\"\")","v":""},{"$f":"IF(D315<>\"\",IF('Order Form'!$B$6=\"\",\"\",'Order Form'!$B$6),\"\")","v":""}]
[{"$f":"IF(D316<>\"\",IF('Order Form'!$B$2=\"\",\"\",\"New Jersey\"),\"\")","v":""},{"$f":"IF(D316<>\"\",IF('Order Form'!$B$2=\"\",\"\",'Order Form'!$B$2),\"\")","v":""},{"$f":"IF(D316<>\"\",IF('Order Form'!$B$2=\"\",\"\",'Order Form'!$B$3),\"\")","v":""},{"$f":"IF(_xlfn.XLOOKUP(INDEX('Order Form'!$C:$C,ROW(D316)+9),lists!I:I,lists!C:C,\"\",0,1)=0,\"\",_xlfn.XLOOKUP(INDEX('Order Form'!$C:$C,ROW(D316)+9),lists!I:I,lists!C:C,\"\",0,1))","v":""},{"$f":"IF(INDEX('Order Form'!$D:$D,ROW(D316)+9)>0,INDEX('Order Form'!$D:$D,ROW(D316)+9),\"\")","v":""},{"$f":"IF(INDEX('Order Form'!$E:$E,ROW(E316)+9)>0,INDEX('Order Form'!$E:$E,ROW(E316)+9),\"\")","v":""},{"$f":"IF(D316>\"\",IF('Order Form'!$B$7<>0,'Order Form'!$B$7,\"\"),\"\")","v":""},{"$f":"IF(D316<>\"\",IF('Order Form'!$B$4=\"\",\"\",'Order Form'!$B$4),\"\")","v":""},{"$f":"IF(D316<>\"\",IF('Order Form'!$B$5=\"\",\"\",'Order Form'!$B$5),\"\")","v":""},{"$f":"IF(D316<>\"\",IF('Order Form'!$B$6=\"\",\"\",'Order Form'!$B$6),\"\")","v":""}]
[{"$f":"IF(D317<>\"\",IF('Order Form'!$B$2=\"\",\"\",\"New Jersey\"),\"\")","v":""},{"$f":"IF(D317<>\"\",IF('Order Form'!$B$2=\"\",\"\",'Order Form'!$B$2),\"\")","v":""},{"$f":"IF(D317<>\"\",IF('Order Form'!$B$2=\"\",\"\",'Order Form'!$B$3),\"\")","v":""},{"$f":"IF(_xlfn.XLOOKUP(INDEX('Order Form'!$C:$C,ROW(D317)+9),lists!I:I,lists!C:C,\"\",0,1)=0,\"\",_xlfn.XLOOKUP(INDEX('Order Form'!$C:$C,ROW(D317)+9),lists!I:I,lists!C:C,\"\",0,1))","v":""},{"$f":"IF(INDEX('Order Form'!$D:$D,ROW(D317)+9)>0,INDEX('Order Form'!$D:$D,ROW(D317)+9),\"\")","v":""},{"$f":"IF(INDEX('Order Form'!$E:$E,ROW(E317)+9)>0,INDEX('Order Form'!$E:$E,ROW(E317)+9),\"\")","v":""},{"$f":"IF(D317>\"\",IF('Order Form'!$B$7<>0,'Order Form'!$B$7,\"\"),\"\")","v":""},{"$f":"IF(D317<>\"\",IF('Order Form'!$B$4=\"\",\"\",'Order Form'!$B$4),\"\")","v":""},{"$f":"IF(D317<>\"\",IF('Order Form'!$B$5=\"\",\"\",'Order Form'!$B$5),\"\")","v":""},{"$f":"IF(D317<>\"\",IF('Order Form'!$B$6=\"\",\"\",'Order Form'!$B$6),\"\")","v":""}]
[{"$f":"IF(D318<>\"\",IF('Order Form'!$B$2=\"\",\"\",\"New Jersey\"),\"\")","v":""},{"$f":"IF(D318<>\"\",IF('Order Form'!$B$2=\"\",\"\",'Order Form'!$B$2),\"\")","v":""},{"$f":"IF(D318<>\"\",IF('Order Form'!$B$2=\"\",\"\",'Order Form'!$B$3),\"\")","v":""},{"$f":"IF(_xlfn.XLOOKUP(INDEX('Order Form'!$C:$C,ROW(D318)+9),lists!I:I,lists!C:C,\"\",0,1)=0,\"\",_xlfn.XLOOKUP(INDEX('Order Form'!$C:$C,ROW(D318)+9),lists!I:I,lists!C:C,\"\",0,1))","v":""},{"$f":"IF(INDEX('Order Form'!$D:$D,ROW(D318)+9)>0,INDEX('Order Form'!$D:$D,ROW(D318)+9),\"\")","v":""},{"$f":"IF(INDEX('Order Form'!$E:$E,ROW(E318)+9)>0,INDEX('Order Form'!$E:$E,ROW(E318)+9),\"\")","v":""},{"$f":"IF(D318>\"\",IF('Order Form'!$B$7<>0,'Order Form'!$B$7,\"\"),\"\")","v":""},{"$f":"IF(D318<>\"\",IF('Order Form'!$B$4=\"\",\"\",'Order Form'!$B$4),\"\")","v":""},{"$f":"IF(D318<>\"\",IF('Order Form'!$B$5=\"\",\"\",'Order Form'!$B$5),\"\")","v":""},{"$f":"IF(D318<>\"\",IF('Order Form'!$B$6=\"\",\"\",'Order Form'!$B$6),\"\")","v":""}]
[{"$f":"IF(D319<>\"\",IF('Order Form'!$B$2=\"\",\"\",\"New Jersey\"),\"\")","v":""},{"$f":"IF(D319<>\"\",IF('Order Form'!$B$2=\"\",\"\",'Order Form'!$B$2),\"\")","v":""},{"$f":"IF(D319<>\"\",IF('Order Form'!$B$2=\"\",\"\",'Order Form'!$B$3),\"\")","v":""},{"$f":"IF(_xlfn.XLOOKUP(INDEX('Order Form'!$C:$C,ROW(D319)+9),lists!I:I,lists!C:C,\"\",0,1)=0,\"\",_xlfn.XLOOKUP(INDEX('Order Form'!$C:$C,ROW(D319)+9),lists!I:I,lists!C:C,\"\",0,1))","v":""},{"$f":"IF(INDEX('Order Form'!$D:$D,ROW(D319)+9)>0,INDEX('Order Form'!$D:$D,ROW(D319)+9),\"\")","v":""},{"$f":"IF(INDEX('Order Form'!$E:$E,ROW(E319)+9)>0,INDEX('Order Form'!$E:$E,ROW(E319)+9),\"\")","v":""},{"$f":"IF(D319>\"\",IF('Order Form'!$B$7<>0,'Order Form'!$B$7,\"\"),\"\")","v":""},{"$f":"IF(D319<>\"\",IF('Order Form'!$B$4=\"\",\"\",'Order Form'!$B$4),\"\")","v":""},{"$f":"IF(D319<>\"\",IF('Order Form'!$B$5=\"\",\"\",'Order Form'!$B$5),\"\")","v":""},{"$f":"IF(D319<>\"\",IF('Order Form'!$B$6=\"\",\"\",'Order Form'!$B$6),\"\")","v":""}]
[{"$f":"IF(D320<>\"\",IF('Order Form'!$B$2=\"\",\"\",\"New Jersey\"),\"\")","v":""},{"$f":"IF(D320<>\"\",IF('Order Form'!$B$2=\"\",\"\",'Order Form'!$B$2),\"\")","v":""},{"$f":"IF(D320<>\"\",IF('Order Form'!$B$2=\"\",\"\",'Order Form'!$B$3),\"\")","v":""},{"$f":"IF(_xlfn.XLOOKUP(INDEX('Order Form'!$C:$C,ROW(D320)+9),lists!I:I,lists!C:C,\"\",0,1)=0,\"\",_xlfn.XLOOKUP(INDEX('Order Form'!$C:$C,ROW(D320)+9),lists!I:I,lists!C:C,\"\",0,1))","v":""},{"$f":"IF(INDEX('Order Form'!$D:$D,ROW(D320)+9)>0,INDEX('Order Form'!$D:$D,ROW(D320)+9),\"\")","v":""},{"$f":"IF(INDEX('Order Form'!$E:$E,ROW(E320)+9)>0,INDEX('Order Form'!$E:$E,ROW(E320)+9),\"\")","v":""},{"$f":"IF(D320>\"\",IF('Order Form'!$B$7<>0,'Order Form'!$B$7,\"\"),\"\")","v":""},{"$f":"IF(D320<>\"\",IF('Order Form'!$B$4=\"\",\"\",'Order Form'!$B$4),\"\")","v":""},{"$f":"IF(D320<>\"\",IF('Order Form'!$B$5=\"\",\"\",'Order Form'!$B$5),\"\")","v":""},{"$f":"IF(D320<>\"\",IF('Order Form'!$B$6=\"\",\"\",'Order Form'!$B$6),\"\")","v":""}]
[{"$f":"IF(D321<>\"\",IF('Order Form'!$B$2=\"\",\"\",\"New Jersey\"),\"\")","v":""},{"$f":"IF(D321<>\"\",IF('Order Form'!$B$2=\"\",\"\",'Order Form'!$B$2),\"\")","v":""},{"$f":"IF(D321<>\"\",IF('Order Form'!$B$2=\"\",\"\",'Order Form'!$B$3),\"\")","v":""},{"$f":"IF(_xlfn.XLOOKUP(INDEX('Order Form'!$C:$C,ROW(D321)+9),lists!I:I,lists!C:C,\"\",0,1)=0,\"\",_xlfn.XLOOKUP(INDEX('Order Form'!$C:$C,ROW(D321)+9),lists!I:I,lists!C:C,\"\",0,1))","v":""},{"$f":"IF(INDEX('Order Form'!$D:$D,ROW(D321)+9)>0,INDEX('Order Form'!$D:$D,ROW(D321)+9),\"\")","v":""},{"$f":"IF(INDEX('Order Form'!$E:$E,ROW(E321)+9)>0,INDEX('Order Form'!$E:$E,ROW(E321)+9),\"\")","v":""},{"$f":"IF(D321>\"\",IF('Order Form'!$B$7<>0,'Order Form'!$B$7,\"\"),\"\")","v":""},{"$f":"IF(D321<>\"\",IF('Order Form'!$B$4=\"\",\"\",'Order Form'!$B$4),\"\")","v":""},{"$f":"IF(D321<>\"\",IF('Order Form'!$B$5=\"\",\"\",'Order Form'!$B$5),\"\")","v":""},{"$f":"IF(D321<>\"\",IF('Order Form'!$B$6=\"\",\"\",'Order Form'!$B$6),\"\")","v":""}]
[{"$f":"IF(D322<>\"\",IF('Order Form'!$B$2=\"\",\"\",\"New Jersey\"),\"\")","v":""},{"$f":"IF(D322<>\"\",IF('Order Form'!$B$2=\"\",\"\",'Order Form'!$B$2),\"\")","v":""},{"$f":"IF(D322<>\"\",IF('Order Form'!$B$2=\"\",\"\",'Order Form'!$B$3),\"\")","v":""},{"$f":"IF(_xlfn.XLOOKUP(INDEX('Order Form'!$C:$C,ROW(D322)+9),lists!I:I,lists!C:C,\"\",0,1)=0,\"\",_xlfn.XLOOKUP(INDEX('Order Form'!$C:$C,ROW(D322)+9),lists!I:I,lists!C:C,\"\",0,1))","v":""},{"$f":"IF(INDEX('Order Form'!$D:$D,ROW(D322)+9)>0,INDEX('Order Form'!$D:$D,ROW(D322)+9),\"\")","v":""},{"$f":"IF(INDEX('Order Form'!$E:$E,ROW(E322)+9)>0,INDEX('Order Form'!$E:$E,ROW(E322)+9),\"\")","v":""},{"$f":"IF(D322>\"\",IF('Order Form'!$B$7<>0,'Order Form'!$B$7,\"\"),\"\")","v":""},{"$f":"IF(D322<>\"\",IF('Order Form'!$B$4=\"\",\"\",'Order Form'!$B$4),\"\")","v":""},{"$f":"IF(D322<>\"\",IF('Order Form'!$B$5=\"\",\"\",'Order Form'!$B$5),\"\")","v":""},{"$f":"IF(D322<>\"\",IF('Order Form'!$B$6=\"\",\"\",'Order Form'!$B$6),\"\")","v":""}]
[{"$f":"IF(D323<>\"\",IF('Order Form'!$B$2=\"\",\"\",\"New Jersey\"),\"\")","v":""},{"$f":"IF(D323<>\"\",IF('Order Form'!$B$2=\"\",\"\",'Order Form'!$B$2),\"\")","v":""},{"$f":"IF(D323<>\"\",IF('Order Form'!$B$2=\"\",\"\",'Order Form'!$B$3),\"\")","v":""},{"$f":"IF(_xlfn.XLOOKUP(INDEX('Order Form'!$C:$C,ROW(D323)+9),lists!I:I,lists!C:C,\"\",0,1)=0,\"\",_xlfn.XLOOKUP(INDEX('Order Form'!$C:$C,ROW(D323)+9),lists!I:I,lists!C:C,\"\",0,1))","v":""},{"$f":"IF(INDEX('Order Form'!$D:$D,ROW(D323)+9)>0,INDEX('Order Form'!$D:$D,ROW(D323)+9),\"\")","v":""},{"$f":"IF(INDEX('Order Form'!$E:$E,ROW(E323)+9)>0,INDEX('Order Form'!$E:$E,ROW(E323)+9),\"\")","v":""},{"$f":"IF(D323>\"\",IF('Order Form'!$B$7<>0,'Order Form'!$B$7,\"\"),\"\")","v":""},{"$f":"IF(D323<>\"\",IF('Order Form'!$B$4=\"\",\"\",'Order Form'!$B$4),\"\")","v":""},{"$f":"IF(D323<>\"\",IF('Order Form'!$B$5=\"\",\"\",'Order Form'!$B$5),\"\")","v":""},{"$f":"IF(D323<>\"\",IF('Order Form'!$B$6=\"\",\"\",'Order Form'!$B$6),\"\")","v":""}]
[{"$f":"IF(D324<>\"\",IF('Order Form'!$B$2=\"\",\"\",\"New Jersey\"),\"\")","v":""},{"$f":"IF(D324<>\"\",IF('Order Form'!$B$2=\"\",\"\",'Order Form'!$B$2),\"\")","v":""},{"$f":"IF(D324<>\"\",IF('Order Form'!$B$2=\"\",\"\",'Order Form'!$B$3),\"\")","v":""},{"$f":"IF(_xlfn.XLOOKUP(INDEX('Order Form'!$C:$C,ROW(D324)+9),lists!I:I,lists!C:C,\"\",0,1)=0,\"\",_xlfn.XLOOKUP(INDEX('Order Form'!$C:$C,ROW(D324)+9),lists!I:I,lists!C:C,\"\",0,1))","v":""},{"$f":"IF(INDEX('Order Form'!$D:$D,ROW(D324)+9)>0,INDEX('Order Form'!$D:$D,ROW(D324)+9),\"\")","v":""},{"$f":"IF(INDEX('Order Form'!$E:$E,ROW(E324)+9)>0,INDEX('Order Form'!$E:$E,ROW(E324)+9),\"\")","v":""},{"$f":"IF(D324>\"\",IF('Order Form'!$B$7<>0,'Order Form'!$B$7,\"\"),\"\")","v":""},{"$f":"IF(D324<>\"\",IF('Order Form'!$B$4=\"\",\"\",'Order Form'!$B$4),\"\")","v":""},{"$f":"IF(D324<>\"\",IF('Order Form'!$B$5=\"\",\"\",'Order Form'!$B$5),\"\")","v":""},{"$f":"IF(D324<>\"\",IF('Order Form'!$B$6=\"\",\"\",'Order Form'!$B$6),\"\")","v":""}]
[{"$f":"IF(D325<>\"\",IF('Order Form'!$B$2=\"\",\"\",\"New Jersey\"),\"\")","v":""},{"$f":"IF(D325<>\"\",IF('Order Form'!$B$2=\"\",\"\",'Order Form'!$B$2),\"\")","v":""},{"$f":"IF(D325<>\"\",IF('Order Form'!$B$2=\"\",\"\",'Order Form'!$B$3),\"\")","v":""},{"$f":"IF(_xlfn.XLOOKUP(INDEX('Order Form'!$C:$C,ROW(D325)+9),lists!I:I,lists!C:C,\"\",0,1)=0,\"\",_xlfn.XLOOKUP(INDEX('Order Form'!$C:$C,ROW(D325)+9),lists!I:I,lists!C:C,\"\",0,1))","v":""},{"$f":"IF(INDEX('Order Form'!$D:$D,ROW(D325)+9)>0,INDEX('Order Form'!$D:$D,ROW(D325)+9),\"\")","v":""},{"$f":"IF(INDEX('Order Form'!$E:$E,ROW(E325)+9)>0,INDEX('Order Form'!$E:$E,ROW(E325)+9),\"\")","v":""},{"$f":"IF(D325>\"\",IF('Order Form'!$B$7<>0,'Order Form'!$B$7,\"\"),\"\")","v":""},{"$f":"IF(D325<>\"\",IF('Order Form'!$B$4=\"\",\"\",'Order Form'!$B$4),\"\")","v":""},{"$f":"IF(D325<>\"\",IF('Order Form'!$B$5=\"\",\"\",'Order Form'!$B$5),\"\")","v":""},{"$f":"IF(D325<>\"\",IF('Order Form'!$B$6=\"\",\"\",'Order Form'!$B$6),\"\")","v":""}]
[{"$f":"IF(D326<>\"\",IF('Order Form'!$B$2=\"\",\"\",\"New Jersey\"),\"\")","v":""},{"$f":"IF(D326<>\"\",IF('Order Form'!$B$2=\"\",\"\",'Order Form'!$B$2),\"\")","v":""},{"$f":"IF(D326<>\"\",IF('Order Form'!$B$2=\"\",\"\",'Order Form'!$B$3),\"\")","v":""},{"$f":"IF(_xlfn.XLOOKUP(INDEX('Order Form'!$C:$C,ROW(D326)+9),lists!I:I,lists!C:C,\"\",0,1)=0,\"\",_xlfn.XLOOKUP(INDEX('Order Form'!$C:$C,ROW(D326)+9),lists!I:I,lists!C:C,\"\",0,1))","v":""},{"$f":"IF(INDEX('Order Form'!$D:$D,ROW(D326)+9)>0,INDEX('Order Form'!$D:$D,ROW(D326)+9),\"\")","v":""},{"$f":"IF(INDEX('Order Form'!$E:$E,ROW(E326)+9)>0,INDEX('Order Form'!$E:$E,ROW(E326)+9),\"\")","v":""},{"$f":"IF(D326>\"\",IF('Order Form'!$B$7<>0,'Order Form'!$B$7,\"\"),\"\")","v":""},{"$f":"IF(D326<>\"\",IF('Order Form'!$B$4=\"\",\"\",'Order Form'!$B$4),\"\")","v":""},{"$f":"IF(D326<>\"\",IF('Order Form'!$B$5=\"\",\"\",'Order Form'!$B$5),\"\")","v":""},{"$f":"IF(D326<>\"\",IF('Order Form'!$B$6=\"\",\"\",'Order Form'!$B$6),\"\")","v":""}]
[{"$f":"IF(D327<>\"\",IF('Order Form'!$B$2=\"\",\"\",\"New Jersey\"),\"\")","v":""},{"$f":"IF(D327<>\"\",IF('Order Form'!$B$2=\"\",\"\",'Order Form'!$B$2),\"\")","v":""},{"$f":"IF(D327<>\"\",IF('Order Form'!$B$2=\"\",\"\",'Order Form'!$B$3),\"\")","v":""},{"$f":"IF(_xlfn.XLOOKUP(INDEX('Order Form'!$C:$C,ROW(D327)+9),lists!I:I,lists!C:C,\"\",0,1)=0,\"\",_xlfn.XLOOKUP(INDEX('Order Form'!$C:$C,ROW(D327)+9),lists!I:I,lists!C:C,\"\",0,1))","v":""},{"$f":"IF(INDEX('Order Form'!$D:$D,ROW(D327)+9)>0,INDEX('Order Form'!$D:$D,ROW(D327)+9),\"\")","v":""},{"$f":"IF(INDEX('Order Form'!$E:$E,ROW(E327)+9)>0,INDEX('Order Form'!$E:$E,ROW(E327)+9),\"\")","v":""},{"$f":"IF(D327>\"\",IF('Order Form'!$B$7<>0,'Order Form'!$B$7,\"\"),\"\")","v":""},{"$f":"IF(D327<>\"\",IF('Order Form'!$B$4=\"\",\"\",'Order Form'!$B$4),\"\")","v":""},{"$f":"IF(D327<>\"\",IF('Order Form'!$B$5=\"\",\"\",'Order Form'!$B$5),\"\")","v":""},{"$f":"IF(D327<>\"\",IF('Order Form'!$B$6=\"\",\"\",'Order Form'!$B$6),\"\")","v":""}]
[{"$f":"IF(D328<>\"\",IF('Order Form'!$B$2=\"\",\"\",\"New Jersey\"),\"\")","v":""},{"$f":"IF(D328<>\"\",IF('Order Form'!$B$2=\"\",\"\",'Order Form'!$B$2),\"\")","v":""},{"$f":"IF(D328<>\"\",IF('Order Form'!$B$2=\"\",\"\",'Order Form'!$B$3),\"\")","v":""},{"$f":"IF(_xlfn.XLOOKUP(INDEX('Order Form'!$C:$C,ROW(D328)+9),lists!I:I,lists!C:C,\"\",0,1)=0,\"\",_xlfn.XLOOKUP(INDEX('Order Form'!$C:$C,ROW(D328)+9),lists!I:I,lists!C:C,\"\",0,1))","v":""},{"$f":"IF(INDEX('Order Form'!$D:$D,ROW(D328)+9)>0,INDEX('Order Form'!$D:$D,ROW(D328)+9),\"\")","v":""},{"$f":"IF(INDEX('Order Form'!$E:$E,ROW(E328)+9)>0,INDEX('Order Form'!$E:$E,ROW(E328)+9),\"\")","v":""},{"$f":"IF(D328>\"\",IF('Order Form'!$B$7<>0,'Order Form'!$B$7,\"\"),\"\")","v":""},{"$f":"IF(D328<>\"\",IF('Order Form'!$B$4=\"\",\"\",'Order Form'!$B$4),\"\")","v":""},{"$f":"IF(D328<>\"\",IF('Order Form'!$B$5=\"\",\"\",'Order Form'!$B$5),\"\")","v":""},{"$f":"IF(D328<>\"\",IF('Order Form'!$B$6=\"\",\"\",'Order Form'!$B$6),\"\")","v":""}]
[{"$f":"IF(D329<>\"\",IF('Order Form'!$B$2=\"\",\"\",\"New Jersey\"),\"\")","v":""},{"$f":"IF(D329<>\"\",IF('Order Form'!$B$2=\"\",\"\",'Order Form'!$B$2),\"\")","v":""},{"$f":"IF(D329<>\"\",IF('Order Form'!$B$2=\"\",\"\",'Order Form'!$B$3),\"\")","v":""},{"$f":"IF(_xlfn.XLOOKUP(INDEX('Order Form'!$C:$C,ROW(D329)+9),lists!I:I,lists!C:C,\"\",0,1)=0,\"\",_xlfn.XLOOKUP(INDEX('Order Form'!$C:$C,ROW(D329)+9),lists!I:I,lists!C:C,\"\",0,1))","v":""},{"$f":"IF(INDEX('Order Form'!$D:$D,ROW(D329)+9)>0,INDEX('Order Form'!$D:$D,ROW(D329)+9),\"\")","v":""},{"$f":"IF(INDEX('Order Form'!$E:$E,ROW(E329)+9)>0,INDEX('Order Form'!$E:$E,ROW(E329)+9),\"\")","v":""},{"$f":"IF(D329>\"\",IF('Order Form'!$B$7<>0,'Order Form'!$B$7,\"\"),\"\")","v":""},{"$f":"IF(D329<>\"\",IF('Order Form'!$B$4=\"\",\"\",'Order Form'!$B$4),\"\")","v":""},{"$f":"IF(D329<>\"\",IF('Order Form'!$B$5=\"\",\"\",'Order Form'!$B$5),\"\")","v":""},{"$f":"IF(D329<>\"\",IF('Order Form'!$B$6=\"\",\"\",'Order Form'!$B$6),\"\")","v":""}]
[{"$f":"IF(D330<>\"\",IF('Order Form'!$B$2=\"\",\"\",\"New Jersey\"),\"\")","v":""},{"$f":"IF(D330<>\"\",IF('Order Form'!$B$2=\"\",\"\",'Order Form'!$B$2),\"\")","v":""},{"$f":"IF(D330<>\"\",IF('Order Form'!$B$2=\"\",\"\",'Order Form'!$B$3),\"\")","v":""},{"$f":"IF(_xlfn.XLOOKUP(INDEX('Order Form'!$C:$C,ROW(D330)+9),lists!I:I,lists!C:C,\"\",0,1)=0,\"\",_xlfn.XLOOKUP(INDEX('Order Form'!$C:$C,ROW(D330)+9),lists!I:I,lists!C:C,\"\",0,1))","v":""},{"$f":"IF(INDEX('Order Form'!$D:$D,ROW(D330)+9)>0,INDEX('Order Form'!$D:$D,ROW(D330)+9),\"\")","v":""},{"$f":"IF(INDEX('Order Form'!$E:$E,ROW(E330)+9)>0,INDEX('Order Form'!$E:$E,ROW(E330)+9),\"\")","v":""},{"$f":"IF(D330>\"\",IF('Order Form'!$B$7<>0,'Order Form'!$B$7,\"\"),\"\")","v":""},{"$f":"IF(D330<>\"\",IF('Order Form'!$B$4=\"\",\"\",'Order Form'!$B$4),\"\")","v":""},{"$f":"IF(D330<>\"\",IF('Order Form'!$B$5=\"\",\"\",'Order Form'!$B$5),\"\")","v":""},{"$f":"IF(D330<>\"\",IF('Order Form'!$B$6=\"\",\"\",'Order Form'!$B$6),\"\")","v":""}]
[{"$f":"IF(D331<>\"\",IF('Order Form'!$B$2=\"\",\"\",\"New Jersey\"),\"\")","v":""},{"$f":"IF(D331<>\"\",IF('Order Form'!$B$2=\"\",\"\",'Order Form'!$B$2),\"\")","v":""},{"$f":"IF(D331<>\"\",IF('Order Form'!$B$2=\"\",\"\",'Order Form'!$B$3),\"\")","v":""},{"$f":"IF(_xlfn.XLOOKUP(INDEX('Order Form'!$C:$C,ROW(D331)+9),lists!I:I,lists!C:C,\"\",0,1)=0,\"\",_xlfn.XLOOKUP(INDEX('Order Form'!$C:$C,ROW(D331)+9),lists!I:I,lists!C:C,\"\",0,1))","v":""},{"$f":"IF(INDEX('Order Form'!$D:$D,ROW(D331)+9)>0,INDEX('Order Form'!$D:$D,ROW(D331)+9),\"\")","v":""},{"$f":"IF(INDEX('Order Form'!$E:$E,ROW(E331)+9)>0,INDEX('Order Form'!$E:$E,ROW(E331)+9),\"\")","v":""},{"$f":"IF(D331>\"\",IF('Order Form'!$B$7<>0,'Order Form'!$B$7,\"\"),\"\")","v":""},{"$f":"IF(D331<>\"\",IF('Order Form'!$B$4=\"\",\"\",'Order Form'!$B$4),\"\")","v":""},{"$f":"IF(D331<>\"\",IF('Order Form'!$B$5=\"\",\"\",'Order Form'!$B$5),\"\")","v":""},{"$f":"IF(D331<>\"\",IF('Order Form'!$B$6=\"\",\"\",'Order Form'!$B$6),\"\")","v":""}]
[{"$f":"IF(D332<>\"\",IF('Order Form'!$B$2=\"\",\"\",\"New Jersey\"),\"\")","v":""},{"$f":"IF(D332<>\"\",IF('Order Form'!$B$2=\"\",\"\",'Order Form'!$B$2),\"\")","v":""},{"$f":"IF(D332<>\"\",IF('Order Form'!$B$2=\"\",\"\",'Order Form'!$B$3),\"\")","v":""},{"$f":"IF(_xlfn.XLOOKUP(INDEX('Order Form'!$C:$C,ROW(D332)+9),lists!I:I,lists!C:C,\"\",0,1)=0,\"\",_xlfn.XLOOKUP(INDEX('Order Form'!$C:$C,ROW(D332)+9),lists!I:I,lists!C:C,\"\",0,1))","v":""},{"$f":"IF(INDEX('Order Form'!$D:$D,ROW(D332)+9)>0,INDEX('Order Form'!$D:$D,ROW(D332)+9),\"\")","v":""},{"$f":"IF(INDEX('Order Form'!$E:$E,ROW(E332)+9)>0,INDEX('Order Form'!$E:$E,ROW(E332)+9),\"\")","v":""},{"$f":"IF(D332>\"\",IF('Order Form'!$B$7<>0,'Order Form'!$B$7,\"\"),\"\")","v":""},{"$f":"IF(D332<>\"\",IF('Order Form'!$B$4=\"\",\"\",'Order Form'!$B$4),\"\")","v":""},{"$f":"IF(D332<>\"\",IF('Order Form'!$B$5=\"\",\"\",'Order Form'!$B$5),\"\")","v":""},{"$f":"IF(D332<>\"\",IF('Order Form'!$B$6=\"\",\"\",'Order Form'!$B$6),\"\")","v":""}]
[{"$f":"IF(D333<>\"\",IF('Order Form'!$B$2=\"\",\"\",\"New Jersey\"),\"\")","v":""},{"$f":"IF(D333<>\"\",IF('Order Form'!$B$2=\"\",\"\",'Order Form'!$B$2),\"\")","v":""},{"$f":"IF(D333<>\"\",IF('Order Form'!$B$2=\"\",\"\",'Order Form'!$B$3),\"\")","v":""},{"$f":"IF(_xlfn.XLOOKUP(INDEX('Order Form'!$C:$C,ROW(D333)+9),lists!I:I,lists!C:C,\"\",0,1)=0,\"\",_xlfn.XLOOKUP(INDEX('Order Form'!$C:$C,ROW(D333)+9),lists!I:I,lists!C:C,\"\",0,1))","v":""},{"$f":"IF(INDEX('Order Form'!$D:$D,ROW(D333)+9)>0,INDEX('Order Form'!$D:$D,ROW(D333)+9),\"\")","v":""},{"$f":"IF(INDEX('Order Form'!$E:$E,ROW(E333)+9)>0,INDEX('Order Form'!$E:$E,ROW(E333)+9),\"\")","v":""},{"$f":"IF(D333>\"\",IF('Order Form'!$B$7<>0,'Order Form'!$B$7,\"\"),\"\")","v":""},{"$f":"IF(D333<>\"\",IF('Order Form'!$B$4=\"\",\"\",'Order Form'!$B$4),\"\")","v":""},{"$f":"IF(D333<>\"\",IF('Order Form'!$B$5=\"\",\"\",'Order Form'!$B$5),\"\")","v":""},{"$f":"IF(D333<>\"\",IF('Order Form'!$B$6=\"\",\"\",'Order Form'!$B$6),\"\")","v":""}]
[{"$f":"IF(D334<>\"\",IF('Order Form'!$B$2=\"\",\"\",\"New Jersey\"),\"\")","v":""},{"$f":"IF(D334<>\"\",IF('Order Form'!$B$2=\"\",\"\",'Order Form'!$B$2),\"\")","v":""},{"$f":"IF(D334<>\"\",IF('Order Form'!$B$2=\"\",\"\",'Order Form'!$B$3),\"\")","v":""},{"$f":"IF(_xlfn.XLOOKUP(INDEX('Order Form'!$C:$C,ROW(D334)+9),lists!I:I,lists!C:C,\"\",0,1)=0,\"\",_xlfn.XLOOKUP(INDEX('Order Form'!$C:$C,ROW(D334)+9),lists!I:I,lists!C:C,\"\",0,1))","v":""},{"$f":"IF(INDEX('Order Form'!$D:$D,ROW(D334)+9)>0,INDEX('Order Form'!$D:$D,ROW(D334)+9),\"\")","v":""},{"$f":"IF(INDEX('Order Form'!$E:$E,ROW(E334)+9)>0,INDEX('Order Form'!$E:$E,ROW(E334)+9),\"\")","v":""},{"$f":"IF(D334>\"\",IF('Order Form'!$B$7<>0,'Order Form'!$B$7,\"\"),\"\")","v":""},{"$f":"IF(D334<>\"\",IF('Order Form'!$B$4=\"\",\"\",'Order Form'!$B$4),\"\")","v":""},{"$f":"IF(D334<>\"\",IF('Order Form'!$B$5=\"\",\"\",'Order Form'!$B$5),\"\")","v":""},{"$f":"IF(D334<>\"\",IF('Order Form'!$B$6=\"\",\"\",'Order Form'!$B$6),\"\")","v":""}]
[{"$f":"IF(D335<>\"\",IF('Order Form'!$B$2=\"\",\"\",\"New Jersey\"),\"\")","v":""},{"$f":"IF(D335<>\"\",IF('Order Form'!$B$2=\"\",\"\",'Order Form'!$B$2),\"\")","v":""},{"$f":"IF(D335<>\"\",IF('Order Form'!$B$2=\"\",\"\",'Order Form'!$B$3),\"\")","v":""},{"$f":"IF(_xlfn.XLOOKUP(INDEX('Order Form'!$C:$C,ROW(D335)+9),lists!I:I,lists!C:C,\"\",0,1)=0,\"\",_xlfn.XLOOKUP(INDEX('Order Form'!$C:$C,ROW(D335)+9),lists!I:I,lists!C:C,\"\",0,1))","v":""},{"$f":"IF(INDEX('Order Form'!$D:$D,ROW(D335)+9)>0,INDEX('Order Form'!$D:$D,ROW(D335)+9),\"\")","v":""},{"$f":"IF(INDEX('Order Form'!$E:$E,ROW(E335)+9)>0,INDEX('Order Form'!$E:$E,ROW(E335)+9),\"\")","v":""},{"$f":"IF(D335>\"\",IF('Order Form'!$B$7<>0,'Order Form'!$B$7,\"\"),\"\")","v":""},{"$f":"IF(D335<>\"\",IF('Order Form'!$B$4=\"\",\"\",'Order Form'!$B$4),\"\")","v":""},{"$f":"IF(D335<>\"\",IF('Order Form'!$B$5=\"\",\"\",'Order Form'!$B$5),\"\")","v":""},{"$f":"IF(D335<>\"\",IF('Order Form'!$B$6=\"\",\"\",'Order Form'!$B$6),\"\")","v":""}]
[{"$f":"IF(D336<>\"\",IF('Order Form'!$B$2=\"\",\"\",\"New Jersey\"),\"\")","v":""},{"$f":"IF(D336<>\"\",IF('Order Form'!$B$2=\"\",\"\",'Order Form'!$B$2),\"\")","v":""},{"$f":"IF(D336<>\"\",IF('Order Form'!$B$2=\"\",\"\",'Order Form'!$B$3),\"\")","v":""},{"$f":"IF(_xlfn.XLOOKUP(INDEX('Order Form'!$C:$C,ROW(D336)+9),lists!I:I,lists!C:C,\"\",0,1)=0,\"\",_xlfn.XLOOKUP(INDEX('Order Form'!$C:$C,ROW(D336)+9),lists!I:I,lists!C:C,\"\",0,1))","v":""},{"$f":"IF(INDEX('Order Form'!$D:$D,ROW(D336)+9)>0,INDEX('Order Form'!$D:$D,ROW(D336)+9),\"\")","v":""},{"$f":"IF(INDEX('Order Form'!$E:$E,ROW(E336)+9)>0,INDEX('Order Form'!$E:$E,ROW(E336)+9),\"\")","v":""},{"$f":"IF(D336>\"\",IF('Order Form'!$B$7<>0,'Order Form'!$B$7,\"\"),\"\")","v":""},{"$f":"IF(D336<>\"\",IF('Order Form'!$B$4=\"\",\"\",'Order Form'!$B$4),\"\")","v":""},{"$f":"IF(D336<>\"\",IF('Order Form'!$B$5=\"\",\"\",'Order Form'!$B$5),\"\")","v":""},{"$f":"IF(D336<>\"\",IF('Order Form'!$B$6=\"\",\"\",'Order Form'!$B$6),\"\")","v":""}]
[{"$f":"IF(D337<>\"\",IF('Order Form'!$B$2=\"\",\"\",\"New Jersey\"),\"\")","v":""},{"$f":"IF(D337<>\"\",IF('Order Form'!$B$2=\"\",\"\",'Order Form'!$B$2),\"\")","v":""},{"$f":"IF(D337<>\"\",IF('Order Form'!$B$2=\"\",\"\",'Order Form'!$B$3),\"\")","v":""},{"$f":"IF(_xlfn.XLOOKUP(INDEX('Order Form'!$C:$C,ROW(D337)+9),lists!I:I,lists!C:C,\"\",0,1)=0,\"\",_xlfn.XLOOKUP(INDEX('Order Form'!$C:$C,ROW(D337)+9),lists!I:I,lists!C:C,\"\",0,1))","v":""},{"$f":"IF(INDEX('Order Form'!$D:$D,ROW(D337)+9)>0,INDEX('Order Form'!$D:$D,ROW(D337)+9),\"\")","v":""},{"$f":"IF(INDEX('Order Form'!$E:$E,ROW(E337)+9)>0,INDEX('Order Form'!$E:$E,ROW(E337)+9),\"\")","v":""},{"$f":"IF(D337>\"\",IF('Order Form'!$B$7<>0,'Order Form'!$B$7,\"\"),\"\")","v":""},{"$f":"IF(D337<>\"\",IF('Order Form'!$B$4=\"\",\"\",'Order Form'!$B$4),\"\")","v":""},{"$f":"IF(D337<>\"\",IF('Order Form'!$B$5=\"\",\"\",'Order Form'!$B$5),\"\")","v":""},{"$f":"IF(D337<>\"\",IF('Order Form'!$B$6=\"\",\"\",'Order Form'!$B$6),\"\")","v":""}]
[{"$f":"IF(D338<>\"\",IF('Order Form'!$B$2=\"\",\"\",\"New Jersey\"),\"\")","v":""},{"$f":"IF(D338<>\"\",IF('Order Form'!$B$2=\"\",\"\",'Order Form'!$B$2),\"\")","v":""},{"$f":"IF(D338<>\"\",IF('Order Form'!$B$2=\"\",\"\",'Order Form'!$B$3),\"\")","v":""},{"$f":"IF(_xlfn.XLOOKUP(INDEX('Order Form'!$C:$C,ROW(D338)+9),lists!I:I,lists!C:C,\"\",0,1)=0,\"\",_xlfn.XLOOKUP(INDEX('Order Form'!$C:$C,ROW(D338)+9),lists!I:I,lists!C:C,\"\",0,1))","v":""},{"$f":"IF(INDEX('Order Form'!$D:$D,ROW(D338)+9)>0,INDEX('Order Form'!$D:$D,ROW(D338)+9),\"\")","v":""},{"$f":"IF(INDEX('Order Form'!$E:$E,ROW(E338)+9)>0,INDEX('Order Form'!$E:$E,ROW(E338)+9),\"\")","v":""},{"$f":"IF(D338>\"\",IF('Order Form'!$B$7<>0,'Order Form'!$B$7,\"\"),\"\")","v":""},{"$f":"IF(D338<>\"\",IF('Order Form'!$B$4=\"\",\"\",'Order Form'!$B$4),\"\")","v":""},{"$f":"IF(D338<>\"\",IF('Order Form'!$B$5=\"\",\"\",'Order Form'!$B$5),\"\")","v":""},{"$f":"IF(D338<>\"\",IF('Order Form'!$B$6=\"\",\"\",'Order Form'!$B$6),\"\")","v":""}]
[{"$f":"IF(D339<>\"\",IF('Order Form'!$B$2=\"\",\"\",\"New Jersey\"),\"\")","v":""},{"$f":"IF(D339<>\"\",IF('Order Form'!$B$2=\"\",\"\",'Order Form'!$B$2),\"\")","v":""},{"$f":"IF(D339<>\"\",IF('Order Form'!$B$2=\"\",\"\",'Order Form'!$B$3),\"\")","v":""},{"$f":"IF(_xlfn.XLOOKUP(INDEX('Order Form'!$C:$C,ROW(D339)+9),lists!I:I,lists!C:C,\"\",0,1)=0,\"\",_xlfn.XLOOKUP(INDEX('Order Form'!$C:$C,ROW(D339)+9),lists!I:I,lists!C:C,\"\",0,1))","v":""},{"$f":"IF(INDEX('Order Form'!$D:$D,ROW(D339)+9)>0,INDEX('Order Form'!$D:$D,ROW(D339)+9),\"\")","v":""},{"$f":"IF(INDEX('Order Form'!$E:$E,ROW(E339)+9)>0,INDEX('Order Form'!$E:$E,ROW(E339)+9),\"\")","v":""},{"$f":"IF(D339>\"\",IF('Order Form'!$B$7<>0,'Order Form'!$B$7,\"\"),\"\")","v":""},{"$f":"IF(D339<>\"\",IF('Order Form'!$B$4=\"\",\"\",'Order Form'!$B$4),\"\")","v":""},{"$f":"IF(D339<>\"\",IF('Order Form'!$B$5=\"\",\"\",'Order Form'!$B$5),\"\")","v":""},{"$f":"IF(D339<>\"\",IF('Order Form'!$B$6=\"\",\"\",'Order Form'!$B$6),\"\")","v":""}]
[{"$f":"IF(D340<>\"\",IF('Order Form'!$B$2=\"\",\"\",\"New Jersey\"),\"\")","v":""},{"$f":"IF(D340<>\"\",IF('Order Form'!$B$2=\"\",\"\",'Order Form'!$B$2),\"\")","v":""},{"$f":"IF(D340<>\"\",IF('Order Form'!$B$2=\"\",\"\",'Order Form'!$B$3),\"\")","v":""},{"$f":"IF(_xlfn.XLOOKUP(INDEX('Order Form'!$C:$C,ROW(D340)+9),lists!I:I,lists!C:C,\"\",0,1)=0,\"\",_xlfn.XLOOKUP(INDEX('Order Form'!$C:$C,ROW(D340)+9),lists!I:I,lists!C:C,\"\",0,1))","v":""},{"$f":"IF(INDEX('Order Form'!$D:$D,ROW(D340)+9)>0,INDEX('Order Form'!$D:$D,ROW(D340)+9),\"\")","v":""},{"$f":"IF(INDEX('Order Form'!$E:$E,ROW(E340)+9)>0,INDEX('Order Form'!$E:$E,ROW(E340)+9),\"\")","v":""},{"$f":"IF(D340>\"\",IF('Order Form'!$B$7<>0,'Order Form'!$B$7,\"\"),\"\")","v":""},{"$f":"IF(D340<>\"\",IF('Order Form'!$B$4=\"\",\"\",'Order Form'!$B$4),\"\")","v":""},{"$f":"IF(D340<>\"\",IF('Order Form'!$B$5=\"\",\"\",'Order Form'!$B$5),\"\")","v":""},{"$f":"IF(D340<>\"\",IF('Order Form'!$B$6=\"\",\"\",'Order Form'!$B$6),\"\")","v":""}]
[{"$f":"IF(D341<>\"\",IF('Order Form'!$B$2=\"\",\"\",\"New Jersey\"),\"\")","v":""},{"$f":"IF(D341<>\"\",IF('Order Form'!$B$2=\"\",\"\",'Order Form'!$B$2),\"\")","v":""},{"$f":"IF(D341<>\"\",IF('Order Form'!$B$2=\"\",\"\",'Order Form'!$B$3),\"\")","v":""},{"$f":"IF(_xlfn.XLOOKUP(INDEX('Order Form'!$C:$C,ROW(D341)+9),lists!I:I,lists!C:C,\"\",0,1)=0,\"\",_xlfn.XLOOKUP(INDEX('Order Form'!$C:$C,ROW(D341)+9),lists!I:I,lists!C:C,\"\",0,1))","v":""},{"$f":"IF(INDEX('Order Form'!$D:$D,ROW(D341)+9)>0,INDEX('Order Form'!$D:$D,ROW(D341)+9),\"\")","v":""},{"$f":"IF(INDEX('Order Form'!$E:$E,ROW(E341)+9)>0,INDEX('Order Form'!$E:$E,ROW(E341)+9),\"\")","v":""},{"$f":"IF(D341>\"\",IF('Order Form'!$B$7<>0,'Order Form'!$B$7,\"\"),\"\")","v":""},{"$f":"IF(D341<>\"\",IF('Order Form'!$B$4=\"\",\"\",'Order Form'!$B$4),\"\")","v":""},{"$f":"IF(D341<>\"\",IF('Order Form'!$B$5=\"\",\"\",'Order Form'!$B$5),\"\")","v":""},{"$f":"IF(D341<>\"\",IF('Order Form'!$B$6=\"\",\"\",'Order Form'!$B$6),\"\")","v":""}]
[{"$f":"IF(D342<>\"\",IF('Order Form'!$B$2=\"\",\"\",\"New Jersey\"),\"\")","v":""},{"$f":"IF(D342<>\"\",IF('Order Form'!$B$2=\"\",\"\",'Order Form'!$B$2),\"\")","v":""},{"$f":"IF(D342<>\"\",IF('Order Form'!$B$2=\"\",\"\",'Order Form'!$B$3),\"\")","v":""},{"$f":"IF(_xlfn.XLOOKUP(INDEX('Order Form'!$C:$C,ROW(D342)+9),lists!I:I,lists!C:C,\"\",0,1)=0,\"\",_xlfn.XLOOKUP(INDEX('Order Form'!$C:$C,ROW(D342)+9),lists!I:I,lists!C:C,\"\",0,1))","v":""},{"$f":"IF(INDEX('Order Form'!$D:$D,ROW(D342)+9)>0,INDEX('Order Form'!$D:$D,ROW(D342)+9),\"\")","v":""},{"$f":"IF(INDEX('Order Form'!$E:$E,ROW(E342)+9)>0,INDEX('Order Form'!$E:$E,ROW(E342)+9),\"\")","v":""},{"$f":"IF(D342>\"\",IF('Order Form'!$B$7<>0,'Order Form'!$B$7,\"\"),\"\")","v":""},{"$f":"IF(D342<>\"\",IF('Order Form'!$B$4=\"\",\"\",'Order Form'!$B$4),\"\")","v":""},{"$f":"IF(D342<>\"\",IF('Order Form'!$B$5=\"\",\"\",'Order Form'!$B$5),\"\")","v":""},{"$f":"IF(D342<>\"\",IF('Order Form'!$B$6=\"\",\"\",'Order Form'!$B$6),\"\")","v":""}]
[{"$f":"IF(D343<>\"\",IF('Order Form'!$B$2=\"\",\"\",\"New Jersey\"),\"\")","v":""},{"$f":"IF(D343<>\"\",IF('Order Form'!$B$2=\"\",\"\",'Order Form'!$B$2),\"\")","v":""},{"$f":"IF(D343<>\"\",IF('Order Form'!$B$2=\"\",\"\",'Order Form'!$B$3),\"\")","v":""},{"$f":"IF(_xlfn.XLOOKUP(INDEX('Order Form'!$C:$C,ROW(D343)+9),lists!I:I,lists!C:C,\"\",0,1)=0,\"\",_xlfn.XLOOKUP(INDEX('Order Form'!$C:$C,ROW(D343)+9),lists!I:I,lists!C:C,\"\",0,1))","v":""},{"$f":"IF(INDEX('Order Form'!$D:$D,ROW(D343)+9)>0,INDEX('Order Form'!$D:$D,ROW(D343)+9),\"\")","v":""},{"$f":"IF(INDEX('Order Form'!$E:$E,ROW(E343)+9)>0,INDEX('Order Form'!$E:$E,ROW(E343)+9),\"\")","v":""},{"$f":"IF(D343>\"\",IF('Order Form'!$B$7<>0,'Order Form'!$B$7,\"\"),\"\")","v":""},{"$f":"IF(D343<>\"\",IF('Order Form'!$B$4=\"\",\"\",'Order Form'!$B$4),\"\")","v":""},{"$f":"IF(D343<>\"\",IF('Order Form'!$B$5=\"\",\"\",'Order Form'!$B$5),\"\")","v":""},{"$f":"IF(D343<>\"\",IF('Order Form'!$B$6=\"\",\"\",'Order Form'!$B$6),\"\")","v":""}]
[{"$f":"IF(D344<>\"\",IF('Order Form'!$B$2=\"\",\"\",\"New Jersey\"),\"\")","v":""},{"$f":"IF(D344<>\"\",IF('Order Form'!$B$2=\"\",\"\",'Order Form'!$B$2),\"\")","v":""},{"$f":"IF(D344<>\"\",IF('Order Form'!$B$2=\"\",\"\",'Order Form'!$B$3),\"\")","v":""},{"$f":"IF(_xlfn.XLOOKUP(INDEX('Order Form'!$C:$C,ROW(D344)+9),lists!I:I,lists!C:C,\"\",0,1)=0,\"\",_xlfn.XLOOKUP(INDEX('Order Form'!$C:$C,ROW(D344)+9),lists!I:I,lists!C:C,\"\",0,1))","v":""},{"$f":"IF(INDEX('Order Form'!$D:$D,ROW(D344)+9)>0,INDEX('Order Form'!$D:$D,ROW(D344)+9),\"\")","v":""},{"$f":"IF(INDEX('Order Form'!$E:$E,ROW(E344)+9)>0,INDEX('Order Form'!$E:$E,ROW(E344)+9),\"\")","v":""},{"$f":"IF(D344>\"\",IF('Order Form'!$B$7<>0,'Order Form'!$B$7,\"\"),\"\")","v":""},{"$f":"IF(D344<>\"\",IF('Order Form'!$B$4=\"\",\"\",'Order Form'!$B$4),\"\")","v":""},{"$f":"IF(D344<>\"\",IF('Order Form'!$B$5=\"\",\"\",'Order Form'!$B$5),\"\")","v":""},{"$f":"IF(D344<>\"\",IF('Order Form'!$B$6=\"\",\"\",'Order Form'!$B$6),\"\")","v":""}]
[{"$f":"IF(D345<>\"\",IF('Order Form'!$B$2=\"\",\"\",\"New Jersey\"),\"\")","v":""},{"$f":"IF(D345<>\"\",IF('Order Form'!$B$2=\"\",\"\",'Order Form'!$B$2),\"\")","v":""},{"$f":"IF(D345<>\"\",IF('Order Form'!$B$2=\"\",\"\",'Order Form'!$B$3),\"\")","v":""},{"$f":"IF(_xlfn.XLOOKUP(INDEX('Order Form'!$C:$C,ROW(D345)+9),lists!I:I,lists!C:C,\"\",0,1)=0,\"\",_xlfn.XLOOKUP(INDEX('Order Form'!$C:$C,ROW(D345)+9),lists!I:I,lists!C:C,\"\",0,1))","v":""},{"$f":"IF(INDEX('Order Form'!$D:$D,ROW(D345)+9)>0,INDEX('Order Form'!$D:$D,ROW(D345)+9),\"\")","v":""},{"$f":"IF(INDEX('Order Form'!$E:$E,ROW(E345)+9)>0,INDEX('Order Form'!$E:$E,ROW(E345)+9),\"\")","v":""},{"$f":"IF(D345>\"\",IF('Order Form'!$B$7<>0,'Order Form'!$B$7,\"\"),\"\")","v":""},{"$f":"IF(D345<>\"\",IF('Order Form'!$B$4=\"\",\"\",'Order Form'!$B$4),\"\")","v":""},{"$f":"IF(D345<>\"\",IF('Order Form'!$B$5=\"\",\"\",'Order Form'!$B$5),\"\")","v":""},{"$f":"IF(D345<>\"\",IF('Order Form'!$B$6=\"\",\"\",'Order Form'!$B$6),\"\")","v":""}]
[{"$f":"IF(D346<>\"\",IF('Order Form'!$B$2=\"\",\"\",\"New Jersey\"),\"\")","v":""},{"$f":"IF(D346<>\"\",IF('Order Form'!$B$2=\"\",\"\",'Order Form'!$B$2),\"\")","v":""},{"$f":"IF(D346<>\"\",IF('Order Form'!$B$2=\"\",\"\",'Order Form'!$B$3),\"\")","v":""},{"$f":"IF(_xlfn.XLOOKUP(INDEX('Order Form'!$C:$C,ROW(D346)+9),lists!I:I,lists!C:C,\"\",0,1)=0,\"\",_xlfn.XLOOKUP(INDEX('Order Form'!$C:$C,ROW(D346)+9),lists!I:I,lists!C:C,\"\",0,1))","v":""},{"$f":"IF(INDEX('Order Form'!$D:$D,ROW(D346)+9)>0,INDEX('Order Form'!$D:$D,ROW(D346)+9),\"\")","v":""},{"$f":"IF(INDEX('Order Form'!$E:$E,ROW(E346)+9)>0,INDEX('Order Form'!$E:$E,ROW(E346)+9),\"\")","v":""},{"$f":"IF(D346>\"\",IF('Order Form'!$B$7<>0,'Order Form'!$B$7,\"\"),\"\")","v":""},{"$f":"IF(D346<>\"\",IF('Order Form'!$B$4=\"\",\"\",'Order Form'!$B$4),\"\")","v":""},{"$f":"IF(D346<>\"\",IF('Order Form'!$B$5=\"\",\"\",'Order Form'!$B$5),\"\")","v":""},{"$f":"IF(D346<>\"\",IF('Order Form'!$B$6=\"\",\"\",'Order Form'!$B$6),\"\")","v":""}]
[{"$f":"IF(D347<>\"\",IF('Order Form'!$B$2=\"\",\"\",\"New Jersey\"),\"\")","v":""},{"$f":"IF(D347<>\"\",IF('Order Form'!$B$2=\"\",\"\",'Order Form'!$B$2),\"\")","v":""},{"$f":"IF(D347<>\"\",IF('Order Form'!$B$2=\"\",\"\",'Order Form'!$B$3),\"\")","v":""},{"$f":"IF(_xlfn.XLOOKUP(INDEX('Order Form'!$C:$C,ROW(D347)+9),lists!I:I,lists!C:C,\"\",0,1)=0,\"\",_xlfn.XLOOKUP(INDEX('Order Form'!$C:$C,ROW(D347)+9),lists!I:I,lists!C:C,\"\",0,1))","v":""},{"$f":"IF(INDEX('Order Form'!$D:$D,ROW(D347)+9)>0,INDEX('Order Form'!$D:$D,ROW(D347)+9),\"\")","v":""},{"$f":"IF(INDEX('Order Form'!$E:$E,ROW(E347)+9)>0,INDEX('Order Form'!$E:$E,ROW(E347)+9),\"\")","v":""},{"$f":"IF(D347>\"\",IF('Order Form'!$B$7<>0,'Order Form'!$B$7,\"\"),\"\")","v":""},{"$f":"IF(D347<>\"\",IF('Order Form'!$B$4=\"\",\"\",'Order Form'!$B$4),\"\")","v":""},{"$f":"IF(D347<>\"\",IF('Order Form'!$B$5=\"\",\"\",'Order Form'!$B$5),\"\")","v":""},{"$f":"IF(D347<>\"\",IF('Order Form'!$B$6=\"\",\"\",'Order Form'!$B$6),\"\")","v":""}]

{"sheet":"lists","index":3,"n_rows":148,"n_cols":23,"rows_kept":148,"cut":false,"hidden":true,"merged":[]}
["STYLE CODE","CABINET SIZE","ITEM CODE","ITEM TYPE","DESCRIPTION","HINGE","GLIDE","UNIT PRICE","ITEM CODE DESC","Cubic Feet",null,"STYLE NAME","STYLE SHORT NAME","STYLE CODE","series",null,null,null,null,null,null,null,"hello"]
["SAMPLE","SBF13.5","C4-SBF13.5","SAMPLE DOOR","COUNTRY OAK - SAMPLE BASE FRONT",0,0,25,{"$f":"tblItemHidden[[#This Row],[CABINET SIZE]]&\" - \"&tblItemHidden[[#This Row],[DESCRIPTION]]","v":"SBF13.5 - COUNTRY OAK - SAMPLE BASE FRONT"},0.12760416999999999,null,"SAMPLE","SAMPLE","SAMPLE"]
["SAMPLE","SD11X14","C4-SD11X14","SAMPLE DOOR","COUNTRY OAK - SAMPLE DOOR",0,0,18,{"$f":"tblItemHidden[[#This Row],[CABINET SIZE]]&\" - \"&tblItemHidden[[#This Row],[DESCRIPTION]]","v":"SD11X14 - COUNTRY OAK - SAMPLE DOOR"},6.6840280000000002E-2]
["SAMPLE","SBF13.5","D03-SBF13.5","SAMPLE DOOR","DOVER MISTY GREY - SAMPLE BASE FRONT",0,0,21,{"$f":"tblItemHidden[[#This Row],[CABINET SIZE]]&\" - \"&tblItemHidden[[#This Row],[DESCRIPTION]]","v":"SBF13.5 - DOVER MISTY GREY - SAMPLE BASE FRONT"},0.12760416999999999]
["SAMPLE","SD11X14","D03-SD11X14","SAMPLE DOOR","DOVER MISTY GREY - SAMPLE DOOR",0,0,18,{"$f":"tblItemHidden[[#This Row],[CABINET SIZE]]&\" - \"&tblItemHidden[[#This Row],[DESCRIPTION]]","v":"SD11X14 - DOVER MISTY GREY - SAMPLE DOOR"},6.6840280000000002E-2]
["SAMPLE","SBF13.5","D10-SBF13.5","SAMPLE DOOR","DOVER WHITE - SAMPLE BASE FRONT",0,0,21,{"$f":"tblItemHidden[[#This Row],[CABINET SIZE]]&\" - \"&tblItemHidden[[#This Row],[DESCRIPTION]]","v":"SBF13.5 - DOVER WHITE - SAMPLE BASE FRONT"},0.12760416999999999]
["SAMPLE","SD11X14","D10-SD11X14","SAMPLE DOOR","DOVER WHITE - SAMPLE DOOR",0,0,18,{"$f":"tblItemHidden[[#This Row],[CABINET SIZE]]&\" - \"&tblItemHidden[[#This Row],[DESCRIPTION]]","v":"SD11X14 - DOVER WHITE - SAMPLE DOOR"},6.6840280000000002E-2]
["SAMPLE","SBF13.5","EB02-SBF13.5","SAMPLE DOOR","ELEGANT SMOKY GREY - SAMPLE BASE FRONT",0,0,25,{"$f":"tblItemHidden[[#This Row],[CABINET SIZE]]&\" - \"&tblItemHidden[[#This Row],[DESCRIPTION]]","v":"SBF13.5 - ELEGANT SMOKY GREY - SAMPLE BASE FRONT"},0.12760416999999999]
["SAMPLE","SD11X14","EB02-SD11X14","SAMPLE DOOR","ELEGANT SMOKY GREY - SAMPLE DOOR",0,0,18,{"$f":"tblItemHidden[[#This Row],[CABINET SIZE]]&\" - \"&tblItemHidden[[#This Row],[DESCRIPTION]]","v":"SD11X14 - ELEGANT SMOKY GREY - SAMPLE DOOR"},6.6840280000000002E-2]
["SAMPLE","SD5X7","EB02-SD5X7","SAMPLE DOOR","ELEGANT SMOKY GREY - SAMPLE DOOR 5X7",0,0,10,{"$f":"tblItemHidden[[#This Row],[CABINET SIZE]]&\" - \"&tblItemHidden[[#This Row],[DESCRIPTION]]","v":"SD5X7 - ELEGANT SMOKY GREY - SAMPLE DOOR 5X7"},9.6498840000000002E-2]
["SAMPLE","SBF13.5","EB10-SBF13.5","SAMPLE DOOR","ELEGANT WHITE - SAMPLE BASE FRONT",0,0,25,{"$f":"tblItemHidden[[#This Row],[CABINET SIZE]]&\" - \"&tblItemHidden[[#This Row],[DESCRIPTION]]","v":"SBF13.5 - ELEGANT WHITE - SAMPLE BASE FRONT"},0.12760416999999999]
["SAMPLE","SD11X14","EB10-SD11X14","SAMPLE DOOR","ELEGANT WHITE - SAMPLE DOOR",0,0,18,{"$f":"tblItemHidden[[#This Row],[CABINET SIZE]]&\" - \"&tblItemHidden[[#This Row],[DESCRIPTION]]","v":"SD11X14 - ELEGANT WHITE - SAMPLE DOOR"},6.6840280000000002E-2]
["SAMPLE","SD5X7","EB10-SD5X7","SAMPLE DOOR","ELEGANT WHITE - SAMPLE DOOR 5X7",0,0,10,{"$f":"tblItemHidden[[#This Row],[CABINET SIZE]]&\" - \"&tblItemHidden[[#This Row],[DESCRIPTION]]","v":"SD5X7 - ELEGANT WHITE - SAMPLE DOOR 5X7"},9.6498840000000002E-2]
["SAMPLE","SBF13.5","EB22-SBF13.5","SAMPLE DOOR","ELEGANT DOVE - SAMPLE BASE FRONT",0,0,25,{"$f":"tblItemHidden[[#This Row],[CABINET SIZE]]&\" - \"&tblItemHidden[[#This Row],[DESCRIPTION]]","v":"SBF13.5 - ELEGANT DOVE - SAMPLE BASE FRONT"},0.12760416999999999]
["SAMPLE","SD11X14","EB22-SD11X14","SAMPLE DOOR","ELEGANT DOVE - SAMPLE DOOR",0,0,18,{"$f":"tblItemHidden[[#This Row],[CABINET SIZE]]&\" - \"&tblItemHidden[[#This Row],[DESCRIPTION]]","v":"SD11X14 - ELEGANT DOVE - SAMPLE DOOR"},6.6840280000000002E-2]
["SAMPLE","SD5X7","EB22-SD5X7","SAMPLE DOOR","ELEGANT DOVE - SAMPLE DOOR 5X7",0,0,10,{"$f":"tblItemHidden[[#This Row],[CABINET SIZE]]&\" - \"&tblItemHidden[[#This Row],[DESCRIPTION]]","v":"SD5X7 - ELEGANT DOVE - SAMPLE DOOR 5X7"},9.6498840000000002E-2]
["SAMPLE","SBF13.5","EB23-SBF13.5","SAMPLE DOOR","ELEGANT STONE - SAMPLE BASE FRONT",0,0,25,{"$f":"tblItemHidden[[#This Row],[CABINET SIZE]]&\" - \"&tblItemHidden[[#This Row],[DESCRIPTION]]","v":"SBF13.5 - ELEGANT STONE - SAMPLE BASE FRONT"},0.12760416999999999]
["SAMPLE","SD11X14","EB23-SD11X14","SAMPLE DOOR","ELEGANT STONE - SAMPLE DOOR",0,0,18,{"$f":"tblItemHidden[[#This Row],[CABINET SIZE]]&\" - \"&tblItemHidden[[#This Row],[DESCRIPTION]]","v":"SD11X14 - ELEGANT STONE - SAMPLE DOOR"},6.6840280000000002E-2]
["SAMPLE","SD5X7","EB23-SD5X7","SAMPLE DOOR","ELEGANT STONE - SAMPLE DOOR 5X7",0,0,10,{"$f":"tblItemHidden[[#This Row],[CABINET SIZE]]&\" - \"&tblItemHidden[[#This Row],[DESCRIPTION]]","v":"SD5X7 - ELEGANT STONE - SAMPLE DOOR 5X7"},9.6498840000000002E-2]
["SAMPLE","SBF13.5","EB27-SBF13.5","SAMPLE DOOR","ELEGANT OCEAN - SAMPLE BASE FRONT",0,0,25,{"$f":"tblItemHidden[[#This Row],[CABINET SIZE]]&\" - \"&tblItemHidden[[#This Row],[DESCRIPTION]]","v":"SBF13.5 - ELEGANT OCEAN - SAMPLE BASE FRONT"},0.12760416999999999]
["SAMPLE","SD11X14","EB27-SD11X14","SAMPLE DOOR","ELEGANT OCEAN - SAMPLE DOOR",0,0,18,{"$f":"tblItemHidden[[#This Row],[CABINET SIZE]]&\" - \"&tblItemHidden[[#This Row],[DESCRIPTION]]","v":"SD11X14 - ELEGANT OCEAN - SAMPLE DOOR"},6.6840280000000002E-2]
["SAMPLE","SD5X7","EB27-SD5X7","SAMPLE DOOR","ELEGANT OCEAN - SAMPLE DOOR 5X7",0,0,10,{"$f":"tblItemHidden[[#This Row],[CABINET SIZE]]&\" - \"&tblItemHidden[[#This Row],[DESCRIPTION]]","v":"SD5X7 - ELEGANT OCEAN - SAMPLE DOOR 5X7"},1.671007E-2]
["SAMPLE","SBF13.5","EBP-SBF13.5","SAMPLE DOOR","ELEGANT PLUS - SAMPLE BASE FRONT",0,0,30,{"$f":"tblItemHidden[[#This Row],[CABINET SIZE]]&\" - \"&tblItemHidden[[#This Row],[DESCRIPTION]]","v":"SBF13.5 - ELEGANT PLUS - SAMPLE BASE FRONT"},0.12760416999999999]
["SAMPLE","SD11X14","EBP-SD11X14","SAMPLE DOOR","ELEGANT PLUS - SAMPLE DOOR",0,0,22,{"$f":"tblItemHidden[[#This Row],[CABINET SIZE]]&\" - \"&tblItemHidden[[#This Row],[DESCRIPTION]]","v":"SD11X14 - ELEGANT PLUS - SAMPLE DOOR"},6.6840280000000002E-2]
["SAMPLE","SD5X7","EBP-SD5X7","SAMPLE DOOR","ELEGANT PLUS - SAMPLE DOOR 5X7",0,0,12,{"$f":"tblItemHidden[[#This Row],[CABINET SIZE]]&\" - \"&tblItemHidden[[#This Row],[DESCRIPTION]]","v":"SD5X7 - ELEGANT PLUS - SAMPLE DOOR 5X7"},1.671007E-2]
["SAMPLE","SD5X7","EBU27-SD5X7","SAMPLE DOOR","RTA - ELEGANT OCEAN - SAMPLE DOOR 5X7",0,0,8,{"$f":"tblItemHidden[[#This Row],[CABINET SIZE]]&\" - \"&tblItemHidden[[#This Row],[DESCRIPTION]]","v":"SD5X7 - RTA - ELEGANT OCEAN - SAMPLE DOOR 5X7"},9.6498840000000002E-2]
["SAMPLE","SBF13.5","FB10-SBF13.5","SAMPLE DOOR","FASHION WHITE  - SAMPLE BASE FRONT",0,0,25,{"$f":"tblItemHidden[[#This Row],[CABINET SIZE]]&\" - \"&tblItemHidden[[#This Row],[DESCRIPTION]]","v":"SBF13.5 - FASHION WHITE  - SAMPLE BASE FRONT"},0.12760416999999999]
["SAMPLE","SD11X14","FB10-SD11X14","SAMPLE DOOR","FASHION WHITE  - SAMPLE DOOR",0,0,18,{"$f":"tblItemHidden[[#This Row],[CABINET SIZE]]&\" - \"&tblItemHidden[[#This Row],[DESCRIPTION]]","v":"SD11X14 - FASHION WHITE  - SAMPLE DOOR"},6.6840280000000002E-2]
["SAMPLE","SD5X7","FB10-SD5X7","SAMPLE DOOR","FASHION WHITE - SAMPLE DOOR 5X7",0,0,8,{"$f":"tblItemHidden[[#This Row],[CABINET SIZE]]&\" - \"&tblItemHidden[[#This Row],[DESCRIPTION]]","v":"SD5X7 - FASHION WHITE - SAMPLE DOOR 5X7"},9.6498840000000002E-2]
["SAMPLE","SBF13.5","FB27-SBF13.5","SAMPLE DOOR","FASHION OCEAN - SAMPLE BASE FRONT",0,0,25,{"$f":"tblItemHidden[[#This Row],[CABINET SIZE]]&\" - \"&tblItemHidden[[#This Row],[DESCRIPTION]]","v":"SBF13.5 - FASHION OCEAN - SAMPLE BASE FRONT"},0.12760416999999999]
["SAMPLE","SD11X14","FB27-SD11X14","SAMPLE DOOR","FASHION OCEAN - SAMPLE DOOR",0,0,18,{"$f":"tblItemHidden[[#This Row],[CABINET SIZE]]&\" - \"&tblItemHidden[[#This Row],[DESCRIPTION]]","v":"SD11X14 - FASHION OCEAN - SAMPLE DOOR"},6.6840280000000002E-2]
["SAMPLE","SD5X7","FB27-SD5X7","SAMPLE DOOR","FASHION OCEAN - SAMPLE DOOR 5X7",0,0,8,{"$f":"tblItemHidden[[#This Row],[CABINET SIZE]]&\" - \"&tblItemHidden[[#This Row],[DESCRIPTION]]","v":"SD5X7 - FASHION OCEAN - SAMPLE DOOR 5X7"},1.671007E-2]
["SAMPLE","SBF13.5","FBP-SBF13.5","SAMPLE DOOR","FASHION PLUS - SAMPLE BASE FRONT",0,0,30,{"$f":"tblItemHidden[[#This Row],[CABINET SIZE]]&\" - \"&tblItemHidden[[#This Row],[DESCRIPTION]]","v":"SBF13.5 - FASHION PLUS - SAMPLE BASE FRONT"},0.12760416999999999]
["SAMPLE","SD11X14","FBP-SD11X14","SAMPLE DOOR","FASHION PLUS - SAMPLE DOOR",0,0,22,{"$f":"tblItemHidden[[#This Row],[CABINET SIZE]]&\" - \"&tblItemHidden[[#This Row],[DESCRIPTION]]","v":"SD11X14 - FASHION PLUS - SAMPLE DOOR"},6.6840280000000002E-2]
["SAMPLE","SD5X7","FBP-SD5X7","SAMPLE DOOR","FASHION PLUS - SAMPLE DOOR 5X7",0,0,12,{"$f":"tblItemHidden[[#This Row],[CABINET SIZE]]&\" - \"&tblItemHidden[[#This Row],[DESCRIPTION]]","v":"SD5X7 - FASHION PLUS - SAMPLE DOOR 5X7"},1.671007E-2]
["SAMPLE","SD5X7","FBU27-SD5X7","SAMPLE DOOR","RTA - FASHION OCEAN - SAMPLE DOOR 5X7",0,0,8,{"$f":"tblItemHidden[[#This Row],[CABINET SIZE]]&\" - \"&tblItemHidden[[#This Row],[DESCRIPTION]]","v":"SD5X7 - RTA - FASHION OCEAN - SAMPLE DOOR 5X7"},9.6498840000000002E-2]
["SAMPLE","SBF13.5","HW10-SBF13.5","SAMPLE DOOR","HIGHLAND WHITE - SAMPLE BASE FRONT",0,0,25,{"$f":"tblItemHidden[[#This Row],[CABINET SIZE]]&\" - \"&tblItemHidden[[#This Row],[DESCRIPTION]]","v":"SBF13.5 - HIGHLAND WHITE - SAMPLE BASE FRONT"},0.12760416999999999]
["SAMPLE","SD11X14","HW10-SD11X14","SAMPLE DOOR","HIGHLAND WHITE - SAMPLE DOOR",0,0,18,{"$f":"tblItemHidden[[#This Row],[CABINET SIZE]]&\" - \"&tblItemHidden[[#This Row],[DESCRIPTION]]","v":"SD11X14 - HIGHLAND WHITE - SAMPLE DOOR"},6.6840280000000002E-2]
["SAMPLE","SBF13.5","L02-SBF13.5","SAMPLE DOOR","LUXOR SMOKY GREY - SAMPLE BASE FRONT",0,0,25,{"$f":"tblItemHidden[[#This Row],[CABINET SIZE]]&\" - \"&tblItemHidden[[#This Row],[DESCRIPTION]]","v":"SBF13.5 - LUXOR SMOKY GREY - SAMPLE BASE FRONT"},0.12760416999999999]
["SAMPLE","SD11X14","L02-SD11X14","SAMPLE DOOR","LUXOR SMOKY GREY - SAMPLE DOOR",0,0,18,{"$f":"tblItemHidden[[#This Row],[CABINET SIZE]]&\" - \"&tblItemHidden[[#This Row],[DESCRIPTION]]","v":"SD11X14 - LUXOR SMOKY GREY - SAMPLE DOOR"},6.6840280000000002E-2]
["SAMPLE","SD5X7","L02-SD5X7","SAMPLE DOOR","LUXOR SMOKY GREY - SAMPLE DOOR 5X7",0,0,10,{"$f":"tblItemHidden[[#This Row],[CABINET SIZE]]&\" - \"&tblItemHidden[[#This Row],[DESCRIPTION]]","v":"SD5X7 - LUXOR SMOKY GREY - SAMPLE DOOR 5X7"},9.6498840000000002E-2]
["SAMPLE","SDRB11X14","L02-SDRB11X14","SAMPLE DOOR","LUXOR SMOKY GREY - SAMPLE DOOR RELIABILT",0,0,110,{"$f":"tblItemHidden[[#This Row],[CABINET SIZE]]&\" - \"&tblItemHidden[[#This Row],[DESCRIPTION]]","v":"SDRB11X14 - LUXOR SMOKY GREY - SAMPLE DOOR RELIABILT"},6.6840280000000002E-2]
["SAMPLE","SBF13.5","L03-SBF13.5","SAMPLE DOOR","LUXOR MISTY GREY - SAMPLE BASE FRONT",0,0,25,{"$f":"tblItemHidden[[#This Row],[CABINET SIZE]]&\" - \"&tblItemHidden[[#This Row],[DESCRIPTION]]","v":"SBF13.5 - LUXOR MISTY GREY - SAMPLE BASE FRONT"},0.12760416999999999]
["SAMPLE","SD11X14","L03-SD11X14","SAMPLE DOOR","LUXOR MISTY GREY - SAMPLE DOOR",0,0,18,{"$f":"tblItemHidden[[#This Row],[CABINET SIZE]]&\" - \"&tblItemHidden[[#This Row],[DESCRIPTION]]","v":"SD11X14 - LUXOR MISTY GREY - SAMPLE DOOR"},6.6840280000000002E-2]
["SAMPLE","SD5X7","L03-SD5X7","SAMPLE DOOR","LUXOR MISTY GREY - SAMPLE DOOR 5X7",0,0,10,{"$f":"tblItemHidden[[#This Row],[CABINET SIZE]]&\" - \"&tblItemHidden[[#This Row],[DESCRIPTION]]","v":"SD5X7 - LUXOR MISTY GREY - SAMPLE DOOR 5X7"},9.6498840000000002E-2]
["SAMPLE","SDRB11X14","L03-SDRB11X14","SAMPLE DOOR","LUXOR MISTY GREY - SAMPLE DOOR RELIABILT",0,0,110,{"$f":"tblItemHidden[[#This Row],[CABINET SIZE]]&\" - \"&tblItemHidden[[#This Row],[DESCRIPTION]]","v":"SDRB11X14 - LUXOR MISTY GREY - SAMPLE DOOR RELIABILT"},6.6840280000000002E-2]
["SAMPLE","SBF13.5","L05-SBF13.5","SAMPLE DOOR","LUXOR HARVEST - SAMPLE BASE FRONT",0,0,25,{"$f":"tblItemHidden[[#This Row],[CABINET SIZE]]&\" - \"&tblItemHidden[[#This Row],[DESCRIPTION]]","v":"SBF13.5 - LUXOR HARVEST - SAMPLE BASE FRONT"},0.12760416999999999]
["SAMPLE","SD11X14","L05-SD11X14","SAMPLE DOOR","LUXOR HARVEST - SAMPLE DOOR",0,0,18,{"$f":"tblItemHidden[[#This Row],[CABINET SIZE]]&\" - \"&tblItemHidden[[#This Row],[DESCRIPTION]]","v":"SD11X14 - LUXOR HARVEST - SAMPLE DOOR"},6.6840280000000002E-2]
["SAMPLE","SD5X7","L05-SD5X7","SAMPLE DOOR","LUXOR HARVEST - SAMPLE DOOR 5X7",0,0,10,{"$f":"tblItemHidden[[#This Row],[CABINET SIZE]]&\" - \"&tblItemHidden[[#This Row],[DESCRIPTION]]","v":"SD5X7 - LUXOR HARVEST - SAMPLE DOOR 5X7"},1.671007E-2]
["SAMPLE","SDRB11X14","L05-SDRB11X14","SAMPLE DOOR","LUXOR HARVEST - SAMPLE DOOR RELIABILT",0,0,110,{"$f":"tblItemHidden[[#This Row],[CABINET SIZE]]&\" - \"&tblItemHidden[[#This Row],[DESCRIPTION]]","v":"SDRB11X14 - LUXOR HARVEST - SAMPLE DOOR RELIABILT"},6.6840280000000002E-2]
["SAMPLE","SBF13.5","L10-SBF13.5","SAMPLE DOOR","LUXOR WHITE - SAMPLE BASE FRONT",0,0,25,{"$f":"tblItemHidden[[#This Row],[CABINET SIZE]]&\" - \"&tblItemHidden[[#This Row],[DESCRIPTION]]","v":"SBF13.5 - LUXOR WHITE - SAMPLE BASE FRONT"},0.12760416999999999]
["SAMPLE","SD11X14","L10-SD11X14","SAMPLE DOOR","LUXOR WHITE - SAMPLE DOOR",0,0,18,{"$f":"tblItemHidden[[#This Row],[CABINET SIZE]]&\" - \"&tblItemHidden[[#This Row],[DESCRIPTION]]","v":"SD11X14 - LUXOR WHITE - SAMPLE DOOR"},6.6840280000000002E-2]
["SAMPLE","SD5X7","L10-SD5X7","SAMPLE DOOR","LUXOR WHITE - SAMPLE DOOR 5X7",0,0,10,{"$f":"tblItemHidden[[#This Row],[CABINET SIZE]]&\" - \"&tblItemHidden[[#This Row],[DESCRIPTION]]","v":"SD5X7 - LUXOR WHITE - SAMPLE DOOR 5X7"},9.6498840000000002E-2]
["SAMPLE","SDRB11X14","L10-SDRB11X14","SAMPLE DOOR","LUXOR WHITE - SAMPLE DOOR RELIABILT",0,0,110,{"$f":"tblItemHidden[[#This Row],[CABINET SIZE]]&\" - \"&tblItemHidden[[#This Row],[DESCRIPTION]]","v":"SDRB11X14 - LUXOR WHITE - SAMPLE DOOR RELIABILT"},6.6840280000000002E-2]
["SAMPLE","SBF13.5","L11-SBF13.5","SAMPLE DOOR","LUXOR ESPRESSO - SAMPLE BASE FRONT",0,0,25,{"$f":"tblItemHidden[[#This Row],[CABINET SIZE]]&\" - \"&tblItemHidden[[#This Row],[DESCRIPTION]]","v":"SBF13.5 - LUXOR ESPRESSO - SAMPLE BASE FRONT"},0.12760416999999999]
["SAMPLE","SD11X14","L11-SD11X14","SAMPLE DOOR","LUXOR ESPRESSO - SAMPLE DOOR",0,0,18,{"$f":"tblItemHidden[[#This Row],[CABINET SIZE]]&\" - \"&tblItemHidden[[#This Row],[DESCRIPTION]]","v":"SD11X14 - LUXOR ESPRESSO - SAMPLE DOOR"},6.6840280000000002E-2]
["SAMPLE","SD5X7","L11-SD5X7","SAMPLE DOOR","LUXOR ESPRESSO - SAMPLE DOOR 5X7",0,0,10,{"$f":"tblItemHidden[[#This Row],[CABINET SIZE]]&\" - \"&tblItemHidden[[#This Row],[DESCRIPTION]]","v":"SD5X7 - LUXOR ESPRESSO - SAMPLE DOOR 5X7"},9.6498840000000002E-2]
["SAMPLE","SDRB11X14","L11-SDRB11X14","SAMPLE DOOR","LUXOR ESPRESSO - SAMPLE DOOR RELIABILT",0,0,110,{"$f":"tblItemHidden[[#This Row],[CABINET SIZE]]&\" - \"&tblItemHidden[[#This Row],[DESCRIPTION]]","v":"SDRB11X14 - LUXOR ESPRESSO - SAMPLE DOOR RELIABILT"},6.6840280000000002E-2]
["SAMPLE","SBF13.5","MM18-SBF13.5","SAMPLE DOOR","MATRIX SILVER - SAMPLE BASE FRONT",0,0,25,{"$f":"tblItemHidden[[#This Row],[CABINET SIZE]]&\" - \"&tblItemHidden[[#This Row],[DESCRIPTION]]","v":"SBF13.5 - MATRIX SILVER - SAMPLE BASE FRONT"},0.12760416999999999]
["SAMPLE","SD11X14","MM18-SD11X14","SAMPLE DOOR","MATRIX SILVER - SAMPLE DOOR",0,0,18,{"$f":"tblItemHidden[[#This Row],[CABINET SIZE]]&\" - \"&tblItemHidden[[#This Row],[DESCRIPTION]]","v":"SD11X14 - MATRIX SILVER - SAMPLE DOOR"},6.6840280000000002E-2]
["SAMPLE","SBF13.5","MM19-SBF13.5","SAMPLE DOOR","MATRIX GREYSTONE - SAMPLE BASE FRONT",0,0,25,{"$f":"tblItemHidden[[#This Row],[CABINET SIZE]]&\" - \"&tblItemHidden[[#This Row],[DESCRIPTION]]","v":"SBF13.5 - MATRIX GREYSTONE - SAMPLE BASE FRONT"},0.12760416999999999]
["SAMPLE","SD11X14","MM19-SD11X14","SAMPLE DOOR","MATRIX GREYSTONE - SAMPLE DOOR",0,0,18,{"$f":"tblItemHidden[[#This Row],[CABINET SIZE]]&\" - \"&tblItemHidden[[#This Row],[DESCRIPTION]]","v":"SD11X14 - MATRIX GREYSTONE - SAMPLE DOOR"},6.6840280000000002E-2]
["SAMPLE","SBF13.5","MM40-SBF13.5","SAMPLE DOOR","MILANO POLAR WHITE - SAMPLE BASE FRONT",0,0,25,{"$f":"tblItemHidden[[#This Row],[CABINET SIZE]]&\" - \"&tblItemHidden[[#This Row],[DESCRIPTION]]","v":"SBF13.5 - MILANO POLAR WHITE - SAMPLE BASE FRONT"},0.12760416999999999]
["SAMPLE","SD11X14","MM40-SD11X14","SAMPLE DOOR","MILANO POLAR WHITE - SAMPLE DOOR",0,0,18,{"$f":"tblItemHidden[[#This Row],[CABINET SIZE]]&\" - \"&tblItemHidden[[#This Row],[DESCRIPTION]]","v":"SD11X14 - MILANO POLAR WHITE - SAMPLE DOOR"},6.6840280000000002E-2]
["SAMPLE","SBF13.5","MM41-SBF13.5","SAMPLE DOOR","MILANO FOSSIL GREY - SAMPLE BASE FRONT",0,0,25,{"$f":"tblItemHidden[[#This Row],[CABINET SIZE]]&\" - \"&tblItemHidden[[#This Row],[DESCRIPTION]]","v":"SBF13.5 - MILANO FOSSIL GREY - SAMPLE BASE FRONT"},0.12760416999999999]
["SAMPLE","SD11X14","MM41-SD11X14","SAMPLE DOOR","MILANO FOSSIL GREY - SAMPLE DOOR",0,0,18,{"$f":"tblItemHidden[[#This Row],[CABINET SIZE]]&\" - \"&tblItemHidden[[#This Row],[DESCRIPTION]]","v":"SD11X14 - MILANO FOSSIL GREY - SAMPLE DOOR"},6.6840280000000002E-2]
["SAMPLE","SBF13.5","MM42-SBF13.5","SAMPLE DOOR","MILANO SAND - SAMPLE BASE FRONT",0,0,25,{"$f":"tblItemHidden[[#This Row],[CABINET SIZE]]&\" - \"&tblItemHidden[[#This Row],[DESCRIPTION]]","v":"SBF13.5 - MILANO SAND - SAMPLE BASE FRONT"},0.12760416999999999]
["SAMPLE","SD11X14","MM42-SD11X14","SAMPLE DOOR","MILANO SAND - SAMPLE DOOR",0,0,18,{"$f":"tblItemHidden[[#This Row],[CABINET SIZE]]&\" - \"&tblItemHidden[[#This Row],[DESCRIPTION]]","v":"SD11X14 - MILANO SAND - SAMPLE DOOR"},6.6840280000000002E-2]
["SAMPLE","SBF13.5","MM43-SBF13.5","SAMPLE DOOR","MILANO SEASIDE  - SAMPLE BASE FRONT",0,0,25,{"$f":"tblItemHidden[[#This Row],[CABINET SIZE]]&\" - \"&tblItemHidden[[#This Row],[DESCRIPTION]]","v":"SBF13.5 - MILANO SEASIDE  - SAMPLE BASE FRONT"},0.12760416999999999]
["SAMPLE","SD11X14","MM43-SD11X14","SAMPLE DOOR","MILANO SEASIDE  - SAMPLE DOOR",0,0,18,{"$f":"tblItemHidden[[#This Row],[CABINET SIZE]]&\" - \"&tblItemHidden[[#This Row],[DESCRIPTION]]","v":"SD11X14 - MILANO SEASIDE  - SAMPLE DOOR"},6.6840280000000002E-2]
["SAMPLE","SBF13.5","MM44-SBF13.5","SAMPLE DOOR","MILANO PINE - SAMPLE BASE FRONT",0,0,25,{"$f":"tblItemHidden[[#This Row],[CABINET SIZE]]&\" - \"&tblItemHidden[[#This Row],[DESCRIPTION]]","v":"SBF13.5 - MILANO PINE - SAMPLE BASE FRONT"},0.12760416999999999]
["SAMPLE","SD11X14","MM44-SD11X14","SAMPLE DOOR","MILANO PINE - SAMPLE DOOR",0,0,18,{"$f":"tblItemHidden[[#This Row],[CABINET SIZE]]&\" - \"&tblItemHidden[[#This Row],[DESCRIPTION]]","v":"SD11X14 - MILANO PINE - SAMPLE DOOR"},6.6840280000000002E-2]
["SAMPLE","SBF13.5","MM45-SBF13.5","SAMPLE DOOR","MILANO SNOW - SAMPLE BASE FRONT",0,0,25,{"$f":"tblItemHidden[[#This Row],[CABINET SIZE]]&\" - \"&tblItemHidden[[#This Row],[DESCRIPTION]]","v":"SBF13.5 - MILANO SNOW - SAMPLE BASE FRONT"},0.12760416999999999]
["SAMPLE","SD11X14","MM45-SD11X14","SAMPLE DOOR","MILANO SNOW - SAMPLE DOOR",0,0,18,{"$f":"tblItemHidden[[#This Row],[CABINET SIZE]]&\" - \"&tblItemHidden[[#This Row],[DESCRIPTION]]","v":"SD11X14 - MILANO SNOW - SAMPLE DOOR"},6.6840280000000002E-2]
["SAMPLE","SBF13.5","MM60-SBF13.5","SAMPLE DOOR","MATRIX ALMOND - SAMPLE BASE FRONT",0,0,25,{"$f":"tblItemHidden[[#This Row],[CABINET SIZE]]&\" - \"&tblItemHidden[[#This Row],[DESCRIPTION]]","v":"SBF13.5 - MATRIX ALMOND - SAMPLE BASE FRONT"},0.12760416999999999]
["SAMPLE","SD11X14","MM60-SD11X14","SAMPLE DOOR","MATRIX ALMOND - SAMPLE DOOR",0,0,18,{"$f":"tblItemHidden[[#This Row],[CABINET SIZE]]&\" - \"&tblItemHidden[[#This Row],[DESCRIPTION]]","v":"SD11X14 - MATRIX ALMOND - SAMPLE DOOR"},6.6840280000000002E-2]
["SAMPLE","SBF13.5","MM61-SBF13.5","SAMPLE DOOR","MATRIX CHESTNUT - SAMPLE BASE FRONT",0,0,25,{"$f":"tblItemHidden[[#This Row],[CABINET SIZE]]&\" - \"&tblItemHidden[[#This Row],[DESCRIPTION]]","v":"SBF13.5 - MATRIX CHESTNUT - SAMPLE BASE FRONT"},0.12760416999999999]
["SAMPLE","SD11X14","MM61-SD11X14","SAMPLE DOOR","MATRIX CHESTNUT - SAMPLE DOOR",0,0,18,{"$f":"tblItemHidden[[#This Row],[CABINET SIZE]]&\" - \"&tblItemHidden[[#This Row],[DESCRIPTION]]","v":"SD11X14 - MATRIX CHESTNUT - SAMPLE DOOR"},6.6840280000000002E-2]
["SAMPLE","SBF13.5","MW18-SBF13.5","SAMPLE DOOR","MATRIX SILVER - SAMPLE BASE FRONT",0,0,25,{"$f":"tblItemHidden[[#This Row],[CABINET SIZE]]&\" - \"&tblItemHidden[[#This Row],[DESCRIPTION]]","v":"SBF13.5 - MATRIX SILVER - SAMPLE BASE FRONT"},0.12760416999999999]
["SAMPLE","SD11X14","MW18-SD11X14","SAMPLE DOOR","MATRIX SILVER - SAMPLE DOOR",0,0,18,{"$f":"tblItemHidden[[#This Row],[CABINET SIZE]]&\" - \"&tblItemHidden[[#This Row],[DESCRIPTION]]","v":"SD11X14 - MATRIX SILVER - SAMPLE DOOR"},6.6840280000000002E-2]
["SAMPLE","SBF13.5","MW19-SBF13.5","SAMPLE DOOR","MATRIX GREYSTONE - SAMPLE BASE FRONT",0,0,25,{"$f":"tblItemHidden[[#This Row],[CABINET SIZE]]&\" - \"&tblItemHidden[[#This Row],[DESCRIPTION]]","v":"SBF13.5 - MATRIX GREYSTONE - SAMPLE BASE FRONT"},0.12760416999999999]
["SAMPLE","SD11X14","MW19-SD11X14","SAMPLE DOOR","MATRIX GREYSTONE - SAMPLE DOOR",0,0,18,{"$f":"tblItemHidden[[#This Row],[CABINET SIZE]]&\" - \"&tblItemHidden[[#This Row],[DESCRIPTION]]","v":"SD11X14 - MATRIX GREYSTONE - SAMPLE DOOR"},6.6840280000000002E-2]
["SAMPLE","SBF13.5","MW40-SBF13.5","SAMPLE DOOR","MILANO POLAR WHITE - SAMPLE BASE FRONT",0,0,25,{"$f":"tblItemHidden[[#This Row],[CABINET SIZE]]&\" - \"&tblItemHidden[[#This Row],[DESCRIPTION]]","v":"SBF13.5 - MILANO POLAR WHITE - SAMPLE BASE FRONT"},0.12760416999999999]
["SAMPLE","SD11X14","MW40-SD11X14","SAMPLE DOOR","MILANO POLAR WHITE - SAMPLE DOOR",0,0,18,{"$f":"tblItemHidden[[#This Row],[CABINET SIZE]]&\" - \"&tblItemHidden[[#This Row],[DESCRIPTION]]","v":"SD11X14 - MILANO POLAR WHITE - SAMPLE DOOR"},6.6840280000000002E-2]
["SAMPLE","SBF13.5","MW41-SBF13.5","SAMPLE DOOR","MILANO FOSSIL GREY - SAMPLE BASE FRONT",0,0,25,{"$f":"tblItemHidden[[#This Row],[CABINET SIZE]]&\" - \"&tblItemHidden[[#This Row],[DESCRIPTION]]","v":"SBF13.5 - MILANO FOSSIL GREY - SAMPLE BASE FRONT"},0.12760416999999999]
["SAMPLE","SD11X14","MW41-SD11X14","SAMPLE DOOR","MILANO FOSSIL GREY - SAMPLE DOOR",0,0,18,{"$f":"tblItemHidden[[#This Row],[CABINET SIZE]]&\" - \"&tblItemHidden[[#This Row],[DESCRIPTION]]","v":"SD11X14 - MILANO FOSSIL GREY - SAMPLE DOOR"},6.6840280000000002E-2]
["SAMPLE","SBF13.5","MW42-SBF13.5","SAMPLE DOOR","MILANO SAND - SAMPLE BASE FRONT",0,0,25,{"$f":"tblItemHidden[[#This Row],[CABINET SIZE]]&\" - \"&tblItemHidden[[#This Row],[DESCRIPTION]]","v":"SBF13.5 - MILANO SAND - SAMPLE BASE FRONT"},0.12760416999999999]
["SAMPLE","SD11X14","MW42-SD11X14","SAMPLE DOOR","MILANO SAND - SAMPLE DOOR",0,0,18,{"$f":"tblItemHidden[[#This Row],[CABINET SIZE]]&\" - \"&tblItemHidden[[#This Row],[DESCRIPTION]]","v":"SD11X14 - MILANO SAND - SAMPLE DOOR"},6.6840280000000002E-2]
["SAMPLE","SBF13.5","MW43-SBF13.5","SAMPLE DOOR","MILANO SEASIDE - SAMPLE BASE FRONT",0,0,25,{"$f":"tblItemHidden[[#This Row],[CABINET SIZE]]&\" - \"&tblItemHidden[[#This Row],[DESCRIPTION]]","v":"SBF13.5 - MILANO SEASIDE - SAMPLE BASE FRONT"},0.12760416999999999]
["SAMPLE","SD11X14","MW43-SD11X14","SAMPLE DOOR","MILANO SEASIDE - SAMPLE DOOR",0,0,18,{"$f":"tblItemHidden[[#This Row],[CABINET SIZE]]&\" - \"&tblItemHidden[[#This Row],[DESCRIPTION]]","v":"SD11X14 - MILANO SEASIDE - SAMPLE DOOR"},6.6840280000000002E-2]
["SAMPLE","SBF13.5","MW44-SBF13.5","SAMPLE DOOR","MILANO PINE - SAMPLE BASE FRONT",0,0,25,{"$f":"tblItemHidden[[#This Row],[CABINET SIZE]]&\" - \"&tblItemHidden[[#This Row],[DESCRIPTION]]","v":"SBF13.5 - MILANO PINE - SAMPLE BASE FRONT"},0.12760416999999999]
["SAMPLE","SD11X14","MW44-SD11X14","SAMPLE DOOR","MILANO PINE - SAMPLE DOOR",0,0,18,{"$f":"tblItemHidden[[#This Row],[CABINET SIZE]]&\" - \"&tblItemHidden[[#This Row],[DESCRIPTION]]","v":"SD11X14 - MILANO PINE - SAMPLE DOOR"},6.6840280000000002E-2]
["SAMPLE","SBF13.5","MW45-SBF13.5","SAMPLE DOOR","MILANO SNOW - SAMPLE BASE FRONT",0,0,25,{"$f":"tblItemHidden[[#This Row],[CABINET SIZE]]&\" - \"&tblItemHidden[[#This Row],[DESCRIPTION]]","v":"SBF13.5 - MILANO SNOW - SAMPLE BASE FRONT"},0.12760416999999999]
["SAMPLE","SD11X14","MW45-SD11X14","SAMPLE DOOR","MILANO SNOW - SAMPLE DOOR",0,0,18,{"$f":"tblItemHidden[[#This Row],[CABINET SIZE]]&\" - \"&tblItemHidden[[#This Row],[DESCRIPTION]]","v":"SD11X14 - MILANO SNOW - SAMPLE DOOR"},6.6840280000000002E-2]
["SAMPLE","SBF13.5","MW60-SBF13.5","SAMPLE DOOR","MATRIX ALMOND - SAMPLE BASE FRONT",0,0,25,{"$f":"tblItemHidden[[#This Row],[CABINET SIZE]]&\" - \"&tblItemHidden[[#This Row],[DESCRIPTION]]","v":"SBF13.5 - MATRIX ALMOND - SAMPLE BASE FRONT"},0.12760416999999999]
["SAMPLE","SD11X14","MW60-SD11X14","SAMPLE DOOR","MATRIX ALMOND - SAMPLE DOOR",0,0,18,{"$f":"tblItemHidden[[#This Row],[CABINET SIZE]]&\" - \"&tblItemHidden[[#This Row],[DESCRIPTION]]","v":"SD11X14 - MATRIX ALMOND - SAMPLE DOOR"},6.6840280000000002E-2]
["SAMPLE","SBF13.5","MW61-SBF13.5","SAMPLE DOOR","MATRIX CHESTNUT - SAMPLE BASE FRONT",0,0,25,{"$f":"tblItemHidden[[#This Row],[CABINET SIZE]]&\" - \"&tblItemHidden[[#This Row],[DESCRIPTION]]","v":"SBF13.5 - MATRIX CHESTNUT - SAMPLE BASE FRONT"},0.12760416999999999]
["SAMPLE","SD11X14","MW61-SD11X14","SAMPLE DOOR","MATRIX CHESTNUT - SAMPLE DOOR",0,0,18,{"$f":"tblItemHidden[[#This Row],[CABINET SIZE]]&\" - \"&tblItemHidden[[#This Row],[DESCRIPTION]]","v":"SD11X14 - MATRIX CHESTNUT - SAMPLE DOOR"},6.6840280000000002E-2]
["SAMPLE","SBF13.5","NBP-SBF13.5","SAMPLE DOOR","NEWPORT PLUS - SAMPLE BASE FRONT",0,0,30,{"$f":"tblItemHidden[[#This Row],[CABINET SIZE]]&\" - \"&tblItemHidden[[#This Row],[DESCRIPTION]]","v":"SBF13.5 - NEWPORT PLUS - SAMPLE BASE FRONT"},0.12760416999999999]
["SAMPLE","SD11X14","NBP-SD11X14","SAMPLE DOOR","NEWPORT PLUS - SAMPLE DOOR",0,0,22,{"$f":"tblItemHidden[[#This Row],[CABINET SIZE]]&\" - \"&tblItemHidden[[#This Row],[DESCRIPTION]]","v":"SD11X14 - NEWPORT PLUS - SAMPLE DOOR"},6.6840280000000002E-2]
["SAMPLE","SD5X7","NBP-SD5X7","SAMPLE DOOR","NEWPORT PLUS - SAMPLE DOOR 5X7",0,0,12,{"$f":"tblItemHidden[[#This Row],[CABINET SIZE]]&\" - \"&tblItemHidden[[#This Row],[DESCRIPTION]]","v":"SD5X7 - NEWPORT PLUS - SAMPLE DOOR 5X7"},1.671007E-2]
["SAMPLE","SBF13.5","PB10-SBF13.5","SAMPLE DOOR","PARK AVENUE WHITE - SAMPLE BASE FRONT",0,0,25,{"$f":"tblItemHidden[[#This Row],[CABINET SIZE]]&\" - \"&tblItemHidden[[#This Row],[DESCRIPTION]]","v":"SBF13.5 - PARK AVENUE WHITE - SAMPLE BASE FRONT"},0.12760416999999999]
["SAMPLE","SD11X14","PB10-SD11X14","SAMPLE DOOR","PARK AVENUE WHITE - SAMPLE DOOR",0,0,18,{"$f":"tblItemHidden[[#This Row],[CABINET SIZE]]&\" - \"&tblItemHidden[[#This Row],[DESCRIPTION]]","v":"SD11X14 - PARK AVENUE WHITE - SAMPLE DOOR"},6.6840280000000002E-2]
["SAMPLE","SD5X7","PB10-SD5X7","SAMPLE DOOR","PARK AVENUE WHITE - SAMPLE DOOR 5X7",0,0,10,{"$f":"tblItemHidden[[#This Row],[CABINET SIZE]]&\" - \"&tblItemHidden[[#This Row],[DESCRIPTION]]","v":"SD5X7 - PARK AVENUE WHITE - SAMPLE DOOR 5X7"},9.6498840000000002E-2]
["SAMPLE","SBF13.5","PB27-SBF13.5","SAMPLE DOOR","PARK AVENUE OCEAN - SAMPLE BASE FRONT",0,0,25,{"$f":"tblItemHidden[[#This Row],[CABINET SIZE]]&\" - \"&tblItemHidden[[#This Row],[DESCRIPTION]]","v":"SBF13.5 - PARK AVENUE OCEAN - SAMPLE BASE FRONT"},0.12760416999999999]
["SAMPLE","SD11X14","PB27-SD11X14","SAMPLE DOOR","PARK AVENUE OCEAN - SAMPLE DOOR",0,0,18,{"$f":"tblItemHidden[[#This Row],[CABINET SIZE]]&\" - \"&tblItemHidden[[#This Row],[DESCRIPTION]]","v":"SD11X14 - PARK AVENUE OCEAN - SAMPLE DOOR"},6.6840280000000002E-2]
["SAMPLE","SD5X7","PB27-SD5X7","SAMPLE DOOR","PARK AVENUE OCEAN - SAMPLE DOOR 5X7",0,0,10,{"$f":"tblItemHidden[[#This Row],[CABINET SIZE]]&\" - \"&tblItemHidden[[#This Row],[DESCRIPTION]]","v":"SD5X7 - PARK AVENUE OCEAN - SAMPLE DOOR 5X7"},1.671007E-2]
["SAMPLE","SD5X7","PBU27-SD5X7","SAMPLE DOOR","RTA - PARK AVENUE OCEAN - SAMPLE DOOR 5X7",0,0,8,{"$f":"tblItemHidden[[#This Row],[CABINET SIZE]]&\" - \"&tblItemHidden[[#This Row],[DESCRIPTION]]","v":"SD5X7 - RTA - PARK AVENUE OCEAN - SAMPLE DOOR 5X7"},9.6498840000000002E-2]
["SAMPLE","SBF13.5","RB10-SBF13.5","SAMPLE DOOR","RICHMOND WHITE - SAMPLE BASE FRONT",0,0,25,{"$f":"tblItemHidden[[#This Row],[CABINET SIZE]]&\" - \"&tblItemHidden[[#This Row],[DESCRIPTION]]","v":"SBF13.5 - RICHMOND WHITE - SAMPLE BASE FRONT"},1.5]
["SAMPLE","SD11X14","RB10-SD11X14","SAMPLE DOOR","RICHMOND WHITE - SAMPLE DOOR",0,0,18,{"$f":"tblItemHidden[[#This Row],[CABINET SIZE]]&\" - \"&tblItemHidden[[#This Row],[DESCRIPTION]]","v":"SD11X14 - RICHMOND WHITE - SAMPLE DOOR"},0.215]
["SAMPLE","SD5X7","RB10-SD5X7","SAMPLE DOOR","RICHMOND WHITE - SAMPLE DOOR 5X7",0,0,10,{"$f":"tblItemHidden[[#This Row],[CABINET SIZE]]&\" - \"&tblItemHidden[[#This Row],[DESCRIPTION]]","v":"SD5X7 - RICHMOND WHITE - SAMPLE DOOR 5X7"},9.6498840000000002E-2]
["SAMPLE","SBF13.5","RB23-SBF13.5","SAMPLE DOOR","RICHMOND STONE - SAMPLE BASE FRONT",0,0,25,{"$f":"tblItemHidden[[#This Row],[CABINET SIZE]]&\" - \"&tblItemHidden[[#This Row],[DESCRIPTION]]","v":"SBF13.5 - RICHMOND STONE - SAMPLE BASE FRONT"},1.5]
["SAMPLE","SD11X14","RB23-SD11X14","SAMPLE DOOR","RICHMOND STONE - SAMPLE DOOR",0,0,18,{"$f":"tblItemHidden[[#This Row],[CABINET SIZE]]&\" - \"&tblItemHidden[[#This Row],[DESCRIPTION]]","v":"SD11X14 - RICHMOND STONE - SAMPLE DOOR"},6.6840280000000002E-2]
["SAMPLE","SD5X7","RB23-SD5X7","SAMPLE DOOR","RICHMOND STONE - SAMPLE DOOR 5X7",0,0,10,{"$f":"tblItemHidden[[#This Row],[CABINET SIZE]]&\" - \"&tblItemHidden[[#This Row],[DESCRIPTION]]","v":"SD5X7 - RICHMOND STONE - SAMPLE DOOR 5X7"},9.6498840000000002E-2]
["SAMPLE","SBF13.5","RBP-SBF13.5","SAMPLE DOOR","RICHMOND PLUS - SAMPLE BASE FRONT",0,0,30,{"$f":"tblItemHidden[[#This Row],[CABINET SIZE]]&\" - \"&tblItemHidden[[#This Row],[DESCRIPTION]]","v":"SBF13.5 - RICHMOND PLUS - SAMPLE BASE FRONT"},0.12760416999999999]
["SAMPLE","SD11X14","RBP-SD11X14","SAMPLE DOOR","RICHMOND PLUS - SAMPLE DOOR",0,0,22,{"$f":"tblItemHidden[[#This Row],[CABINET SIZE]]&\" - \"&tblItemHidden[[#This Row],[DESCRIPTION]]","v":"SD11X14 - RICHMOND PLUS - SAMPLE DOOR"},6.6840280000000002E-2]
["SAMPLE","SD5X7","RBP-SD5X7","SAMPLE DOOR","RICHMOND PLUS - SAMPLE DOOR 5X7",0,0,12,{"$f":"tblItemHidden[[#This Row],[CABINET SIZE]]&\" - \"&tblItemHidden[[#This Row],[DESCRIPTION]]","v":"SD5X7 - RICHMOND PLUS - SAMPLE DOOR 5X7"},1.671007E-2]
["SAMPLE","SBF13.5","SBP-SBF13.5","SAMPLE DOOR","SYDNEY PLUS - SAMPLE BASE FRONT",0,0,30,{"$f":"tblItemHidden[[#This Row],[CABINET SIZE]]&\" - \"&tblItemHidden[[#This Row],[DESCRIPTION]]","v":"SBF13.5 - SYDNEY PLUS - SAMPLE BASE FRONT"},0.12760416999999999]
["SAMPLE","SD11X14","SBP-SD11X14","SAMPLE DOOR","SYDNEY PLUS - SAMPLE DOOR",0,0,22,{"$f":"tblItemHidden[[#This Row],[CABINET SIZE]]&\" - \"&tblItemHidden[[#This Row],[DESCRIPTION]]","v":"SD11X14 - SYDNEY PLUS - SAMPLE DOOR"},6.6840280000000002E-2]
["SAMPLE","SD5X7","SBP-SD5X7","SAMPLE DOOR","SYDNEY PLUS - SAMPLE DOOR 5X7",0,0,12,{"$f":"tblItemHidden[[#This Row],[CABINET SIZE]]&\" - \"&tblItemHidden[[#This Row],[DESCRIPTION]]","v":"SD5X7 - SYDNEY PLUS - SAMPLE DOOR 5X7"},1.671007E-2]
["SAMPLE","SD6X6","SL30-SD6X6","SAMPLE DOOR","SAMPLE BLOCK BIANCA (WHITE GLOSS)",0,0,32,{"$f":"tblItemHidden[[#This Row],[CABINET SIZE]]&\" - \"&tblItemHidden[[#This Row],[DESCRIPTION]]","v":"SD6X6 - SAMPLE BLOCK BIANCA (WHITE GLOSS)"},6.6840280000000002E-2]
["SAMPLE","SD6X6","SL31-SD6X6","SAMPLE DOOR","SAMPLE BLOCK GRIGIO (GREY GLOSS)",0,0,32,{"$f":"tblItemHidden[[#This Row],[CABINET SIZE]]&\" - \"&tblItemHidden[[#This Row],[DESCRIPTION]]","v":"SD6X6 - SAMPLE BLOCK GRIGIO (GREY GLOSS)"},6.6840280000000002E-2]
["SAMPLE","SD6X6","SL32-SD6X6","SAMPLE DOOR","SAMPLE BLOCK CEMENTO (CONCRETE TEXTURE)",0,0,32,{"$f":"tblItemHidden[[#This Row],[CABINET SIZE]]&\" - \"&tblItemHidden[[#This Row],[DESCRIPTION]]","v":"SD6X6 - SAMPLE BLOCK CEMENTO (CONCRETE TEXTURE)"},6.6840280000000002E-2]
["SAMPLE","SD6X6","SL33-SD6X6","SAMPLE DOOR","SAMPLE BLOCK NOCE (WALNUT)",0,0,32,{"$f":"tblItemHidden[[#This Row],[CABINET SIZE]]&\" - \"&tblItemHidden[[#This Row],[DESCRIPTION]]","v":"SD6X6 - SAMPLE BLOCK NOCE (WALNUT)"},6.6840280000000002E-2]
["SAMPLE","SBF13.5","VB10-SBF13.5","SAMPLE DOOR","CONCORD VERSAILLES WHITE - SAMPLE BASE FRONT",0,0,25,{"$f":"tblItemHidden[[#This Row],[CABINET SIZE]]&\" - \"&tblItemHidden[[#This Row],[DESCRIPTION]]","v":"SBF13.5 - CONCORD VERSAILLES WHITE - SAMPLE BASE FRONT"},0.12760416999999999]
["SAMPLE","SD11X14","VB10-SD11X14","SAMPLE DOOR","CONCORD VERSAILLES WHITE - SAMPLE DOOR",0,0,18,{"$f":"tblItemHidden[[#This Row],[CABINET SIZE]]&\" - \"&tblItemHidden[[#This Row],[DESCRIPTION]]","v":"SD11X14 - CONCORD VERSAILLES WHITE - SAMPLE DOOR"},6.6840280000000002E-2]
["SAMPLE","SD5X7","VB10-SD5X7","SAMPLE DOOR","CONCORD VERSAILLES WHITE - SAMPLE DOOR 5X7",0,0,10,{"$f":"tblItemHidden[[#This Row],[CABINET SIZE]]&\" - \"&tblItemHidden[[#This Row],[DESCRIPTION]]","v":"SD5X7 - CONCORD VERSAILLES WHITE - SAMPLE DOOR 5X7"},9.6498840000000002E-2]
["SAMPLE","SBF13.5","VBP-SBF13.5","SAMPLE DOOR","CONCORD VERSAILLES PLUS- SAMPLE BASE FRONT",0,0,25,{"$f":"tblItemHidden[[#This Row],[CABINET SIZE]]&\" - \"&tblItemHidden[[#This Row],[DESCRIPTION]]","v":"SBF13.5 - CONCORD VERSAILLES PLUS- SAMPLE BASE FRONT"},0.12760416999999999]
["SAMPLE","SD11X14","VBP-SD11X14","SAMPLE DOOR","CONCORD VERSAILLES PLUS - SAMPLE DOOR",0,0,18,{"$f":"tblItemHidden[[#This Row],[CABINET SIZE]]&\" - \"&tblItemHidden[[#This Row],[DESCRIPTION]]","v":"SD11X14 - CONCORD VERSAILLES PLUS - SAMPLE DOOR"},6.6840280000000002E-2]
["SAMPLE","SD5X7","VBP-SD5X7","SAMPLE DOOR","CONCORD VERSAILLES PLUS - SAMPLE DOOR 5X7",0,0,10,{"$f":"tblItemHidden[[#This Row],[CABINET SIZE]]&\" - \"&tblItemHidden[[#This Row],[DESCRIPTION]]","v":"SD5X7 - CONCORD VERSAILLES PLUS - SAMPLE DOOR 5X7"},1.671007E-2]
["SAMPLE","SBF13.5","VW10-SBF13.5","SAMPLE DOOR","VERSAILLES WHITE - SAMPLE BASE FRONT",0,0,25,{"$f":"tblItemHidden[[#This Row],[CABINET SIZE]]&\" - \"&tblItemHidden[[#This Row],[DESCRIPTION]]","v":"SBF13.5 - VERSAILLES WHITE - SAMPLE BASE FRONT"},0.12760416999999999]
["SAMPLE","SD11X14","VW10-SD11X14","SAMPLE DOOR","VERSAILLES WHITE - SAMPLE DOOR",0,0,18,{"$f":"tblItemHidden[[#This Row],[CABINET SIZE]]&\" - \"&tblItemHidden[[#This Row],[DESCRIPTION]]","v":"SD11X14 - VERSAILLES WHITE - SAMPLE DOOR"},6.6840280000000002E-2]
["SAMPLE","BOARD-1","DISP-BOARD-1","SAMPLE","CNC SAMPLE BOARD 1",null,null,58,{"$f":"tblItemHidden[[#This Row],[CABINET SIZE]]&\" - \"&tblItemHidden[[#This Row],[DESCRIPTION]]","v":"BOARD-1 - CNC SAMPLE BOARD 1"}]
["SAMPLE","BOARD-2-LPS","DISP-BOARD-2-LPS","SAMPLE","LPS SAMPLE BOARD 2",0,0,40,{"$f":"tblItemHidden[[#This Row],[CABINET SIZE]]&\" - \"&tblItemHidden[[#This Row],[DESCRIPTION]]","v":"BOARD-2-LPS - LPS SAMPLE BOARD 2"}]
["SAMPLE","CENTER","DISP-CENTER","SAMPLE","CNC DISPLAY CENTER",null,null,1400,{"$f":"tblItemHidden[[#This Row],[CABINET SIZE]]&\" - \"&tblItemHidden[[#This Row],[DESCRIPTION]]","v":"CENTER - CNC DISPLAY CENTER"}]
["SAMPLE","COLORBLOCKS","DISP-COLORBLOCKS","SAMPLE","CNC COLOR CHIPS",null,null,47,{"$f":"tblItemHidden[[#This Row],[CABINET SIZE]]&\" - \"&tblItemHidden[[#This Row],[DESCRIPTION]]","v":"COLORBLOCKS - CNC COLOR CHIPS"}]
["SAMPLE","DR-RACK","DISP-DR-RACK","SAMPLE","DOOR DISPLAY RACK",null,null,92,{"$f":"tblItemHidden[[#This Row],[CABINET SIZE]]&\" - \"&tblItemHidden[[#This Row],[DESCRIPTION]]","v":"DR-RACK - DOOR DISPLAY RACK"}]
["SAMPLE","GT6X6-SET","DISP-GT6X6-SET","SAMPLE","GRANITE COLOR BLOCK SAMPLE SET",0,0,13,{"$f":"tblItemHidden[[#This Row],[CABINET SIZE]]&\" - \"&tblItemHidden[[#This Row],[DESCRIPTION]]","v":"GT6X6-SET - GRANITE COLOR BLOCK SAMPLE SET"}]
["SAMPLE","L05-BOX","DISP-L05-BOX","SAMPLE DOOR","Promotional mailer box for new Luxor L05 color; includes door sample, brochure and tote bag.",0,0,18,{"$f":"tblItemHidden[[#This Row],[CABINET SIZE]]&\" - \"&tblItemHidden[[#This Row],[DESCRIPTION]]","v":"L05-BOX - Promotional mailer box for new Luxor L05 color; includes door sample, brochure and tote bag."}]
["SAMPLE","MERCH","DISP-MERCH","SAMPLE","DISPLAY MERCH",0,3,330,{"$f":"tblItemHidden[[#This Row],[CABINET SIZE]]&\" - \"&tblItemHidden[[#This Row],[DESCRIPTION]]","v":"MERCH - DISPLAY MERCH"}]
["SAMPLE","MLDG","DISP-MLDG","SAMPLE","CNC MOLDING CHAIN",null,null,47,{"$f":"tblItemHidden[[#This Row],[CABINET SIZE]]&\" - \"&tblItemHidden[[#This Row],[DESCRIPTION]]","v":"MLDG - CNC MOLDING CHAIN"}]
["SAMPLE","P-COLORBLOCKS","DISP-P-COLORBLOCKS","SAMPLE","CNC PLUS COLOR CHIPS",null,null,47,{"$f":"tblItemHidden[[#This Row],[CABINET SIZE]]&\" - \"&tblItemHidden[[#This Row],[DESCRIPTION]]","v":"P-COLORBLOCKS - CNC PLUS COLOR CHIPS"}]
["SAMPLE","PFCHIPS","DISP-PFCHIPS","SAMPLE","CNC POST FORM CHIPS",null,null,0,{"$f":"tblItemHidden[[#This Row],[CABINET SIZE]]&\" - \"&tblItemHidden[[#This Row],[DESCRIPTION]]","v":"PFCHIPS - CNC POST FORM CHIPS"}]
["SAMPLE","STAND","DISP-STAND","SAMPLE","4 Door stand",0,0,222,{"$f":"tblItemHidden[[#This Row],[CABINET SIZE]]&\" - \"&tblItemHidden[[#This Row],[DESCRIPTION]]","v":"STAND - 4 Door stand"}]
["SAMPLE","WKIT2","DISP-WKIT2","SAMPLE","CNC WELCOME KIT 2",null,null,92,{"$f":"tblItemHidden[[#This Row],[CABINET SIZE]]&\" - \"&tblItemHidden[[#This Row],[DESCRIPTION]]","v":"WKIT2 - CNC WELCOME KIT 2"}]
["SAMPLE","WKIT3","DISP-WKIT3","SAMPLE","CNC WELCOME KIT 3",null,null,92,{"$f":"tblItemHidden[[#This Row],[CABINET SIZE]]&\" - \"&tblItemHidden[[#This Row],[DESCRIPTION]]","v":"WKIT3 - CNC WELCOME KIT 3"}]
["SAMPLE","BOARD-2-LPS","DISPP-BOARD-2-LPS","SAMPLE","LPS SAMPLE BOARD 2",0,0,175,{"$f":"tblItemHidden[[#This Row],[CABINET SIZE]]&\" - \"&tblItemHidden[[#This Row],[DESCRIPTION]]","v":"BOARD-2-LPS - LPS SAMPLE BOARD 2"}]
["SAMPLE","DISP","DISP-BINDKIT","SAMPLE","CNC WELCOME KIT (BINDER + 1 PIECE OF EACH LITERATURE ITEM)",0,0,0,{"$f":"tblItemHidden[[#This Row],[CABINET SIZE]]&\" - \"&tblItemHidden[[#This Row],[DESCRIPTION]]","v":"DISP - CNC WELCOME KIT (BINDER + 1 PIECE OF EACH LITERATURE ITEM)"}]